Workbook
Name _Hlk91591435: 'ID U13'!#REF!

Sheet ID U9
E4: INDIVIDUAL DAMAS U9 | K4: RANKING NACIONAL | TEMPORADA 2026
K5: Grand Prix | M5: Challenger | O5: Regional Abierto | Q5: Challenger | S5: Regional Abierto | U5: Regional Abierto | W5: Regional Abierto | Y5: Regional Abierto | AA5: Regional Abierto | AC5: Regional Abierto | AE5: Regional Abierto | AG5: Challenger | AI5: Regional Abierto | AK5: Nacional | AM5: Regional Abierto | AO5: Regional Abierto | AQ5: Regional Abierto | AS5: Grand Prix | AU5: Regional Abierto | AW5: Regional Abierto | AY5: Regional Abierto | BA5: Challenger | BC5: Abierto de la Rep.
K6: ROSARIO | M6: CHAPADMALAL | O6: FETEMBA | Q6: SANT. DEL ESTERO | S6: MENDOZA | U6: SALTA | W6: TIERRA DEL FUEGO | Y6: FETEMBA | AA6: JUJUY | AC6: SANTA FE | AE6: MENDOZA | AG6: SALTA | AI6: NEUQUÉN | AK6: SANTA FE | AM6: MENDOZA | AO6: FETEMBA | AQ6: SANTA CRUZ | AS6: MENDOZA | AU6: FETEMBA | AW6: MENDOZA | AY6: RIO NEGRO | BA6: ROSARIO | BC6: BUENOS AIRES
K7: 7 A 9 FEB 2025 | M7: 2 A 4 MAR 2025 | O7: 29 Y 30 MAR 2025 | Q7: 11 A 13 ABR 2025 | S7: 26 Y 27 ABR 2025 | U7: 26 Y 27 ABR 2025 | W7: 04 MAY 2025 | Y7: 10 Y 11 MAY 2025 | AA7: 24 Y 25 MAY 2025 | AC7: 31 MAY Y 1 JUN 2025 | AE7: 7 Y 8 JUN 2025 | AG7: 14 A 16 JUN 2025 | AI7: 21 Y 22 JUN 2025 | AK7: 9 A 13 JUL 2025 | AM7: 9 Y 10 AGO 2025 | AO7: 15 AGO 2025 | AQ7: 15 A 17 AGO 2025 | AS7: 5 A 7 SEP 2025 | AU7: 27 Y 28 SEP 2025 | AW7: 4 Y 5 OCT 2025 | AY7: 11 Y 12 OCT 2025 | BA7: 17 A 19 OCT 2025 | BC7: 21 A 24 NOV 2025
D8: POS. | E8: ATLETA | F8: DNI | G8: Fecha de Nacimiento | H8: CAT. | I8: ASOC. | J8: TOTAL | K8: Pos. | L8: Ptos. | M8: Pos. | N8: Ptos. | O8: Pos. | P8: Ptos. | Q8: Pos. | R8: Ptos. | S8: Pos. | T8: Ptos. | U8: Pos. | V8: Ptos. | W8: Pos. | X8: Ptos. | Y8: Pos. | Z8: Ptos. | AA8: Pos. | AB8: Ptos. | AC8: Pos. | AD8: Ptos. | AE8: Pos. | AF8: Ptos. | AG8: Pos. | AH8: Ptos. | AI8: Pos. | AJ8: Ptos. | AK8: Pos. | AL8: Ptos. | AM8: Pos. | AN8: Ptos. | AO8: Pos. | AP8: Ptos. | AQ8: Pos. | AR8: Ptos. | AS8: Pos. | AT8: Ptos. | AU8: Pos. | AV8: Ptos. | AW8: Pos. | AX8: Ptos. | AY8: Pos. | AZ8: Ptos. | BA8: Pos. | BB8: Ptos. | BC8: Pos. | BD8: Ptos.
D10: 1 | E10: SANHUEZA, ESPERANZA | H10: 2017 | I10: MZA | J10: =L10+N10+P10+R10+T10+V10+X10+Z10+AB10+AD10+AF10+AH10+AJ10+AL10+AN10+AP10+AR10+AT10+AV10+AX10+AZ10+BB10+BD10 -> 1145 | AE10: 2 | AF10: 90 | AK10: SF | AL10: 315 | AM10: 1 | AN10: 110 | AS10: 2 | AT10: 270 | AW10: 1 | AX10: 110 | BC10: 1B | BD10: 250
D11: 2 | E11: PASTERI, DELFINA | H11: 2017 | I11: SFE | J11: =L11+N11+P11+R11+T11+V11+X11+Z11+AB11+AD11+AF11+AH11+AJ11+AL11+AN11+AP11+AR11+AT11+AV11+AX11+AZ11+BB11+BD11 -> 895 | AK11: 1B | AL11: 250 | AS11: 1 | AT11: 330 | BC11: SF | BD11: 315
D12: 3 | E12: PALAMEDI, ALMA ANTONELLA | H12: 2017 | I12: SFE | J12: =L12+N12+P12+R12+T12+V12+X12+Z12+AB12+AD12+AF12+AH12+AJ12+AL12+AN12+AP12+AR12+AT12+AV12+AX12+AZ12+BB12+BD12 -> 810 | AK12: 2 | AL12: 405 | BC12: 2 | BD12: 405
D13: 4 | E13: PIRUZI, SIENNA | H13: 2018 | I13: MZA | J13: =L13+N13+P13+R13+T13+V13+X13+Z13+AB13+AD13+AF13+AH13+AJ13+AL13+AN13+AP13+AR13+AT13+AV13+AX13+AZ13+BB13+BD13 -> 795 | AE13: 1 | AF13: 110 | AK13: SF | AL13: 315 | AM13: 2 | AN13: 90 | AS13: SF | AT13: 210 | AW13: SF | AX13: 70
D14: 5 | E14: ALTO, MARTINA | H14: 2018 | I14: MZA | J14: =L14+N14+P14+R14+T14+V14+X14+Z14+AB14+AD14+AF14+AH14+AJ14+AL14+AN14+AP14+AR14+AT14+AV14+AX14+AZ14+BB14+BD14 -> 435 | AE14: SF | AF14: 70 | AK14: SF B | AL14: 160 | AS14: 2B | AT14: 135 | AW14: SF | AX14: 70
D15: 6 | E15: ITALIANO, DONATELLA | H15: 2019 | I15: MZA | J15: =L15+N15+P15+R15+T15+V15+X15+Z15+AB15+AD15+AF15+AH15+AJ15+AL15+AN15+AP15+AR15+AT15+AV15+AX15+AZ15+BB15+BD15 -> 275 | AE15: 3Z | AF15: 55 | AS15: 1B | AT15: 165 | AW15: 3Z | AX15: 55
D16: 7 | E16: NOTARNICOLA, PAULINA | H16: 2019 | I16: SFE | J16: =L16+N16+P16+R16+T16+V16+X16+Z16+AB16+AD16+AF16+AH16+AJ16+AL16+AN16+AP16+AR16+AT16+AV16+AX16+AZ16+BB16+BD16 -> 205 | BC16: 2B | BD16: 205
D17: 7 | E17: RICART CIACCI, EMMA | H17: 2017 | I17: CBA | J17: =L17+N17+P17+R17+T17+V17+X17+Z17+AB17+AD17+AF17+AH17+AJ17+AL17+AN17+AP17+AR17+AT17+AV17+AX17+AZ17+BB17+BD17 -> 205 | AK17: 2B | AL17: 205
D18: 9 | E18: NAVARRO, FIORELLA | H18: 2017 | I18: MZA | J18: =L18+N18+P18+R18+T18+V18+X18+Z18+AB18+AD18+AF18+AH18+AJ18+AL18+AN18+AP18+AR18+AT18+AV18+AX18+AZ18+BB18+BD18 -> 160 | AS18: SF B | AT18: 105 | AW18: 3Z | AX18: 55
D19: 10 | E19: TRIVIÑO, BELLA | H19: 2017 | I19: LIB | J19: =L19+N19+P19+R19+T19+V19+X19+Z19+AB19+AD19+AF19+AH19+AJ19+AL19+AN19+AP19+AR19+AT19+AV19+AX19+AZ19+BB19+BD19 -> 160 | BC19: SF B | BD19: 160
D20: 10 | E20: SCHWEISTEIN, ANA | H20: 2018 | I20: SLU | J20: =L20+N20+P20+R20+T20+V20+X20+Z20+AB20+AD20+AF20+AH20+AJ20+AL20+AN20+AP20+AR20+AT20+AV20+AX20+AZ20+BB20+BD20 -> 160 | AK20: SF B | AL20: 160
D21: 12 | E21: PAREDES, ARIADNA | H21: 2019 | I21: SCZ | J21: =L21+N21+P21+R21+T21+V21+X21+Z21+AB21+AD21+AF21+AH21+AJ21+AL21+AN21+AP21+AR21+AT21+AV21+AX21+AZ21+BB21+BD21 -> 90 | AQ21: 2 | AR21: 90
D22: 13 | E22: VANOLI, LENA | H22: 2018 | I22: MZA | J22: =L22+N22+P22+R22+T22+V22+X22+Z22+AB22+AD22+AF22+AH22+AJ22+AL22+AN22+AP22+AR22+AT22+AV22+AX22+AZ22+BB22+BD22 -> 55 | AE22: 3Z | AF22: 55

Sheet ID U11
E4: INDIVIDUAL DAMAS U11 | K4: RANKING NACIONAL | TEMPORADA 2026
K5: Grand Prix | M5: Challenger | O5: Regional Abierto | Q5: Challenger | S5: Regional Abierto | U5: Regional Abierto | W5: Regional Abierto | Y5: Regional Abierto | AA5: Regional Abierto | AC5: Regional Abierto | AE5: Regional Abierto | AG5: Challenger | AI5: Regional Abierto | AK5: Nacional | AM5: Regional Abierto | AO5: Regional Abierto | AQ5: Regional Abierto | AS5: Grand Prix | AU5: Regional Abierto | AW5: Regional Abierto | AY5: Regional Abierto | BA5: Challenger | BC5: Abierto de la Rep.
K6: ROSARIO | M6: CHAPADMALAL | O6: FETEMBA | Q6: SANT. DEL ESTERO | S6: MENDOZA | U6: SALTA | W6: TIERRA DEL FUEGO | Y6: FETEMBA | AA6: JUJUY | AC6: SANTA FE | AE6: MENDOZA | AG6: SALTA | AI6: NEUQUÉN | AK6: SANTA FE | AM6: MENDOZA | AO6: FETEMBA | AQ6: SANTA CRUZ | AS6: MENDOZA | AU6: FETEMBA | AW6: MENDOZA | AY6: RIO NEGRO | BA6: ROSARIO | BC6: BUENOS AIRES
K7: 7 A 9 FEB 2025 | M7: 2 A 4 MAR 2025 | O7: 29 Y 30 MAR 2025 | Q7: 11 A 13 ABR 2025 | S7: 26 Y 27 ABR 2025 | U7: 26 Y 27 ABR 2025 | W7: 04 MAY 2025 | Y7: 10 Y 11 MAY 2025 | AA7: 24 Y 25 MAY 2025 | AC7: 31 MAY Y 1 JUN 2025 | AE7: 7 Y 8 JUN 2025 | AG7: 14 A 16 JUN 2025 | AI7: 21 Y 22 JUN 2025 | AK7: 9 A 13 JUL 2025 | AM7: 9 Y 10 AGO 2025 | AO7: 15 AGO 2025 | AQ7: 15 A 17 AGO 2025 | AS7: 5 A 7 SEP 2025 | AU7: 27 Y 28 SEP 2025 | AW7: 4 Y 5 OCT 2025 | AY7: 11 Y 12 OCT 2025 | BA7: 17 A 19 OCT 2025 | BC7: 21 A 24 NOV 2025
D8: POS. | E8: ATLETA | F8: DNI | G8: Fecha de Nacimiento | H8: CAT. | I8: ASOC. | J8: TOTAL | K8: Pos. | L8: Ptos. | M8: Pos. | N8: Ptos. | O8: Pos. | P8: Ptos. | Q8: Pos. | R8: Ptos. | S8: Pos. | T8: Ptos. | U8: Pos. | V8: Ptos. | W8: Pos. | X8: Ptos. | Y8: Pos. | Z8: Ptos. | AA8: Pos. | AB8: Ptos. | AC8: Pos. | AD8: Ptos. | AE8: Pos. | AF8: Ptos. | AG8: Pos. | AH8: Ptos. | AI8: Pos. | AJ8: Ptos. | AK8: Pos. | AL8: Ptos. | AM8: Pos. | AN8: Ptos. | AO8: Pos. | AP8: Ptos. | AQ8: Pos. | AR8: Ptos. | AS8: Pos. | AT8: Ptos. | AU8: Pos. | AV8: Ptos. | AW8: Pos. | AX8: Ptos. | AY8: Pos. | AZ8: Ptos. | BA8: Pos. | BB8: Ptos. | BC8: Pos. | BD8: Ptos.
D10: 1 | E10: PIRUZI, ALBA ALLEGRA | G10: N | H10: 2015 | I10: MZA | J10: =L10+N10+P10+R10+T10+V10+X10+Z10+AB10+AD10+AF10+AH10+AJ10+AL10+AN10+AP10+AR10+AT10+AV10+AX10+AZ10+BB10+BD10 -> 1245 | S10: 2 | T10: 90 | AE10: 2 | AF10: 90 | AG10: 2 | AH10: 180 | AK10: SF | AL10: 315 | AM10: 1 | AN10: 110 | AS10: SF | AT10: 210 | BC10: 4F | BD10: 250
D11: 2 | E11: BIBBO, AITANA | G11: N | H11: 2015 | I11: SFE | J11: =L11+N11+P11+R11+T11+V11+X11+Z11+AB11+AD11+AF11+AH11+AJ11+AL11+AN11+AP11+AR11+AT11+AV11+AX11+AZ11+BB11+BD11 -> 1205 | K11: 1 | L11: 330 | AK11: 4F | AL11: 250 | BA11: 1 | BB11: 220 | BC11: 2 | BD11: 405
D12: 3 | E12: ROMERO, ANITA EMILIA | G12: N | H12: 2015 | I12: COR | J12: =L12+N12+P12+R12+T12+V12+X12+Z12+AB12+AD12+AF12+AH12+AJ12+AL12+AN12+AP12+AR12+AT12+AV12+AX12+AZ12+BB12+BD12 -> 1165 | K12: 2 | L12: 270 | Q12: 1 | R12: 220 | AC12: 1 | AD12: 110 | AK12: 4F | AL12: 250 | BC12: SF | BD12: 315
D13: 4 | E13: ALVARADO, ORIANA | G13: N | H13: 2015 | I13: SCZ | J13: =L13+N13+P13+R13+T13+V13+X13+Z13+AB13+AD13+AF13+AH13+AJ13+AL13+AN13+AP13+AR13+AT13+AV13+AX13+AZ13+BB13+BD13 -> 965 | W13: 1 | X13: 110 | AK13: 4F | AL13: 250 | AQ13: 1 | AR13: 110 | BC13: 1 | BD13: 495
D14: 5 | E14: HILARION, ZOE | G14: N | H14: 2015 | I14: SCZ | J14: =L14+N14+P14+R14+T14+V14+X14+Z14+AB14+AD14+AF14+AH14+AJ14+AL14+AN14+AP14+AR14+AT14+AV14+AX14+AZ14+BB14+BD14 -> 720 | W14: 2 | X14: 90 | AK14: SF | AL14: 315 | BC14: SF | BD14: 315
D15: 6 | E15: PASTERI, DELFINA | H15: 2017 | I15: SFE | J15: =L15+N15+P15+R15+T15+V15+X15+Z15+AB15+AD15+AF15+AH15+AJ15+AL15+AN15+AP15+AR15+AT15+AV15+AX15+AZ15+BB15+BD15 -> 645 | AK15: SF B | AL15: 90 | AS15: SF | AT15: 210 | BA15: 3 | BB15: 140 | BC15: 8F | BD15: 205
D16: 7 | E16: CASSARA, CAMILA | H16: 2016 | I16: FET | J16: =L16+N16+P16+R16+T16+V16+X16+Z16+AB16+AD16+AF16+AH16+AJ16+AL16+AN16+AP16+AR16+AT16+AV16+AX16+AZ16+BB16+BD16 -> 545 | Y16: 2 | Z16: 90 | AK16: 8F | AL16: 205 | BC16: 4F | BD16: 250
D17: 8 | E17: TUSCO, MACKENSI | G17: N | H17: 2015 | I17: SCZ | J17: =L17+N17+P17+R17+T17+V17+X17+Z17+AB17+AD17+AF17+AH17+AJ17+AL17+AN17+AP17+AR17+AT17+AV17+AX17+AZ17+BB17+BD17 -> 490 | W17: 3Z | X17: 55 | AK17: 1B | AL17: 160 | AQ17: SF | AR17: 70 | BC17: 8F | BD17: 205
D18: 9 | E18: PALAMEDI, ALMA ANTONELLA | H18: 2017 | I18: SFE | J18: =L18+N18+P18+R18+T18+V18+X18+Z18+AB18+AD18+AF18+AH18+AJ18+AL18+AN18+AP18+AR18+AT18+AV18+AX18+AZ18+BB18+BD18 -> 475 | K18: 5 | L18: 135 | AC18: 3 | AD18: 70 | BA18: 4 | BB18: 110 | BC18: 1B | BD18: 160
D19: 10 | E19: SANHUEZA, ESPERANZA | H19: 2017 | I19: MZA | J19: =L19+N19+P19+R19+T19+V19+X19+Z19+AB19+AD19+AF19+AH19+AJ19+AL19+AN19+AP19+AR19+AT19+AV19+AX19+AZ19+BB19+BD19 -> 400 | S19: 4 | T19: 55 | AM19: 2 | AN19: 90 | AS19: 1B | AT19: 165 | BC19: SF B | BD19: 90
D20: 11 | E20: HARO, YASMIN | H20: 2016 | I20: SCZ | J20: =L20+N20+P20+R20+T20+V20+X20+Z20+AB20+AD20+AF20+AH20+AJ20+AL20+AN20+AP20+AR20+AT20+AV20+AX20+AZ20+BB20+BD20 -> 305 | W20: 3Z | X20: 55 | AQ20: 3Z | AR20: 45 | BC20: 8F | BD20: 205
D21: 12 | E21: PIRUZI, SIENNA | H21: 2018 | I21: MZA | J21: =L21+N21+P21+R21+T21+V21+X21+Z21+AB21+AD21+AF21+AH21+AJ21+AL21+AN21+AP21+AR21+AT21+AV21+AX21+AZ21+BB21+BD21 -> 295 | S21: 5 | T21: 45 | AE21: 3 | AF21: 70 | AG21: 4 | AH21: 110 | AM21: 3 | AN21: 70
D22: 13 | E22: ESTIGARRIBIA, PAULA | G22: N | H22: 2015 | I22: SCZ | J22: =L22+N22+P22+R22+T22+V22+X22+Z22+AB22+AD22+AF22+AH22+AJ22+AL22+AN22+AP22+AR22+AT22+AV22+AX22+AZ22+BB22+BD22 -> 275 | W22: SF | X22: 70 | BC22: 8F | BD22: 205
D23: 14 | E23: ULLOA, ALUEN AGOSTINA | G23: N | H23: 2015 | I23: LIB | J23: =L23+N23+P23+R23+T23+V23+X23+Z23+AB23+AD23+AF23+AH23+AJ23+AL23+AN23+AP23+AR23+AT23+AV23+AX23+AZ23+BB23+BD23 -> 250 | BC23: 4F | BD23: 250
D24: 15 | E24: PAVCOVICH BINIMELIS, MILAGRO | G24: N | H24: 2015 | I24: SDE | J24: =L24+N24+P24+R24+T24+V24+X24+Z24+AB24+AD24+AF24+AH24+AJ24+AL24+AN24+AP24+AR24+AT24+AV24+AX24+AZ24+BB24+BD24 -> 140 | Q24: 3 | R24: 140
D25: 16 | E25: VILLEGAS, CANDELARIA | H25: 2016 | I25: MZA | J25: =L25+N25+P25+R25+T25+V25+X25+Z25+AB25+AD25+AF25+AH25+AJ25+AL25+AN25+AP25+AR25+AT25+AV25+AX25+AZ25+BB25+BD25 -> 135 | AS25: 2B | AT25: 135
D26: 17 | E26: FIORE SHIMOJI, ANA SAKURAKO | H26: 2016 | I26: FET | J26: =L26+N26+P26+R26+T26+V26+X26+Z26+AB26+AD26+AF26+AH26+AJ26+AL26+AN26+AP26+AR26+AT26+AV26+AX26+AZ26+BB26+BD26 -> 115 | BC26: 2B | BD26: 115
D27: 17 | E27: SCHWEISTEIN, CATALINA | G27: N | H27: 2015 | I27: SLU | J27: =L27+N27+P27+R27+T27+V27+X27+Z27+AB27+AD27+AF27+AH27+AJ27+AL27+AN27+AP27+AR27+AT27+AV27+AX27+AZ27+BB27+BD27 -> 115 | AK27: 2B | AL27: 115
D28: 19 | E28: MARTINEZ LEGUIZAMON, LISANDRA | H28: 2016 | I28: SDE | J28: =L28+N28+P28+R28+T28+V28+X28+Z28+AB28+AD28+AF28+AH28+AJ28+AL28+AN28+AP28+AR28+AT28+AV28+AX28+AZ28+BB28+BD28 -> 110 | Q28: 4 | R28: 110
D29: 20 | E29: RICART CIACCI, EMMA | H29: 2017 | I29: CBA | J29: =L29+N29+P29+R29+T29+V29+X29+Z29+AB29+AD29+AF29+AH29+AJ29+AL29+AN29+AP29+AR29+AT29+AV29+AX29+AZ29+BB29+BD29 -> 90 | AK29: SF B | AL29: 90
D30: 21 | E30: NIEVA, SOFIA | G30: N | H30: 2015 | I30: SCZ | J30: =L30+N30+P30+R30+T30+V30+X30+Z30+AB30+AD30+AF30+AH30+AJ30+AL30+AN30+AP30+AR30+AT30+AV30+AX30+AZ30+BB30+BD30 -> 55 | AQ30: 4F | AR30: 55
D31: 22 | E31: FARFAN ALANCAY, BRIANA | H31: 2016 | I31: SAL | J31: =L31+N31+P31+R31+T31+V31+X31+Z31+AB31+AD31+AF31+AH31+AJ31+AL31+AN31+AP31+AR31+AT31+AV31+AX31+AZ31+BB31+BD31 -> 55 | U31: 4 | V31: 55
D32: 23 | E32: CARDENAS, SHARON | H32: 2016 | I32: SCZ | J32: =L32+N32+P32+R32+T32+V32+X32+Z32+AB32+AD32+AF32+AH32+AJ32+AL32+AN32+AP32+AR32+AT32+AV32+AX32+AZ32+BB32+BD32 -> 45 | AQ32: 3Z | AR32: 45
D33: 24 | E33: SOLA, BIANCA | H33: 2017 | I33: JUJ | J33: =L33+N33+P33+R33+T33+V33+X33+Z33+AB33+AD33+AF33+AH33+AJ33+AL33+AN33+AP33+AR33+AT33+AV33+AX33+AZ33+BB33+BD33 -> 45 | U33: 5 | V33: 45

Sheet ID U13
E4: INDIVIDUAL DAMAS U13 | K4: RANKING NACIONAL | TEMPORADA 2026
K5: Grand Prix | M5: Challenger | O5: Regional Abierto | Q5: Challenger | S5: Regional Abierto | U5: Regional Abierto | W5: Regional Abierto | Y5: Regional Abierto | AA5: Regional Abierto | AC5: Regional Abierto | AE5: Regional Abierto | AG5: Challenger | AI5: Regional Abierto | AK5: Nacional | AM5: Regional Abierto | AO5: Regional Abierto | AQ5: Regional Abierto | AS5: Grand Prix | AU5: Regional Abierto | AW5: Regional Abierto | AY5: Regional Abierto | BA5: Challenger | BC5: Abierto de la Rep.
K6: ROSARIO | M6: CHAPADMALAL | O6: FETEMBA | Q6: SANT. DEL ESTERO | S6: MENDOZA | U6: SALTA | W6: TIERRA DEL FUEGO | Y6: FETEMBA | AA6: JUJUY | AC6: SANTA FE | AE6: MENDOZA | AG6: SALTA | AI6: NEUQUÉN | AK6: SANTA FE | AM6: MENDOZA | AO6: FETEMBA | AQ6: SANTA CRUZ | AS6: MENDOZA | AU6: FETEMBA | AW6: MENDOZA | AY6: RIO NEGRO | BA6: ROSARIO | BC6: BUENOS AIRES
K7: 7 A 9 FEB 2025 | M7: 2 A 4 MAR 2025 | O7: 29 Y 30 MAR 2025 | Q7: 11 A 13 ABR 2025 | S7: 26 Y 27 ABR 2025 | U7: 26 Y 27 ABR 2025 | W7: 04 MAY 2025 | Y7: 10 Y 11 MAY 2025 | AA7: 24 Y 25 MAY 2025 | AC7: 31 MAY Y 1 JUN 2025 | AE7: 7 Y 8 JUN 2025 | AG7: 14 A 16 JUN 2025 | AI7: 21 Y 22 JUN 2025 | AK7: 9 A 13 JUL 2025 | AM7: 9 Y 10 AGO 2025 | AO7: 15 AGO 2025 | AQ7: 15 A 17 AGO 2025 | AS7: 5 A 7 SEP 2025 | AU7: 27 Y 28 SEP 2025 | AW7: 4 Y 5 OCT 2025 | AY7: 11 Y 12 OCT 2025 | BA7: 17 A 19 OCT 2025 | BC7: 21 A 24 NOV 2025
D8: POS. | E8: ATLETA | F8: DNI | G8: Fecha de Nacimiento | H8: CAT. | I8: ASOC. | J8: TOTAL | K8: Pos. | L8: Ptos. | M8: Pos. | N8: Ptos. | O8: Pos. | P8: Ptos. | Q8: Pos. | R8: Ptos. | S8: Pos. | T8: Ptos. | U8: Pos. | V8: Ptos. | W8: Pos. | X8: Ptos. | Y8: Pos. | Z8: Ptos. | AA8: Pos. | AB8: Ptos. | AC8: Pos. | AD8: Ptos. | AE8: Pos. | AF8: Ptos. | AG8: Pos. | AH8: Ptos. | AI8: Pos. | AJ8: Ptos. | AK8: Pos. | AL8: Ptos. | AM8: Pos. | AN8: Ptos. | AO8: Pos. | AP8: Ptos. | AQ8: Pos. | AR8: Ptos. | AS8: Pos. | AT8: Ptos. | AU8: Pos. | AV8: Ptos. | AW8: Pos. | AX8: Ptos. | AY8: Pos. | AZ8: Ptos. | BA8: Pos. | BB8: Ptos. | BC8: Pos. | BD8: Ptos.
D10: 1 | E10: SATO, MIA HIROMMI | H10: 2014 | I10: FET | J10: =L10+N10+P10+R10+T10+V10+X10+Z10+AB10+AD10+AF10+AH10+AJ10+AL10+AN10+AP10+AR10+AT10+AV10+AX10+AZ10+BB10+BD10 -> 1505.2188 | K10: 4F | L10: 0.165 | M10: 3 | N10: 140 | O10: Prom. | P10: 0.05375 | AC10: SF | AD10: 70 | AK10: 4F | AL10: 250 | AO10: 2 | AP10: 90 | AS10: 1 | AT10: 330 | AU10: 2 | AV10: 90 | BA10: 1 | BB10: 220 | BC10: SF | BD10: 315
D11: 2 | E11: CRUZ MUÑOZ, MARTINA | G11: N | H11: 2013 | I11: FET | J11: =L11+N11+P11+R11+T11+V11+X11+Z11+AB11+AD11+AF11+AH11+AJ11+AL11+AN11+AP11+AR11+AT11+AV11+AX11+AZ11+BB11+BD11 -> 1205.07 | M11: 1 | N11: 220 | O11: 1 | P11: 110 | Y11: SF | Z11: 0.07 | AK11: 4F | AL11: 250 | AO11: 1 | AP11: 110 | AU11: 1 | AV11: 110 | BC11: 2 | BD11: 405
D12: 3 | E12: TOSCANO, DAIANA ANTONELLA | G12: N | H12: 2013 | I12: SAL | J12: =L12+N12+P12+R12+T12+V12+X12+Z12+AB12+AD12+AF12+AH12+AJ12+AL12+AN12+AP12+AR12+AT12+AV12+AX12+AZ12+BB12+BD12 -> 1140 | U12: 1 | V12: 110 | AG12: 1 | AH12: 220 | AK12: SF | AL12: 315 | BC12: 1 | BD12: 495
D13: 4 | E13: SIALLE, CONSTANTINA | G13: N | H13: 2013 | I13: SEN | J13: =L13+N13+P13+R13+T13+V13+X13+Z13+AB13+AD13+AF13+AH13+AJ13+AL13+AN13+AP13+AR13+AT13+AV13+AX13+AZ13+BB13+BD13 -> 1120 | Q13: 2 | R13: 180 | U13: SF | V13: 70 | AA13: 1 | AB13: 110 | AG13: SF | AH13: 140 | AK13: 8F | AL13: 205 | AS13: SF | AT13: 210 | BC13: 8F | BD13: 205
D14: 5 | E14: OLIVAREZ, ISABELLA | H14: 2014 | I14: SFE | J14: =L14+N14+P14+R14+T14+V14+X14+Z14+AB14+AD14+AF14+AH14+AJ14+AL14+AN14+AP14+AR14+AT14+AV14+AX14+AZ14+BB14+BD14 -> 1115 | K14: SF | L14: 210 | Y14: SF | Z14: 70 | AC14: 2 | AD14: 90 | AK14: SF | AL14: 315 | BA14: 2 | BB14: 180 | BC14: 4F | BD14: 250
D15: 6 | E15: VERA ARROYO, MIA LUANNA | H15: 2014 | I15: MZA | J15: =L15+N15+P15+R15+T15+V15+X15+Z15+AB15+AD15+AF15+AH15+AJ15+AL15+AN15+AP15+AR15+AT15+AV15+AX15+AZ15+BB15+BD15 -> 905 | S15: 1 | T15: 110 | AE15: 1 | AF15: 110 | AK15: 8F | AL15: 205 | AS15: 1B | AT15: 165 | AW15: 1 | AX15: 110 | BC15: 8F | BD15: 205
D16: 7 | E16: PIRUZI, ALBA ALLEGRA | H16: 2015 | I16: MZA | J16: =L16+N16+P16+R16+T16+V16+X16+Z16+AB16+AD16+AF16+AH16+AJ16+AL16+AN16+AP16+AR16+AT16+AV16+AX16+AZ16+BB16+BD16 -> 900.09 | S16: 2 | T16: 0.09 | AE16: 2 | AF16: 90 | AG16: 4F | AH16: 110 | AK16: 8F | AL16: 205 | AM16: 1 | AN16: 110 | AS16: 2B | AT16: 135 | AW16: 2 | AX16: 90 | BC16: 16F | BD16: 160
D17: 8 | E17: ROMERO, ANITA EMILIA | H17: 2015 | I17: COR | J17: =L17+N17+P17+R17+T17+V17+X17+Z17+AB17+AD17+AF17+AH17+AJ17+AL17+AN17+AP17+AR17+AT17+AV17+AX17+AZ17+BB17+BD17 -> 770 | K17: 4F | L17: 165 | Q17: 3 | R17: 140 | AC17: 1B | AD17: 55 | AK17: 8F | AL17: 205 | BC17: 8F | BD17: 205
D18: 9 | E18: SERRANO, SOL | H18: 2014 | I18: FET | J18: =L18+N18+P18+R18+T18+V18+X18+Z18+AB18+AD18+AF18+AH18+AJ18+AL18+AN18+AP18+AR18+AT18+AV18+AX18+AZ18+BB18+BD18 -> 755.045 | Y18: 2B | Z18: 0.045 | AC18: SF | AD18: 70 | AK18: 2B | AL18: 90 | AO18: SF | AP18: 70 | AS18: SF | AT18: 210 | AU18: 2B | AV18: 45 | BA18: 1B | BB18: 110 | BC18: 16F | BD18: 160
D19: 10 | E19: GALLARDO BERESIARTE, PILAR | G19: N | H19: 2013 | I19: SAL | J19: =L19+N19+P19+R19+T19+V19+X19+Z19+AB19+AD19+AF19+AH19+AJ19+AL19+AN19+AP19+AR19+AT19+AV19+AX19+AZ19+BB19+BD19 -> 710 | U19: SF | V19: 70 | AA19: 2 | AB19: 90 | AG19: SF | AH19: 140 | AK19: 8F | AL19: 205 | BC19: 8F | BD19: 205
D20: 11 | E20: ALVARADO, ORIANA | H20: 2015 | I20: SCZ | J20: =L20+N20+P20+R20+T20+V20+X20+Z20+AB20+AD20+AF20+AH20+AJ20+AL20+AN20+AP20+AR20+AT20+AV20+AX20+AZ20+BB20+BD20 -> 700 | W20: 2 | X20: 90 | AK20: 4F | AL20: 250 | AQ20: 1 | AR20: 110 | BC20: 4F | BD20: 250
D21: 12 | E21: ECHEGARAY, PIA | G21: N | H21: 2013 | I21: MZA | J21: =L21+N21+P21+R21+T21+V21+X21+Z21+AB21+AD21+AF21+AH21+AJ21+AL21+AN21+AP21+AR21+AT21+AV21+AX21+AZ21+BB21+BD21 -> 530.055 | S21: 4 | T21: 0.055 | AE21: 3Z | AF21: 55 | AK21: SF B | AL21: 70 | AM21: 3 | AN21: 70 | AS21: SF B | AT21: 105 | AW21: 3 | AX21: 70 | BC21: 16F | BD21: 160
D22: 13 | E22: GONZALEZ, CATALINA | G22: N | H22: 2013 | I22: MZA | J22: =L22+N22+P22+R22+T22+V22+X22+Z22+AB22+AD22+AF22+AH22+AJ22+AL22+AN22+AP22+AR22+AT22+AV22+AX22+AZ22+BB22+BD22 -> 445.045 | S22: 3 | T22: 70 | AE22: 3Z | AF22: 55 | AK22: 16F | AL22: 160 | AM22: 4 | AN22: 55 | AS22: SF B | AT22: 105 | AW22: 5 | AX22: 0.045
D23: 14 | E23: HILARION, ZOE | H23: 2015 | I23: SCZ | J23: =L23+N23+P23+R23+T23+V23+X23+Z23+AB23+AD23+AF23+AH23+AJ23+AL23+AN23+AP23+AR23+AT23+AV23+AX23+AZ23+BB23+BD23 -> 420 | W23: 3Z | X23: 55 | AK23: 16F | AL23: 160 | BC23: 8F | BD23: 205
D24: 15 | E24: BIBBO, AITANA | H24: 2015 | I24: SFE | J24: =L24+N24+P24+R24+T24+V24+X24+Z24+AB24+AD24+AF24+AH24+AJ24+AL24+AN24+AP24+AR24+AT24+AV24+AX24+AZ24+BB24+BD24 -> 390 | BA24: SF | BB24: 140 | BC24: 4F | BD24: 250
D25: 16 | E25: TOSCANO, FLORENCIA DANIELA | H25: 2014 | I25: SAL | J25: =L25+N25+P25+R25+T25+V25+X25+Z25+AB25+AD25+AF25+AH25+AJ25+AL25+AN25+AP25+AR25+AT25+AV25+AX25+AZ25+BB25+BD25 -> 370 | U25: 1B | V25: 55 | AG25: 4F | AH25: 110 | AK25: 8F | AL25: 205
D26: 17 | E26: ESTIGARRIBIA, NICOL | H26: 2014 | I26: SCZ | J26: =L26+N26+P26+R26+T26+V26+X26+Z26+AB26+AD26+AF26+AH26+AJ26+AL26+AN26+AP26+AR26+AT26+AV26+AX26+AZ26+BB26+BD26 -> 345 | W26: SF | X26: 70 | AQ26: SF | AR26: 70 | BC26: 8F | BD26: 205
D27: 18 | E27: MANSILLA, OLIVIA | G27: N | H27: 2013 | I27: FET | J27: =L27+N27+P27+R27+T27+V27+X27+Z27+AB27+AD27+AF27+AH27+AJ27+AL27+AN27+AP27+AR27+AT27+AV27+AX27+AZ27+BB27+BD27 -> 260.035 | O27: 4 | P27: 55 | Y27: SF B | Z27: 0.035 | AG27: 1B | AH27: 90 | AO27: 2B | AP27: 45 | AU27: SF | AV27: 70
D28: 19 | E28: GARCIA FOCHI, MARIA PILAR | H28: 2014 | I28: SEN | J28: =L28+N28+P28+R28+T28+V28+X28+Z28+AB28+AD28+AF28+AH28+AJ28+AL28+AN28+AP28+AR28+AT28+AV28+AX28+AZ28+BB28+BD28 -> 205 | Q28: 5 | R28: 90 | U28: 2B | V28: 45 | AG28: 2B | AH28: 70
D29: 20 | E29: LOPEZ, MIA | G29: N | H29: 2013 | I29: FET | J29: =L29+N29+P29+R29+T29+V29+X29+Z29+AB29+AD29+AF29+AH29+AJ29+AL29+AN29+AP29+AR29+AT29+AV29+AX29+AZ29+BB29+BD29 -> 195 | AO29: SF B | AP29: 35 | AU29: SF | AV29: 70 | BC29: 2B | BD29: 90
D30: 21 | E30: TUSCO, MACKENSI | H30: 2015 | I30: SCZ | J30: =L30+N30+P30+R30+T30+V30+X30+Z30+AB30+AD30+AF30+AH30+AJ30+AL30+AN30+AP30+AR30+AT30+AV30+AX30+AZ30+BB30+BD30 -> 180 | W30: 4Z | X30: 55 | AK30: SF B | AL30: 70 | AQ30: 4F | AR30: 55
D31: 22 | E31: BOTHIN, AYLIN JOSEFINA | G31: N | H31: 2013 | I31: LIB | J31: =L31+N31+P31+R31+T31+V31+X31+Z31+AB31+AD31+AF31+AH31+AJ31+AL31+AN31+AP31+AR31+AT31+AV31+AX31+AZ31+BB31+BD31 -> 160 | BC31: 16F | BD31: 160
D32: 23 | E32: ULLOA, ALUEN AGOSTINA | H32: 2015 | I32: LIB | J32: =L32+N32+P32+R32+T32+V32+X32+Z32+AB32+AD32+AF32+AH32+AJ32+AL32+AN32+AP32+AR32+AT32+AV32+AX32+AZ32+BB32+BD32 -> 160 | BC32: 16F | BD32: 160
D33: 24 | E33: MUT, ANA LAURA | G33: N | H33: 2013 | I33: MZA | J33: =L33+N33+P33+R33+T33+V33+X33+Z33+AB33+AD33+AF33+AH33+AJ33+AL33+AN33+AP33+AR33+AT33+AV33+AX33+AZ33+BB33+BD33 -> 125 | AE33: SF | AF33: 70 | AW33: 4 | AX33: 55
D34: 25 | E34: ESTIGARRIBIA, PAULA | H34: 2015 | I34: SCZ | J34: =L34+N34+P34+R34+T34+V34+X34+Z34+AB34+AD34+AF34+AH34+AJ34+AL34+AN34+AP34+AR34+AT34+AV34+AX34+AZ34+BB34+BD34 -> 125 | W34: 3Z | X34: 55 | BC34: SF B | BD34: 70
D35: 26 | E35: CASSARA, CAMILA | H35: 2016 | I35: FET | J35: =L35+N35+P35+R35+T35+V35+X35+Z35+AB35+AD35+AF35+AH35+AJ35+AL35+AN35+AP35+AR35+AT35+AV35+AX35+AZ35+BB35+BD35 -> 125 | AO35: SF | AP35: 70 | AU35: 1B | AV35: 55
D36: 27 | E36: PAVCOVICH BINIMELIS, MILAGRO | H36: 2015 | I36: SDE | J36: =L36+N36+P36+R36+T36+V36+X36+Z36+AB36+AD36+AF36+AH36+AJ36+AL36+AN36+AP36+AR36+AT36+AV36+AX36+AZ36+BB36+BD36 -> 110 | Q36: 4 | R36: 110
D37: 28 | E37: PASTERI, DELFINA | H37: 2017 | I37: SFE | J37: =L37+N37+P37+R37+T37+V37+X37+Z37+AB37+AD37+AF37+AH37+AJ37+AL37+AN37+AP37+AR37+AT37+AV37+AX37+AZ37+BB37+BD37 -> 110 | M37: 4 | N37: 110
D38: 29 | E38: MOSCOSO GIORNO, VALENTINA | G38: N | H38: 2013 | I38: FET | J38: =L38+N38+P38+R38+T38+V38+X38+Z38+AB38+AD38+AF38+AH38+AJ38+AL38+AN38+AP38+AR38+AT38+AV38+AX38+AZ38+BB38+BD38 -> 70 | BC38: SF B | BD38: 70
D39: 30 | E39: LAI, AYELEN | H39: 2014 | I39: FET | J39: =L39+N39+P39+R39+T39+V39+X39+Z39+AB39+AD39+AF39+AH39+AJ39+AL39+AN39+AP39+AR39+AT39+AV39+AX39+AZ39+BB39+BD39 -> 55 | AO39: 1B | AP39: 55
D40: 31 | E40: HARO, YASMIN | H40: 2016 | I40: SCZ | J40: =L40+N40+P40+R40+T40+V40+X40+Z40+AB40+AD40+AF40+AH40+AJ40+AL40+AN40+AP40+AR40+AT40+AV40+AX40+AZ40+BB40+BD40 -> 55 | AQ40: 4F | AR40: 55
D41: 32 | E41: MANSILLA, ALDANA | G41: N | H41: 2013 | I41: SCZ | J41: =L41+N41+P41+R41+T41+V41+X41+Z41+AB41+AD41+AF41+AH41+AJ41+AL41+AN41+AP41+AR41+AT41+AV41+AX41+AZ41+BB41+BD41 -> 45 | AQ41: 3Z | AR41: 45
D42: 33 | E42: SERVIN, ALMA | H42: 2014 | I42: SCZ | J42: =L42+N42+P42+R42+T42+V42+X42+Z42+AB42+AD42+AF42+AH42+AJ42+AL42+AN42+AP42+AR42+AT42+AV42+AX42+AZ42+BB42+BD42 -> 45 | AQ42: 3Z | AR42: 45
D43: 34 | E43: MIRANDA, ALMA | H43: 2014 | I43: SCZ | J43: =L43+N43+P43+R43+T43+V43+X43+Z43+AB43+AD43+AF43+AH43+AJ43+AL43+AN43+AP43+AR43+AT43+AV43+AX43+AZ43+BB43+BD43 -> 45 | AQ43: 3Z | AR43: 45
D44: 35 | E44: SADOMTSEVA, ALENA | G44: N | H44: 2013 | I44: FET | J44: =L44+N44+P44+R44+T44+V44+X44+Z44+AB44+AD44+AF44+AH44+AJ44+AL44+AN44+AP44+AR44+AT44+AV44+AX44+AZ44+BB44+BD44 -> 35 | AU44: SF B | AV44: 35

Sheet ID U15
E4: INDIVIDUAL DAMAS U15 | K4: RANKING NACIONAL | TEMPORADA 2026
K5: Grand Prix | M5: Challenger | O5: Regional Abierto | Q5: Challenger | S5: Regional Abierto | U5: Regional Abierto | W5: Regional Abierto | Y5: Regional Abierto | AA5: Regional Abierto | AC5: Regional Abierto | AE5: Regional Abierto | AG5: Challenger | AI5: Regional Abierto | AK5: Nacional | AM5: Regional Abierto | AO5: Regional Abierto | AQ5: Regional Abierto | AS5: Grand Prix | AU5: Regional Abierto | AW5: Regional Abierto | AY5: Regional Abierto | BA5: Challenger | BC5: Abierto de la Rep.
K6: ROSARIO | M6: CHAPADMALAL | O6: FETEMBA | Q6: SANT. DEL ESTERO | S6: MENDOZA | U6: SALTA | W6: TIERRA DEL FUEGO | Y6: FETEMBA | AA6: JUJUY | AC6: SANTA FE | AE6: MENDOZA | AG6: SALTA | AI6: NEUQUÉN | AK6: SANTA FE | AM6: MENDOZA | AO6: FETEMBA | AQ6: SANTA CRUZ | AS6: MENDOZA | AU6: FETEMBA | AW6: MENDOZA | AY6: RIO NEGRO | BA6: ROSARIO | BC6: BUENOS AIRES
K7: 7 A 9 FEB 2025 | M7: 2 A 4 MAR 2025 | O7: 29 Y 30 MAR 2025 | Q7: 11 A 13 ABR 2025 | S7: 26 Y 27 ABR 2025 | U7: 26 Y 27 ABR 2025 | W7: 04 MAY 2025 | Y7: 10 Y 11 MAY 2025 | AA7: 24 Y 25 MAY 2025 | AC7: 31 MAY Y 1 JUN 2025 | AE7: 7 Y 8 JUN 2025 | AG7: 14 A 16 JUN 2025 | AI7: 21 Y 22 JUN 2025 | AK7: 9 A 13 JUL 2025 | AM7: 9 Y 10 AGO 2025 | AO7: 15 AGO 2025 | AQ7: 15 A 17 AGO 2025 | AS7: 5 A 7 SEP 2025 | AU7: 27 Y 28 SEP 2025 | AW7: 4 Y 5 OCT 2025 | AY7: 11 Y 12 OCT 2025 | BA7: 17 A 19 OCT 2025 | BC7: 21 A 24 NOV 2025
D8: POS. | E8: ATLETA | F8: DNI | G8: Fecha de Nacimiento | H8: CAT. | I8: ASOC. | J8: TOTAL | K8: Pos. | L8: Ptos. | M8: Pos. | N8: Ptos. | O8: Pos. | P8: Ptos. | Q8: Pos. | R8: Ptos. | S8: Pos. | T8: Ptos. | U8: Pos. | V8: Ptos. | W8: Pos. | X8: Ptos. | Y8: Pos. | Z8: Ptos. | AA8: Pos. | AB8: Ptos. | AC8: Pos. | AD8: Ptos. | AE8: Pos. | AF8: Ptos. | AG8: Pos. | AH8: Ptos. | AI8: Pos. | AJ8: Ptos. | AK8: Pos. | AL8: Ptos. | AM8: Pos. | AN8: Ptos. | AO8: Pos. | AP8: Ptos. | AQ8: Pos. | AR8: Ptos. | AS8: Pos. | AT8: Ptos. | AU8: Pos. | AV8: Ptos. | AW8: Pos. | AX8: Ptos. | AY8: Pos. | AZ8: Ptos. | BA8: Pos. | BB8: Ptos. | BC8: Pos. | BD8: Ptos.
D10: 1 | E10: SALUSSO, ALEXIA | G10: N | H10: 2011 | I10: FET | J10: =L10+N10+P10+R10+T10+V10+X10+Z10+AB10+AD10+AF10+AH10+AJ10+AL10+AN10+AP10+AR10+AT10+AV10+AX10+AZ10+BB10+BD10 -> 1595 | K10: 1 | L10: 330 | O10: 1 | P10: 110 | Y10: 4F | Z10: 55 | AK10: 1 | AL10: 495 | AO10: 1 | AP10: 110 | BC10: 1 | BD10: 495
D11: 2 | E11: SALPETER, LUANA | H11: 2012 | I11: FET | J11: =L11+N11+P11+R11+T11+V11+X11+Z11+AB11+AD11+AF11+AH11+AJ11+AL11+AN11+AP11+AR11+AT11+AV11+AX11+AZ11+BB11+BD11 -> 1286.305 | K11: 4F | L11: 165 | M11: 1 | N11: 220 | O11: Prom. | P11: 61.25 | Y11: SF | Z11: 70 | AK11: 4F | AL11: 250 | AO11: 4F | AP11: 0.055 | AU11: 2 | AV11: 90 | BA11: 2 | BB11: 180 | BC11: 4F | BD11: 250
D12: 3 | E12: GUARDIA, MARIA VICTORIA | G12: N | H12: 2011 | I12: SAL | J12: =L12+N12+P12+R12+T12+V12+X12+Z12+AB12+AD12+AF12+AH12+AJ12+AL12+AN12+AP12+AR12+AT12+AV12+AX12+AZ12+BB12+BD12 -> 1235.1537 | K12: Prom. | L12: 0.15375 | Q12: 2 | R12: 180 | U12: 1 | V12: 110 | AG12: SF | AH12: 140 | AO12: SF | AP12: 70 | AS12: 1 | AT12: 330 | BC12: 2 | BD12: 405
D13: 4 | E13: VALERIO, GEMMA | G13: N | H13: 2011 | I13: SAL | J13: =L13+N13+P13+R13+T13+V13+X13+Z13+AB13+AD13+AF13+AH13+AJ13+AL13+AN13+AP13+AR13+AT13+AV13+AX13+AZ13+BB13+BD13 -> 1225 | Q13: SF | R13: 140 | U13: SF | V13: 70 | AA13: 1 | AB13: 110 | AG13: 1 | AH13: 220 | AK13: SF | AL13: 315 | AO13: 4F | AP13: 55 | BC13: SF | BD13: 315
D14: 5 | E14: PEREZ MAZZARELLO, MALENA | G14: N | H14: 2011 | I14: FET | J14: =L14+N14+P14+R14+T14+V14+X14+Z14+AB14+AD14+AF14+AH14+AJ14+AL14+AN14+AP14+AR14+AT14+AV14+AX14+AZ14+BB14+BD14 -> 1195.055 | K14: 4F | L14: 165 | O14: 3 | P14: 70 | Y14: 4F | Z14: 0.055 | AK14: SF | AL14: 315 | AO14: 4F | AP14: 55 | AU14: 4F | AV14: 55 | BA14: 1 | BB14: 220 | BC14: SF | BD14: 315
D15: 6 | E15: MAEHAMA, TRINIDAD | H15: 2012 | I15: FET | J15: =L15+N15+P15+R15+T15+V15+X15+Z15+AB15+AD15+AF15+AH15+AJ15+AL15+AN15+AP15+AR15+AT15+AV15+AX15+AZ15+BB15+BD15 -> 1170.025 | K15: 4F | L15: 165 | O15: Prom. | P15: 0.025 | Y15: SF | Z15: 70 | AG15: SF | AH15: 140 | AK15: 8F | AL15: 205 | AO15: 2 | AP15: 90 | AU15: 1 | AV15: 110 | BA15: SF | BB15: 140 | BC15: 4F | BD15: 250
D16: 7 | E16: GUIA MONZON, IXCHEL | H16: 2012 | I16: SFE | J16: =L16+N16+P16+R16+T16+V16+X16+Z16+AB16+AD16+AF16+AH16+AJ16+AL16+AN16+AP16+AR16+AT16+AV16+AX16+AZ16+BB16+BD16 -> 1141.25 | K16: SF | L16: 210 | M16: Prom. | N16: 120 | O16: Prom. | P16: 46.25 | AC16: 1 | AD16: 110 | AK16: 2 | AL16: 405 | BC16: 4F | BD16: 250
D17: 8 | E17: CASTELLANO, SOPHIA LIZ | G17: N | H17: 2011 | I17: FET | J17: =L17+N17+P17+R17+T17+V17+X17+Z17+AB17+AD17+AF17+AH17+AJ17+AL17+AN17+AP17+AR17+AT17+AV17+AX17+AZ17+BB17+BD17 -> 1000.055 | K17: 2 | L17: 270 | O17: 2 | P17: 90 | Y17: 4F | Z17: 0.055 | AK17: 4F | AL17: 250 | AO17: SF | AP17: 70 | AU17: SF | AV17: 70 | BC17: 4F | BD17: 250
D18: 9 | E18: SATO, MIA HIROMMI | H18: 2014 | I18: FET | J18: =L18+N18+P18+R18+T18+V18+X18+Z18+AB18+AD18+AF18+AH18+AJ18+AL18+AN18+AP18+AR18+AT18+AV18+AX18+AZ18+BB18+BD18 -> 995.1925 | K18: 4F | L18: 0.165 | M18: 4 | N18: 110 | O18: Prom. | P18: 0.0275 | AC18: 4 | AD18: 55 | AK18: 8F | AL18: 205 | AO18: 1B | AP18: 45 | AS18: SF | AT18: 210 | AU18: 4F | AV18: 55 | BA18: 1B | BB18: 110 | BC18: 8F | BD18: 205
D19: 10 | E19: IGLESIAS, VALENTINA | G19: N | H19: 2011 | I19: MZA | J19: =L19+N19+P19+R19+T19+V19+X19+Z19+AB19+AD19+AF19+AH19+AJ19+AL19+AN19+AP19+AR19+AT19+AV19+AX19+AZ19+BB19+BD19 -> 795.035 | S19: 1 | T19: 110 | Y19: 2B | Z19: 0.035 | AE19: 1 | AF19: 110 | AK19: 1B | AL19: 115 | AM19: 2 | AN19: 90 | AS19: SF | AT19: 210 | BC19: 16F | BD19: 160
D20: 11 | E20: SIALLE, CONSTANTINA | H20: 2013 | I20: SEN | J20: =L20+N20+P20+R20+T20+V20+X20+Z20+AB20+AD20+AF20+AH20+AJ20+AL20+AN20+AP20+AR20+AT20+AV20+AX20+AZ20+BB20+BD20 -> 775 | Q20: 1B | R20: 110 | AG20: 1B | AH20: 90 | AK20: 8F | AL20: 205 | AS20: 4F | AT20: 165 | BC20: 8F | BD20: 205
D21: 12 | E21: OLIVAREZ, ISABELLA | H21: 2014 | I21: SFE | J21: =L21+N21+P21+R21+T21+V21+X21+Z21+AB21+AD21+AF21+AH21+AJ21+AL21+AN21+AP21+AR21+AT21+AV21+AX21+AZ21+BB21+BD21 -> 670 | K21: SF | L21: 210 | Y21: 1B | Z21: 45 | AC21: 3 | AD21: 70 | BA21: SF | BB21: 140 | BC21: 8F | BD21: 205
D22: 13 | E22: TAN, VICTORIA | G22: N | H22: 2011 | I22: FET | J22: =L22+N22+P22+R22+T22+V22+X22+Z22+AB22+AD22+AF22+AH22+AJ22+AL22+AN22+AP22+AR22+AT22+AV22+AX22+AZ22+BB22+BD22 -> 625 | K22: 1B | L22: 135 | O22: 5 | P22: 45 | AK22: 8F | AL22: 205 | AO22: 2B | AP22: 35 | BC22: 8F | BD22: 205
D23: 14 | E23: ACHAVAL FORRAY, ANNA ZOE | H23: 2012 | I23: SEN | J23: =L23+N23+P23+R23+T23+V23+X23+Z23+AB23+AD23+AF23+AH23+AJ23+AL23+AN23+AP23+AR23+AT23+AV23+AX23+AZ23+BB23+BD23 -> 575 | Q23: 2B | R23: 90 | U23: 1B | V23: 55 | AK23: 8F | AL23: 205 | AS23: 1B | AT23: 135 | BC23: 2B | BD23: 90
D24: 15 | E24: CRUZ MUÑOZ, MARTINA | H24: 2013 | I24: FET | J24: =L24+N24+P24+R24+T24+V24+X24+Z24+AB24+AD24+AF24+AH24+AJ24+AL24+AN24+AP24+AR24+AT24+AV24+AX24+AZ24+BB24+BD24 -> 570.025 | M24: 3 | N24: 140 | O24: 4 | P24: 55 | Y24: SF B | Z24: 0.025 | AK24: 4F | AL24: 250 | AO24: 4F | AP24: 55 | AU24: SF | AV24: 70
D25: 16 | E25: GIULIANI ZAENZ, LARA | H25: 2012 | I25: SFE | J25: =L25+N25+P25+R25+T25+V25+X25+Z25+AB25+AD25+AF25+AH25+AJ25+AL25+AN25+AP25+AR25+AT25+AV25+AX25+AZ25+BB25+BD25 -> 530 | K25: SF B | L25: 75 | AC25: 5 | AD25: 45 | AK25: 8F | AL25: 205 | BC25: 8F | BD25: 205
D26: 17 | E26: GALLARDO BERESIARTE, PILAR | H26: 2013 | I26: SAL | J26: =L26+N26+P26+R26+T26+V26+X26+Z26+AB26+AD26+AF26+AH26+AJ26+AL26+AN26+AP26+AR26+AT26+AV26+AX26+AZ26+BB26+BD26 -> 500 | AA26: 3 | AB26: 70 | AG26: 4F | AH26: 110 | AK26: 16F | AL26: 160 | BC26: 16F | BD26: 160
D27: 18 | E27: FRAGAPANE, FRANCESCA | G27: N | H27: 2011 | I27: FBA | J27: =L27+N27+P27+R27+T27+V27+X27+Z27+AB27+AD27+AF27+AH27+AJ27+AL27+AN27+AP27+AR27+AT27+AV27+AX27+AZ27+BB27+BD27 -> 475 | AS27: 2 | AT27: 270 | BC27: 8F | BD27: 205
D28: 19 | E28: GONZALEZ, CATALINA | H28: 2013 | I28: MZA | J28: =L28+N28+P28+R28+T28+V28+X28+Z28+AB28+AD28+AF28+AH28+AJ28+AL28+AN28+AP28+AR28+AT28+AV28+AX28+AZ28+BB28+BD28 -> 400.045 | S28: 4 | T28: 55 | AE28: 4 | AF28: 55 | AM28: 5 | AN28: 0.045 | AS28: 4F | AT28: 165 | AW28: 4 | AX28: 55 | BC28: SF B | BD28: 70
D29: 20 | E29: TOSCANO, DAIANA ANTONELLA | H29: 2013 | I29: SAL | J29: =L29+N29+P29+R29+T29+V29+X29+Z29+AB29+AD29+AF29+AH29+AJ29+AL29+AN29+AP29+AR29+AT29+AV29+AX29+AZ29+BB29+BD29 -> 385 | U29: SF | V29: 70 | AG29: 4F | AH29: 110 | AK29: 8F | AL29: 205
D30: 21 | E30: ECHEGARAY, PIA | H30: 2013 | I30: MZA | J30: =L30+N30+P30+R30+T30+V30+X30+Z30+AB30+AD30+AF30+AH30+AJ30+AL30+AN30+AP30+AR30+AT30+AV30+AX30+AZ30+BB30+BD30 -> 320 | S30: 5 | T30: 45 | AK30: SF B | AL30: 70 | AM30: 4 | AN30: 55 | AS30: 2B | AT30: 105 | AW30: 5 | AX30: 45
D31: 22 | E31: PAREDES, FIORELA | H31: 2012 | I31: SCZ | J31: =L31+N31+P31+R31+T31+V31+X31+Z31+AB31+AD31+AF31+AH31+AJ31+AL31+AN31+AP31+AR31+AT31+AV31+AX31+AZ31+BB31+BD31 -> 310 | W31: 1 | X31: 110 | AK31: 2B | AL31: 90 | AQ31: 1 | AR31: 110
D32: 23 | E32: VERA ARROYO, MIA LUANNA | H32: 2014 | I32: MZA | J32: =L32+N32+P32+R32+T32+V32+X32+Z32+AB32+AD32+AF32+AH32+AJ32+AL32+AN32+AP32+AR32+AT32+AV32+AX32+AZ32+BB32+BD32 -> 270 | AW32: 1 | AX32: 110 | BC32: 16F | BD32: 160
D33: 24 | E33: CEJUDO, LARA | H33: 2012 | I33: MZA | J33: =L33+N33+P33+R33+T33+V33+X33+Z33+AB33+AD33+AF33+AH33+AJ33+AL33+AN33+AP33+AR33+AT33+AV33+AX33+AZ33+BB33+BD33 -> 210 | S33: 3 | T33: 70 | AE33: 3 | AF33: 70 | AM33: 3 | AN33: 70
D34: 25 | E34: MENARES, KIARA ANTONELLA | H34: 2012 | I34: SCZ | J34: =L34+N34+P34+R34+T34+V34+X34+Z34+AB34+AD34+AF34+AH34+AJ34+AL34+AN34+AP34+AR34+AT34+AV34+AX34+AZ34+BB34+BD34 -> 205 | BC34: 8F | BD34: 205
D35: 26 | E35: MOSCA PAREDES, SABRINA JAZMIN | G35: N | H35: 2011 | I35: LIB | J35: =L35+N35+P35+R35+T35+V35+X35+Z35+AB35+AD35+AF35+AH35+AJ35+AL35+AN35+AP35+AR35+AT35+AV35+AX35+AZ35+BB35+BD35 -> 160 | BC35: 16F | BD35: 160
D36: 27 | E36: ALANIZ, ZOE | H36: 2012 | I36: SCZ | J36: =L36+N36+P36+R36+T36+V36+X36+Z36+AB36+AD36+AF36+AH36+AJ36+AL36+AN36+AP36+AR36+AT36+AV36+AX36+AZ36+BB36+BD36 -> 160 | W36: 3 | X36: 70 | AQ36: 2 | AR36: 90
D37: 28 | E37: BOTHIN, AYLIN JOSEFINA | H37: 2013 | I37: LIB | J37: =L37+N37+P37+R37+T37+V37+X37+Z37+AB37+AD37+AF37+AH37+AJ37+AL37+AN37+AP37+AR37+AT37+AV37+AX37+AZ37+BB37+BD37 -> 160 | BC37: 16F | BD37: 160
D38: 29 | E38: CARRIZO JOZAMI, MIA AFELICITA | G38: N | H38: 2011 | I38: SEN | J38: =L38+N38+P38+R38+T38+V38+X38+Z38+AB38+AD38+AF38+AH38+AJ38+AL38+AN38+AP38+AR38+AT38+AV38+AX38+AZ38+BB38+BD38 -> 140 | Q38: SF | R38: 140
D39: 30 | E39: MANSILLA, OLIVIA | H39: 2013 | I39: FET | J39: =L39+N39+P39+R39+T39+V39+X39+Z39+AB39+AD39+AF39+AH39+AJ39+AL39+AN39+AP39+AR39+AT39+AV39+AX39+AZ39+BB39+BD39 -> 125 | Y39: SF B | Z39: 25 | AG39: SF B | AH39: 50 | AO39: SF B | AP39: 25 | AU39: SF B | AV39: 25
D40: 31 | E40: CENTURION SCHNEIDER, LUNA V. | G40: N | H40: 2011 | I40: CHA | J40: =L40+N40+P40+R40+T40+V40+X40+Z40+AB40+AD40+AF40+AH40+AJ40+AL40+AN40+AP40+AR40+AT40+AV40+AX40+AZ40+BB40+BD40 -> 115 | BC40: 1B | BD40: 115
D41: 32 | E41: SARAVIA, SOFIA | G41: N | H41: 2011 | I41: SAL | J41: =L41+N41+P41+R41+T41+V41+X41+Z41+AB41+AD41+AF41+AH41+AJ41+AL41+AN41+AP41+AR41+AT41+AV41+AX41+AZ41+BB41+BD41 -> 115 | U41: 2B | V41: 45 | AG41: 2B | AH41: 70
D42: 33 | E42: FAZIO, VALENTINA | G42: N | H42: 2011 | I42: FET | J42: =L42+N42+P42+R42+T42+V42+X42+Z42+AB42+AD42+AF42+AH42+AJ42+AL42+AN42+AP42+AR42+AT42+AV42+AX42+AZ42+BB42+BD42 -> 90 | M42: 5 | N42: 90
D43: 34 | E43: ARENAS, CLARITA | H43: 2012 | I43: JUJ | J43: =L43+N43+P43+R43+T43+V43+X43+Z43+AB43+AD43+AF43+AH43+AJ43+AL43+AN43+AP43+AR43+AT43+AV43+AX43+AZ43+BB43+BD43 -> 90 | AA43: 2 | AB43: 90
D44: 35 | E44: RETAMAL, AGUSTINA | H44: 2012 | I44: CHI | J44: =L44+N44+P44+R44+T44+V44+X44+Z44+AB44+AD44+AF44+AH44+AJ44+AL44+AN44+AP44+AR44+AT44+AV44+AX44+AZ44+BB44+BD44 -> 70 | AQ44: SF | AR44: 70
...

Sheet ID U17
E4: INDIVIDUAL DAMAS U17 | K4: RANKING NACIONAL | TEMPORADA 2026
K5: Grand Prix | M5: Challenger | O5: Regional Abierto | Q5: Challenger | S5: Regional Abierto | U5: Regional Abierto | W5: Regional Abierto | Y5: Regional Abierto | AA5: Regional Abierto | AC5: Regional Abierto | AE5: Regional Abierto | AG5: Challenger | AI5: Regional Abierto | AK5: Nacional | AM5: Regional Abierto | AO5: Regional Abierto | AQ5: Regional Abierto | AS5: Grand Prix | AU5: Regional Abierto | AW5: Regional Abierto | AY5: Regional Abierto | BA5: Challenger | BC5: Abierto de la Rep.
K6: ROSARIO | M6: CHAPADMALAL | O6: FETEMBA | Q6: SANT. DEL ESTERO | S6: MENDOZA | U6: SALTA | W6: TIERRA DEL FUEGO | Y6: FETEMBA | AA6: JUJUY | AC6: SANTA FE | AE6: MENDOZA | AG6: SALTA | AI6: NEUQUÉN | AK6: SANTA FE | AM6: MENDOZA | AO6: FETEMBA | AQ6: SANTA CRUZ | AS6: MENDOZA | AU6: FETEMBA | AW6: MENDOZA | AY6: RIO NEGRO | BA6: ROSARIO | BC6: BUENOS AIRES
K7: 7 A 9 FEB 2025 | M7: 2 A 4 MAR 2025 | O7: 29 Y 30 MAR 2025 | Q7: 11 A 13 ABR 2025 | S7: 26 Y 27 ABR 2025 | U7: 26 Y 27 ABR 2025 | W7: 04 MAY 2025 | Y7: 10 Y 11 MAY 2025 | AA7: 24 Y 25 MAY 2025 | AC7: 31 MAY Y 1 JUN 2025 | AE7: 7 Y 8 JUN 2025 | AG7: 14 A 16 JUN 2025 | AI7: 21 Y 22 JUN 2025 | AK7: 9 A 13 JUL 2025 | AM7: 9 Y 10 AGO 2025 | AO7: 15 AGO 2025 | AQ7: 15 A 17 AGO 2025 | AS7: 5 A 7 SEP 2025 | AU7: 27 Y 28 SEP 2025 | AW7: 4 Y 5 OCT 2025 | AY7: 11 Y 12 OCT 2025 | BA7: 17 A 19 OCT 2025 | BC7: 21 A 24 NOV 2025
D8: POS. | E8: ATLETA | F8: DNI | G8: Fecha de Nacimiento | H8: CAT. | I8: ASOC. | J8: TOTAL | K8: Pos. | L8: Ptos. | M8: Pos. | N8: Ptos. | O8: Pos. | P8: Ptos. | Q8: Pos. | R8: Ptos. | S8: Pos. | T8: Ptos. | U8: Pos. | V8: Ptos. | W8: Pos. | X8: Ptos. | Y8: Pos. | Z8: Ptos. | AA8: Pos. | AB8: Ptos. | AC8: Pos. | AD8: Ptos. | AE8: Pos. | AF8: Ptos. | AG8: Pos. | AH8: Ptos. | AI8: Pos. | AJ8: Ptos. | AK8: Pos. | AL8: Ptos. | AM8: Pos. | AN8: Ptos. | AO8: Pos. | AP8: Ptos. | AQ8: Pos. | AR8: Ptos. | AS8: Pos. | AT8: Ptos. | AU8: Pos. | AV8: Ptos. | AW8: Pos. | AX8: Ptos. | AY8: Pos. | AZ8: Ptos. | BA8: Pos. | BB8: Ptos. | BC8: Pos. | BD8: Ptos.
D10: 1 | E10: PEREZ MAZZARELLO, JULIA | H10: 2009 | I10: FET | J10: =L10+N10+P10+R10+T10+V10+X10+Z10+AB10+AD10+AF10+AH10+AJ10+AL10+AN10+AP10+AR10+AT10+AV10+AX10+AZ10+BB10+BD10 -> 1160 | K10: SF | L10: 210 | O10: 2 | P10: 90 | AK10: 2 | AL10: 405 | BA10: 3 | BB10: 140 | BC10: SF | BD10: 315
D11: 2 | E11: PALAMEDI, UMA | H11: 2010 | I11: SFE | J11: =L11+N11+P11+R11+T11+V11+X11+Z11+AB11+AD11+AF11+AH11+AJ11+AL11+AN11+AP11+AR11+AT11+AV11+AX11+AZ11+BB11+BD11 -> 665 | K11: Prom. | L11: 105 | AO11: 2 | AP11: 90 | BA11: 1 | BB11: 220 | BC11: 4F | BD11: 250
D12: 3 | E12: BENITEZ TOME, MARTINA | H12: 2010 | I12: COR | J12: =L12+N12+P12+R12+T12+V12+X12+Z12+AB12+AD12+AF12+AH12+AJ12+AL12+AN12+AP12+AR12+AT12+AV12+AX12+AZ12+BB12+BD12 -> 575 | K12: 4Z | L12: 165 | AK12: 3Z | AL12: 205 | BC12: 3Z | BD12: 205
D13: 4 | E13: GITELMAN, LORENA | H13: 2009 | I13: FET | J13: =L13+N13+P13+R13+T13+V13+X13+Z13+AB13+AD13+AF13+AH13+AJ13+AL13+AN13+AP13+AR13+AT13+AV13+AX13+AZ13+BB13+BD13 -> 550 | K13: 1 | L13: 330 | O13: 1 | P13: 110 | AO13: 1 | AP13: 110
D14: 5 | E14: VELAZQUEZ, IRUPE | H14: 2009 | I14: SFE | J14: =L14+N14+P14+R14+T14+V14+X14+Z14+AB14+AD14+AF14+AH14+AJ14+AL14+AN14+AP14+AR14+AT14+AV14+AX14+AZ14+BB14+BD14 -> 525 | K14: 3Z | L14: 165 | AK14: 4F | AL14: 250 | BA14: 4 | BB14: 110
D15: 6 | E15: GUIA MONZON, IXCHEL | H15: 2012 | I15: SFE | J15: =L15+N15+P15+R15+T15+V15+X15+Z15+AB15+AD15+AF15+AH15+AJ15+AL15+AN15+AP15+AR15+AT15+AV15+AX15+AZ15+BB15+BD15 -> 495 | BC15: 1 | BD15: 495
D16: 6 | E16: LOPEZ AUAT, MALENA | H16: 2009 | I16: SEN | J16: =L16+N16+P16+R16+T16+V16+X16+Z16+AB16+AD16+AF16+AH16+AJ16+AL16+AN16+AP16+AR16+AT16+AV16+AX16+AZ16+BB16+BD16 -> 495 | AK16: 1 | AL16: 495
D17: 8 | E17: FERRI, DELFINA | H17: 2010 | I17: SFE | J17: =L17+N17+P17+R17+T17+V17+X17+Z17+AB17+AD17+AF17+AH17+AJ17+AL17+AN17+AP17+AR17+AT17+AV17+AX17+AZ17+BB17+BD17 -> 480 | K17: 3Z | L17: 165 | AK17: SF | AL17: 315
D18: 9 | E18: PEREZ MAZZARELLO, MALENA | H18: 2011 | I18: FET | J18: =L18+N18+P18+R18+T18+V18+X18+Z18+AB18+AD18+AF18+AH18+AJ18+AL18+AN18+AP18+AR18+AT18+AV18+AX18+AZ18+BB18+BD18 -> 450 | K18: 2 | L18: 270 | BA18: 2 | BB18: 180
D19: 10 | E19: VELASQUEZ, ARIANA | H19: 2009 | I19: TDF | J19: =L19+N19+P19+R19+T19+V19+X19+Z19+AB19+AD19+AF19+AH19+AJ19+AL19+AN19+AP19+AR19+AT19+AV19+AX19+AZ19+BB19+BD19 -> 430 | W19: 2 | X19: 90 | AQ19: 2 | AR19: 90 | BC19: 4F | BD19: 250
D20: 11 | E20: TAN, VICTORIA | H20: 2011 | I20: FET | J20: =L20+N20+P20+R20+T20+V20+X20+Z20+AB20+AD20+AF20+AH20+AJ20+AL20+AN20+AP20+AR20+AT20+AV20+AX20+AZ20+BB20+BD20 -> 415 | K20: 4Z | L20: 165 | AK20: 4F | AL20: 250
D21: 12 | E21: ROJAS, MAYA | H21: 2010 | I21: URU | J21: =L21+N21+P21+R21+T21+V21+X21+Z21+AB21+AD21+AF21+AH21+AJ21+AL21+AN21+AP21+AR21+AT21+AV21+AX21+AZ21+BB21+BD21 -> 405 | BC21: 2 | BD21: 405
D22: 13 | E22: VALERIO, GEMMA | H22: 2011 | I22: SAL | J22: =L22+N22+P22+R22+T22+V22+X22+Z22+AB22+AD22+AF22+AH22+AJ22+AL22+AN22+AP22+AR22+AT22+AV22+AX22+AZ22+BB22+BD22 -> 315 | AK22: SF | AL22: 315
D23: 14 | E23: ASTORGA MELIN, ABRIL AYMARA | H23: 2010 | I23: SCZ | J23: =L23+N23+P23+R23+T23+V23+X23+Z23+AB23+AD23+AF23+AH23+AJ23+AL23+AN23+AP23+AR23+AT23+AV23+AX23+AZ23+BB23+BD23 -> 315 | W23: 4 | X23: 55 | AK23: 3Z | AL23: 205 | AQ23: 3Z | AR23: 55
D24: 15 | E24: MOSCA PAREDES, SABRINA JAZMIN | H24: 2011 | I24: LIB | J24: =L24+N24+P24+R24+T24+V24+X24+Z24+AB24+AD24+AF24+AH24+AJ24+AL24+AN24+AP24+AR24+AT24+AV24+AX24+AZ24+BB24+BD24 -> 250 | BC24: 4F | BD24: 250
D25: 15 | E25: QUIROGA MONTENEGRO, KYARA | H25: 2010 | I25: FET | J25: =L25+N25+P25+R25+T25+V25+X25+Z25+AB25+AD25+AF25+AH25+AJ25+AL25+AN25+AP25+AR25+AT25+AV25+AX25+AZ25+BB25+BD25 -> 250 | AK25: 4F | AL25: 250
D26: 15 | E26: IGLESIAS, VALENTINA | H26: 2011 | I26: MZA | J26: =L26+N26+P26+R26+T26+V26+X26+Z26+AB26+AD26+AF26+AH26+AJ26+AL26+AN26+AP26+AR26+AT26+AV26+AX26+AZ26+BB26+BD26 -> 250 | AK26: 4F | AL26: 250
D27: 18 | E27: FRAGAPANE, FRANCESCA | H27: 2011 | I27: FBA | J27: =L27+N27+P27+R27+T27+V27+X27+Z27+AB27+AD27+AF27+AH27+AJ27+AL27+AN27+AP27+AR27+AT27+AV27+AX27+AZ27+BB27+BD27 -> 210 | AS27: SF | AT27: 210
D28: 18 | E28: CASTELLANO, SOPHIA LIZ | H28: 2011 | I28: FET | J28: =L28+N28+P28+R28+T28+V28+X28+Z28+AB28+AD28+AF28+AH28+AJ28+AL28+AN28+AP28+AR28+AT28+AV28+AX28+AZ28+BB28+BD28 -> 210 | K28: SF | L28: 210
D29: 20 | E29: GORRI, AMIRA | H29: 2009 | I29: NQN | J29: =L29+N29+P29+R29+T29+V29+X29+Z29+AB29+AD29+AF29+AH29+AJ29+AL29+AN29+AP29+AR29+AT29+AV29+AX29+AZ29+BB29+BD29 -> 205 | BC29: 3Z | BD29: 205
D30: 20 | E30: BOTHIN, GERLADINE | H30: 2010 | I30: SCZ | J30: =L30+N30+P30+R30+T30+V30+X30+Z30+AB30+AD30+AF30+AH30+AJ30+AL30+AN30+AP30+AR30+AT30+AV30+AX30+AZ30+BB30+BD30 -> 205 | BC30: 3Z | BD30: 205
D31: 20 | E31: CENTURION SCHNEIDER, LUNA V. | H31: 2011 | I31: CHA | J31: =L31+N31+P31+R31+T31+V31+X31+Z31+AB31+AD31+AF31+AH31+AJ31+AL31+AN31+AP31+AR31+AT31+AV31+AX31+AZ31+BB31+BD31 -> 205 | BC31: 3Z | BD31: 205
D32: 23 | E32: SOTO, MICAELA AGOSTINA | H32: 2009 | I32: SCZ | J32: =L32+N32+P32+R32+T32+V32+X32+Z32+AB32+AD32+AF32+AH32+AJ32+AL32+AN32+AP32+AR32+AT32+AV32+AX32+AZ32+BB32+BD32 -> 205 | BC32: 4Z | BD32: 205
D33: 24 | E33: IPPOLITI, PAULINA | H33: 2010 | I33: MZA | J33: =L33+N33+P33+R33+T33+V33+X33+Z33+AB33+AD33+AF33+AH33+AJ33+AL33+AN33+AP33+AR33+AT33+AV33+AX33+AZ33+BB33+BD33 -> 165 | AS33: 3Z | AT33: 165
D34: 25 | E34: GONZALEZ, EVELYN | H34: 2009 | I34: TDF | J34: =L34+N34+P34+R34+T34+V34+X34+Z34+AB34+AD34+AF34+AH34+AJ34+AL34+AN34+AP34+AR34+AT34+AV34+AX34+AZ34+BB34+BD34 -> 140 | W34: 3 | X34: 70 | AQ34: SF | AR34: 70
D35: 26 | E35: NIETO, FLORENCIA | H35: 2009 | I35: CHI | J35: =L35+N35+P35+R35+T35+V35+X35+Z35+AB35+AD35+AF35+AH35+AJ35+AL35+AN35+AP35+AR35+AT35+AV35+AX35+AZ35+BB35+BD35 -> 70 | AQ35: SF | AR35: 70
D36: 27 | E36: CENDRA, VALENTINA | H36: 2010 | I36: FET | J36: =L36+N36+P36+R36+T36+V36+X36+Z36+AB36+AD36+AF36+AH36+AJ36+AL36+AN36+AP36+AR36+AT36+AV36+AX36+AZ36+BB36+BD36 -> 70 | AO36: 3 | AP36: 70
D37: 28 | E37: SALPETER, LUANA | H37: 2012 | I37: FET | J37: =L37+N37+P37+R37+T37+V37+X37+Z37+AB37+AD37+AF37+AH37+AJ37+AL37+AN37+AP37+AR37+AT37+AV37+AX37+AZ37+BB37+BD37 -> 13.75 | O37: Prom. | P37: 13.75

Sheet ID U19
E4: INDIVIDUAL DAMAS U19 | K4: RANKING NACIONAL | TEMPORADA 2026
K5: Grand Prix | M5: Challenger | O5: Regional Abierto | Q5: Challenger | S5: Regional Abierto | U5: Regional Abierto | W5: Regional Abierto | Y5: Regional Abierto | AA5: Regional Abierto | AC5: Regional Abierto | AE5: Regional Abierto | AG5: Challenger | AI5: Regional Abierto | AK5: Nacional | AM5: Regional Abierto | AO5: Regional Abierto | AQ5: Regional Abierto | AS5: Grand Prix | AU5: Regional Abierto | AW5: Regional Abierto | AY5: Regional Abierto | BA5: Challenger | BC5: Abierto de la Rep.
K6: ROSARIO | M6: CHAPADMALAL | O6: FETEMBA | Q6: SANT. DEL ESTERO | S6: MENDOZA | U6: SALTA | W6: TIERRA DEL FUEGO | Y6: FETEMBA | AA6: JUJUY | AC6: SANTA FE | AE6: MENDOZA | AG6: SALTA | AI6: NEUQUÉN | AK6: SANTA FE | AM6: MENDOZA | AO6: FETEMBA | AQ6: SANTA CRUZ | AS6: MENDOZA | AU6: FETEMBA | AW6: MENDOZA | AY6: RIO NEGRO | BA6: ROSARIO | BC6: BUENOS AIRES
K7: 7 A 9 FEB 2025 | M7: 2 A 4 MAR 2025 | O7: 29 Y 30 MAR 2025 | Q7: 11 A 13 ABR 2025 | S7: 26 Y 27 ABR 2025 | U7: 26 Y 27 ABR 2025 | W7: 04 MAY 2025 | Y7: 10 Y 11 MAY 2025 | AA7: 24 Y 25 MAY 2025 | AC7: 31 MAY Y 1 JUN 2025 | AE7: 7 Y 8 JUN 2025 | AG7: 14 A 16 JUN 2025 | AI7: 21 Y 22 JUN 2025 | AK7: 9 A 13 JUL 2025 | AM7: 9 Y 10 AGO 2025 | AO7: 15 AGO 2025 | AQ7: 15 A 17 AGO 2025 | AS7: 5 A 7 SEP 2025 | AU7: 27 Y 28 SEP 2025 | AW7: 4 Y 5 OCT 2025 | AY7: 11 Y 12 OCT 2025 | BA7: 17 A 19 OCT 2025 | BC7: 21 A 24 NOV 2025
D8: POS. | E8: ATLETA | F8: DNI | G8: Fecha de Nacimiento | H8: CAT. | I8: ASOC. | J8: TOTAL | K8: Pos. | L8: Ptos. | M8: Pos. | N8: Ptos. | O8: Pos. | P8: Ptos. | Q8: Pos. | R8: Ptos. | S8: Pos. | T8: Ptos. | U8: Pos. | V8: Ptos. | W8: Pos. | X8: Ptos. | Y8: Pos. | Z8: Ptos. | AA8: Pos. | AB8: Ptos. | AC8: Pos. | AD8: Ptos. | AE8: Pos. | AF8: Ptos. | AG8: Pos. | AH8: Ptos. | AI8: Pos. | AJ8: Ptos. | AK8: Pos. | AL8: Ptos. | AM8: Pos. | AN8: Ptos. | AO8: Pos. | AP8: Ptos. | AQ8: Pos. | AR8: Ptos. | AS8: Pos. | AT8: Ptos. | AU8: Pos. | AV8: Ptos. | AW8: Pos. | AX8: Ptos. | AY8: Pos. | AZ8: Ptos. | BA8: Pos. | BB8: Ptos. | BC8: Pos. | BD8: Ptos.
D10: 1 | E10: FRIAS PAZ, LUCIANA GABRIELA | H10: 2010 | I10: SEN | J10: =L10+N10+P10+R10+T10+V10+X10+Z10+AB10+AD10+AF10+AH10+AJ10+AL10+AN10+AP10+AR10+AT10+AV10+AX10+AZ10+BB10+BD10 -> 2000.67 | K10: Prom. | L10: 0.27 | Q10: 1 | R10: 0.22 | U10: 2 | V10: 0.09 | Y10: 1 | Z10: 110 | AE10: 1 | AF10: 110 | AG10: 1 | AH10: 220 | AK10: 2 | AL10: 405 | AO10: 1 | AP10: 110 | AS10: 1 | AT10: 330 | AU10: 2 | AV10: 0.09 | BA10: 1 | BB10: 220 | BC10: 1 | BD10: 495
D11: 2 | E11: SHAHMURADYAN, MARIAM | H11: 2008 | I11: FET | J11: =L11+N11+P11+R11+T11+V11+X11+Z11+AB11+AD11+AF11+AH11+AJ11+AL11+AN11+AP11+AR11+AT11+AV11+AX11+AZ11+BB11+BD11 -> 1215 | M11: 1 | N11: 220 | AC11: 1 | AD11: 110 | AK11: SF | AL11: 315 | AO11: 4F | AP11: 55 | AU11: 1 | AV11: 110 | BC11: 2 | BD11: 405
D12: 3 | E12: GIMENEZ, MALENA | H12: 2010 | I12: JUJ | J12: =L12+N12+P12+R12+T12+V12+X12+Z12+AB12+AD12+AF12+AH12+AJ12+AL12+AN12+AP12+AR12+AT12+AV12+AX12+AZ12+BB12+BD12 -> 1150 | K12: Prom. | L12: 270 | M12: Prom. | N12: 180 | U12: SF | V12: 70 | Y12: 4F | Z12: 55 | AG12: 3Z | AH12: 110 | AK12: 8F | AL12: 205 | AO12: 4F | AP12: 55 | BC12: 8F | BD12: 205
D13: 4 | E13: JANDULA, AMBAR | H13: 2009 | I13: SAL | J13: =L13+N13+P13+R13+T13+V13+X13+Z13+AB13+AD13+AF13+AH13+AJ13+AL13+AN13+AP13+AR13+AT13+AV13+AX13+AZ13+BB13+BD13 -> 1096.25 | K13: Prom. | L13: 161.25 | Q13: 2 | R13: 180 | U13: 1 | V13: 110 | AG13: 2 | AH13: 180 | AK13: 8F | AL13: 205 | AO13: 4F | AP13: 55 | BC13: 8F | BD13: 205
D14: 5 | E14: PEREZ ERASO, GIULIANA | H14: 2008 | I14: MZA | J14: =L14+N14+P14+R14+T14+V14+X14+Z14+AB14+AD14+AF14+AH14+AJ14+AL14+AN14+AP14+AR14+AT14+AV14+AX14+AZ14+BB14+BD14 -> 1017.87 | K14: Prom. | L14: 142.5 | S14: 2 | T14: 0.09 | Y14: 4F | Z14: 0.055 | AE14: 2 | AF14: 0.09 | AG14: 3Z | AH14: 110 | AK14: 8F | AL14: 205 | AM14: 1 | AN14: 110 | AO14: 2 | AP14: 90 | AS14: 3Z | AT14: 0.135 | AW14: 1 | AX14: 110 | BC14: 4F | BD14: 250
D15: 6 | E15: PEREZ MAZZARELLO, JULIA | H15: 2009 | I15: FET | J15: =L15+N15+P15+R15+T15+V15+X15+Z15+AB15+AD15+AF15+AH15+AJ15+AL15+AN15+AP15+AR15+AT15+AV15+AX15+AZ15+BB15+BD15 -> 940 | K15: 3 | L15: 210 | O15: 2B | P15: 45 | Y15: SF B | Z15: 25 | AK15: 3Z | AL15: 160 | AU15: 1B | AV15: 45 | BA15: SF | BB15: 140 | BC15: SF | BD15: 315
D16: 7 | E16: SALUSSO, ALEXIA | H16: 2011 | I16: FET | J16: =L16+N16+P16+R16+T16+V16+X16+Z16+AB16+AD16+AF16+AH16+AJ16+AL16+AN16+AP16+AR16+AT16+AV16+AX16+AZ16+BB16+BD16 -> 890 | K16: 2 | L16: 270 | AK16: 4F | AL16: 250 | AO16: 4F | AP16: 55 | BC16: SF | BD16: 315
D17: 8 | E17: LOPEZ AUAT, MALENA | H17: 2009 | I17: SEN | J17: =L17+N17+P17+R17+T17+V17+X17+Z17+AB17+AD17+AF17+AH17+AJ17+AL17+AN17+AP17+AR17+AT17+AV17+AX17+AZ17+BB17+BD17 -> 875 | Q17: 4 | R17: 110 | U17: SF B | V17: 35 | AG17: 4Z | AH17: 110 | AK17: 8F | AL17: 205 | AS17: SF | AT17: 210 | BC17: 8F | BD17: 205
D18: 9 | E18: GUARDIA, MARIA VICTORIA | H18: 2011 | I18: SAL | J18: =L18+N18+P18+R18+T18+V18+X18+Z18+AB18+AD18+AF18+AH18+AJ18+AL18+AN18+AP18+AR18+AT18+AV18+AX18+AZ18+BB18+BD18 -> 865 | Q18: 3 | R18: 140 | U18: 1B | V18: 55 | AG18: SF | AH18: 140 | AO18: SF | AP18: 70 | AS18: SF | AT18: 210 | BC18: 4F | BD18: 250
D19: 10 | E19: PALAMEDI, UMA | H19: 2010 | I19: SFE | J19: =L19+N19+P19+R19+T19+V19+X19+Z19+AB19+AD19+AF19+AH19+AJ19+AL19+AN19+AP19+AR19+AT19+AV19+AX19+AZ19+BB19+BD19 -> 842.5 | K19: Prom. | L19: 52.5 | M19: 3 | N19: 140 | Y19: 2B | Z19: 35 | AC19: 3 | AD19: 70 | AK19: 8F | AL19: 205 | AO19: 2B | AP19: 25 | BA19: 3Z | BB19: 110 | BC19: 8F | BD19: 205
D20: 11 | E20: AGUILAR IKEDA, JUSTINA MAYUMI | H20: 2008 | I20: FET | J20: =L20+N20+P20+R20+T20+V20+X20+Z20+AB20+AD20+AF20+AH20+AJ20+AL20+AN20+AP20+AR20+AT20+AV20+AX20+AZ20+BB20+BD20 -> 797.535 | O20: 1 | P20: 110 | Y20: SF | Z20: 70 | AK20: 8F | AL20: 205 | AO20: 1B | AP20: 0.035 | AS20: Prom. | AT20: 202.5 | AU20: SF | AV20: 70 | BA20: SF | BB20: 140
D21: 12 | E21: GITELMAN, LORENA | H21: 2009 | I21: FET | J21: =L21+N21+P21+R21+T21+V21+X21+Z21+AB21+AD21+AF21+AH21+AJ21+AL21+AN21+AP21+AR21+AT21+AV21+AX21+AZ21+BB21+BD21 -> 720 | K21: 1 | L21: 330 | O21: SF | P21: 70 | Y21: SF | Z21: 70 | AK21: 8F | AL21: 205 | AO21: 8F | AP21: 45
D22: 13 | E22: TAKAHASHI, BRISA | H22: 2008 | I22: FET | J22: =L22+N22+P22+R22+T22+V22+X22+Z22+AB22+AD22+AF22+AH22+AJ22+AL22+AN22+AP22+AR22+AT22+AV22+AX22+AZ22+BB22+BD22 -> 600.045 | M22: 2 | N22: 180 | O22: 2 | P22: 90 | Y22: 1B | Z22: 0.045 | AK22: 8F | AL22: 205 | AO22: SF | AP22: 70 | AU22: 4F | AV22: 55
D23: 14 | E23: VALERIO, GEMMA | H23: 2011 | I23: SAL | J23: =L23+N23+P23+R23+T23+V23+X23+Z23+AB23+AD23+AF23+AH23+AJ23+AL23+AN23+AP23+AR23+AT23+AV23+AX23+AZ23+BB23+BD23 -> 570 | Q23: 5 | R23: 90 | U23: 2B | V23: 45 | AG23: SF | AH23: 140 | AO23: 8F | AP23: 45 | BC23: 4F | BD23: 250
D24: 15 | E24: CIAMBELLA, GIULIANA | H24: 2008 | I24: MZA | J24: =L24+N24+P24+R24+T24+V24+X24+Z24+AB24+AD24+AF24+AH24+AJ24+AL24+AN24+AP24+AR24+AT24+AV24+AX24+AZ24+BB24+BD24 -> 555 | S24: SF | T24: 70 | AE24: 3 | AF24: 70 | AK24: 3Z | AL24: 160 | AM24: 2 | AN24: 90 | AS24: 4F | AT24: 165
D25: 16 | E25: IGLESIAS, VALENTINA | H25: 2011 | I25: MZA | J25: =L25+N25+P25+R25+T25+V25+X25+Z25+AB25+AD25+AF25+AH25+AJ25+AL25+AN25+AP25+AR25+AT25+AV25+AX25+AZ25+BB25+BD25 -> 525.08 | S25: SF | T25: 70 | Y25: SF B | Z25: 0.025 | AE25: 4 | AF25: 0.055 | AM25: 3 | AN25: 70 | AS25: 4Z | AT25: 135 | AW25: 2 | AX25: 90 | BC25: 16F | BD25: 160
D26: 17 | E26: VELAZQUEZ, IRUPE | H26: 2009 | I26: SFE | J26: =L26+N26+P26+R26+T26+V26+X26+Z26+AB26+AD26+AF26+AH26+AJ26+AL26+AN26+AP26+AR26+AT26+AV26+AX26+AZ26+BB26+BD26 -> 490 | K26: 4 | L26: 165 | AC26: 4 | AD26: 55 | AK26: 3Z | AL26: 160 | BA26: 4Z | BB26: 110
D27: 18 | E27: CASTELLANO, SOPHIA LIZ | H27: 2011 | I27: FET | J27: =L27+N27+P27+R27+T27+V27+X27+Z27+AB27+AD27+AF27+AH27+AJ27+AL27+AN27+AP27+AR27+AT27+AV27+AX27+AZ27+BB27+BD27 -> 485.02 | O27: 1B | P27: 55 | Y27: 4F | Z27: 55 | AK27: 3Z | AL27: 160 | AO27: SF B | AP27: 0.02 | AU27: 4F | AV27: 55 | BC27: 16F | BD27: 160
D28: 19 | E28: ALAMO, VALENTINA | G28: N | H28: 2007 | I28: LIB | J28: =L28+N28+P28+R28+T28+V28+X28+Z28+AB28+AD28+AF28+AH28+AJ28+AL28+AN28+AP28+AR28+AT28+AV28+AX28+AZ28+BB28+BD28 -> 480 | W28: 1 | X28: 110 | AS28: 4F | AT28: 165 | BC28: 8F | BD28: 205
D29: 20 | E29: MAEHAMA, TRINIDAD | H29: 2012 | I29: FET | J29: =L29+N29+P29+R29+T29+V29+X29+Z29+AB29+AD29+AF29+AH29+AJ29+AL29+AN29+AP29+AR29+AT29+AV29+AX29+AZ29+BB29+BD29 -> 455 | AU29: SF | AV29: 70 | BA29: 2 | BB29: 180 | BC29: 8F | BD29: 205
D30: 21 | E30: PEREZ MAZZARELLO, MALENA | H30: 2011 | I30: FET | J30: =L30+N30+P30+R30+T30+V30+X30+Z30+AB30+AD30+AF30+AH30+AJ30+AL30+AN30+AP30+AR30+AT30+AV30+AX30+AZ30+BB30+BD30 -> 430.045 | O30: SF | P30: 70 | Y30: 4F | Z30: 55 | AK30: 4F | AL30: 250 | AO30: 8F | AP30: 0.045 | AU30: 4F | AV30: 55
D31: 22 | E31: PAREDES, LUANA | H31: 2008 | I31: LIB | J31: =L31+N31+P31+R31+T31+V31+X31+Z31+AB31+AD31+AF31+AH31+AJ31+AL31+AN31+AP31+AR31+AT31+AV31+AX31+AZ31+BB31+BD31 -> 430 | W31: 2 | X31: 90 | AQ31: 2 | AR31: 90 | AS31: 3Z | AT31: 135 | BC31: 3Z | BD31: 115
D32: 23 | E32: SALPETER, LUANA | H32: 2012 | I32: FET | J32: =L32+N32+P32+R32+T32+V32+X32+Z32+AB32+AD32+AF32+AH32+AJ32+AL32+AN32+AP32+AR32+AT32+AV32+AX32+AZ32+BB32+BD32 -> 390 | AO32: SF B | AP32: 20 | AU32: 4F | AV32: 55 | BA32: 4Z | BB32: 110 | BC32: 8F | BD32: 205
D33: 24 | E33: IPPOLITI, PAULINA | H33: 2010 | I33: MZA | J33: =L33+N33+P33+R33+T33+V33+X33+Z33+AB33+AD33+AF33+AH33+AJ33+AL33+AN33+AP33+AR33+AT33+AV33+AX33+AZ33+BB33+BD33 -> 385 | AE33: 5 | AF33: 45 | AM33: 5 | AN33: 45 | AW33: 3 | AX33: 70 | BA33: 3Z | BB33: 110 | BC33: 3Z | BD33: 115
D34: 25 | E34: SARTOR, AGOSTINA | H34: 2008 | I34: FET | J34: =L34+N34+P34+R34+T34+V34+X34+Z34+AB34+AD34+AF34+AH34+AJ34+AL34+AN34+AP34+AR34+AT34+AV34+AX34+AZ34+BB34+BD34 -> 310 | AK34: 3Z | AL34: 160 | AU34: 2B | AV34: 35 | BC34: 3Z | BD34: 115
D35: 26 | E35: PEREZ MAZZARELLO, MALENA | H35: 2011 | I35: FET | J35: =L35+N35+P35+R35+T35+V35+X35+Z35+AB35+AD35+AF35+AH35+AJ35+AL35+AN35+AP35+AR35+AT35+AV35+AX35+AZ35+BB35+BD35 -> 295 | AO35: 8F | AP35: 45 | BC35: 4F | BD35: 250
D36: 27 | E36: VELASQUEZ, ARIANA | H36: 2009 | I36: TDF | J36: =L36+N36+P36+R36+T36+V36+X36+Z36+AB36+AD36+AF36+AH36+AJ36+AL36+AN36+AP36+AR36+AT36+AV36+AX36+AZ36+BB36+BD36 -> 140 | W36: SF | X36: 70 | AQ36: SF | AR36: 70
D37: 28 | E37: CARDENAS AGUILAR, DIANA IGNACIA | H37: 2008 | I37: LIB | J37: =L37+N37+P37+R37+T37+V37+X37+Z37+AB37+AD37+AF37+AH37+AJ37+AL37+AN37+AP37+AR37+AT37+AV37+AX37+AZ37+BB37+BD37 -> 115 | BC37: 3Z | BD37: 115
D38: 29 | E38: SOTO, MICAELA AGOSTINA | H38: 2009 | I38: LIB | J38: =L38+N38+P38+R38+T38+V38+X38+Z38+AB38+AD38+AF38+AH38+AJ38+AL38+AN38+AP38+AR38+AT38+AV38+AX38+AZ38+BB38+BD38 -> 115 | BC38: 3Z | BD38: 115
D39: 30 | E39: BENITEZ TOME, MARTINA | H39: 2010 | I39: COR | J39: =L39+N39+P39+R39+T39+V39+X39+Z39+AB39+AD39+AF39+AH39+AJ39+AL39+AN39+AP39+AR39+AT39+AV39+AX39+AZ39+BB39+BD39 -> 115 | BC39: 3Z | BD39: 115
D40: 31 | E40: FRAGAPANE, FRANCESCA | H40: 2011 | I40: FBA | J40: =L40+N40+P40+R40+T40+V40+X40+Z40+AB40+AD40+AF40+AH40+AJ40+AL40+AN40+AP40+AR40+AT40+AV40+AX40+AZ40+BB40+BD40 -> 115 | BC40: 3Z | BD40: 115
D41: 32 | E41: GOMEZ, MARIA LUJAN | H41: 2009 | I41: FBA | J41: =L41+N41+P41+R41+T41+V41+X41+Z41+AB41+AD41+AF41+AH41+AJ41+AL41+AN41+AP41+AR41+AT41+AV41+AX41+AZ41+BB41+BD41 -> 110 | M41: 4 | N41: 110
D42: 33 | E42: GONZALEZ, EVELYN | H42: 2009 | I42: TDF | J42: =L42+N42+P42+R42+T42+V42+X42+Z42+AB42+AD42+AF42+AH42+AJ42+AL42+AN42+AP42+AR42+AT42+AV42+AX42+AZ42+BB42+BD42 -> 110 | W42: 3Z | X42: 55 | AQ42: 3Z | AR42: 55
D43: 34 | E43: CACERES, ISABELLA | H43: 2012 | I43: RNG | J43: =L43+N43+P43+R43+T43+V43+X43+Z43+AB43+AD43+AF43+AH43+AJ43+AL43+AN43+AP43+AR43+AT43+AV43+AX43+AZ43+BB43+BD43 -> 110 | AY43: 1 | AZ43: 110
D44: 35 | E44: LORENZO, ORIANA | H44: 2008 | I44: LPA | J44: =L44+N44+P44+R44+T44+V44+X44+Z44+AB44+AD44+AF44+AH44+AJ44+AL44+AN44+AP44+AR44+AT44+AV44+AX44+AZ44+BB44+BD44 -> 90 | AY44: 2 | AZ44: 90
...

Sheet ID U23
E4: INDIVIDUAL DAMAS U23 | K4: RANKING NACIONAL | TEMPORADA 2026
K5: Grand Prix | M5: Challenger | O5: Regional Abierto | Q5: Challenger | S5: Regional Abierto | U5: Regional Abierto | W5: Regional Abierto | Y5: Regional Abierto | AA5: Regional Abierto | AC5: Regional Abierto | AE5: Regional Abierto | AG5: Challenger | AI5: Regional Abierto | AK5: Nacional | AM5: Regional Abierto | AO5: Regional Abierto | AQ5: Regional Abierto | AS5: Grand Prix | AU5: Regional Abierto | AW5: Regional Abierto | AY5: Regional Abierto | BA5: Challenger | BC5: Abierto de la Rep.
K6: ROSARIO | M6: CHAPADMALAL | O6: FETEMBA | Q6: SANT. DEL ESTERO | S6: MENDOZA | U6: SALTA | W6: TIERRA DEL FUEGO | Y6: FETEMBA | AA6: JUJUY | AC6: SANTA FE | AE6: MENDOZA | AG6: SALTA | AI6: NEUQUÉN | AK6: SANTA FE | AM6: MENDOZA | AO6: FETEMBA | AQ6: SANTA CRUZ | AS6: MENDOZA | AU6: FETEMBA | AW6: MENDOZA | AY6: RIO NEGRO | BA6: ROSARIO | BC6: BUENOS AIRES
K7: 7 A 9 FEB 2025 | M7: 2 A 4 MAR 2025 | O7: 29 Y 30 MAR 2025 | Q7: 11 A 13 ABR 2025 | S7: 26 Y 27 ABR 2025 | U7: 26 Y 27 ABR 2025 | W7: 04 MAY 2025 | Y7: 10 Y 11 MAY 2025 | AA7: 24 Y 25 MAY 2025 | AC7: 31 MAY Y 1 JUN 2025 | AE7: 7 Y 8 JUN 2025 | AG7: 14 A 16 JUN 2025 | AI7: 21 Y 22 JUN 2025 | AK7: 9 A 13 JUL 2025 | AM7: 9 Y 10 AGO 2025 | AO7: 15 AGO 2025 | AQ7: 15 A 17 AGO 2025 | AS7: 5 A 7 SEP 2025 | AU7: 27 Y 28 SEP 2025 | AW7: 4 Y 5 OCT 2025 | AY7: 11 Y 12 OCT 2025 | BA7: 17 A 19 OCT 2025 | BC7: 21 A 24 NOV 2025
D8: POS. | E8: ATLETA | F8: DNI | G8: Fecha de Nacimiento | H8: CAT. | I8: ASOC. | J8: TOTAL | K8: Pos. | L8: Ptos. | M8: Pos. | N8: Ptos. | O8: Pos. | P8: Ptos. | Q8: Pos. | R8: Ptos. | S8: Pos. | T8: Ptos. | U8: Pos. | V8: Ptos. | W8: Pos. | X8: Ptos. | Y8: Pos. | Z8: Ptos. | AA8: Pos. | AB8: Ptos. | AC8: Pos. | AD8: Ptos. | AE8: Pos. | AF8: Ptos. | AG8: Pos. | AH8: Ptos. | AI8: Pos. | AJ8: Ptos. | AK8: Pos. | AL8: Ptos. | AM8: Pos. | AN8: Ptos. | AO8: Pos. | AP8: Ptos. | AQ8: Pos. | AR8: Ptos. | AS8: Pos. | AT8: Ptos. | AU8: Pos. | AV8: Ptos. | AW8: Pos. | AX8: Ptos. | AY8: Pos. | AZ8: Ptos. | BA8: Pos. | BB8: Ptos. | BC8: Pos. | BD8: Ptos.
D10: 1 | E10: PEREZ, CAMILA | H10: 2005 | I10: FBA | J10: =L10+N10+P10+R10+T10+V10+X10+Z10+AB10+AD10+AF10+AH10+AJ10+AL10+AN10+AP10+AR10+AT10+AV10+AX10+AZ10+BB10+BD10 -> 1337.5 | M10: 1 | N10: 220 | AK10: 2 | AL10: 405 | AS10: Prom. | AT10: 217.5 | BC10: 1 | BD10: 495
D11: 2 | E11: ALAMO, VALENTINA | H11: 2007 | I11: LIB | J11: =L11+N11+P11+R11+T11+V11+X11+Z11+AB11+AD11+AF11+AH11+AJ11+AL11+AN11+AP11+AR11+AT11+AV11+AX11+AZ11+BB11+BD11 -> 755 | W11: 1 | X11: 110 | AS11: 1 | AT11: 330 | BC11: SF | BD11: 315
D12: 3 | E12: IWASA, ABRIL | H12: 2006 | I12: FET | J12: =L12+N12+P12+R12+T12+V12+X12+Z12+AB12+AD12+AF12+AH12+AJ12+AL12+AN12+AP12+AR12+AT12+AV12+AX12+AZ12+BB12+BD12 -> 635 | AS12: 3 | AT12: 210 | AU12: 1 | AV12: 110 | BC12: SF | BD12: 315
D13: 4 | E13: PEREYRA, MANUELA | H13: 2006 | I13: RNG | J13: =L13+N13+P13+R13+T13+V13+X13+Z13+AB13+AD13+AF13+AH13+AJ13+AL13+AN13+AP13+AR13+AT13+AV13+AX13+AZ13+BB13+BD13 -> 515 | AY13: 1 | AZ13: 110 | BC13: 2 | BD13: 405
D14: 5 | E14: OKUYAMA, ABRIL | H14: 2005 | I14: FET | J14: =L14+N14+P14+R14+T14+V14+X14+Z14+AB14+AD14+AF14+AH14+AJ14+AL14+AN14+AP14+AR14+AT14+AV14+AX14+AZ14+BB14+BD14 -> 495 | AK14: 1 | AL14: 495
D15: 6 | E15: LIFSCHITZ, YAEL | H15: 2006 | I15: FET | J15: =L15+N15+P15+R15+T15+V15+X15+Z15+AB15+AD15+AF15+AH15+AJ15+AL15+AN15+AP15+AR15+AT15+AV15+AX15+AZ15+BB15+BD15 -> 365 | Y15: SF B | Z15: 35 | AO15: 2B | AP15: 45 | AU15: SF B | AV15: 35 | BC15: 3Z | BD15: 250
