Workbook
Name _Hlk91591435: 'ID U13'!#REF!

Sheet ID U9
E4: INDIVIDUAL DAMAS U9 | K4: RANKING NACIONAL | TEMPORADA 2026
K5: Grand Prix | M5: Challenger | O5: Regional Abierto | Q5: Challenger | S5: Regional Abierto | U5: Regional Abierto | W5: Regional Abierto | Y5: Regional Abierto | AA5: Regional Abierto | AC5: Regional Abierto | AE5: Regional Abierto | AG5: Challenger | AI5: Regional Abierto | AK5: Nacional | AM5: Regional Abierto | AO5: Regional Abierto | AQ5: Regional Abierto | AS5: Grand Prix | AU5: Regional Abierto | AW5: Regional Abierto | AY5: Regional Abierto | BA5: Challenger | BC5: Abierto de la Rep.
K6: ROSARIO | M6: CHAPADMALAL | O6: FETEMBA | Q6: SANT. DEL ESTERO | S6: MENDOZA | U6: SALTA | W6: TIERRA DEL FUEGO | Y6: FETEMBA | AA6: JUJUY | AC6: SANTA FE | AE6: MENDOZA | AG6: SALTA | AI6: NEUQUÉN | AK6: SANTA FE | AM6: MENDOZA | AO6: FETEMBA | AQ6: SANTA CRUZ | AS6: MENDOZA | AU6: FETEMBA | AW6: MENDOZA | AY6: RIO NEGRO | BA6: ROSARIO | BC6: BUENOS AIRES
K7: 7 A 9 FEB 2025 | M7: 2 A 4 MAR 2025 | O7: 29 Y 30 MAR 2025 | Q7: 11 A 13 ABR 2025 | S7: 26 Y 27 ABR 2025 | U7: 26 Y 27 ABR 2025 | W7: 04 MAY 2025 | Y7: 10 Y 11 MAY 2025 | AA7: 24 Y 25 MAY 2025 | AC7: 31 MAY Y 1 JUN 2025 | AE7: 7 Y 8 JUN 2025 | AG7: 14 A 16 JUN 2025 | AI7: 21 Y 22 JUN 2025 | AK7: 9 A 13 JUL 2025 | AM7: 9 Y 10 AGO 2025 | AO7: 15 AGO 2025 | AQ7: 15 A 17 AGO 2025 | AS7: 5 A 7 SEP 2025 | AU7: 27 Y 28 SEP 2025 | AW7: 4 Y 5 OCT 2025 | AY7: 11 Y 12 OCT 2025 | BA7: 17 A 19 OCT 2025 | BC7: 21 A 24 NOV 2025
D8: POS. | E8: ATLETA | F8: DNI | G8: Fecha de Nacimiento | H8: CAT. | I8: ASOC. | J8: TOTAL | K8: Pos. | L8: Ptos. | M8: Pos. | N8: Ptos. | O8: Pos. | P8: Ptos. | Q8: Pos. | R8: Ptos. | S8: Pos. | T8: Ptos. | U8: Pos. | V8: Ptos. | W8: Pos. | X8: Ptos. | Y8: Pos. | Z8: Ptos. | AA8: Pos. | AB8: Ptos. | AC8: Pos. | AD8: Ptos. | AE8: Pos. | AF8: Ptos. | AG8: Pos. | AH8: Ptos. | AI8: Pos. | AJ8: Ptos. | AK8: Pos. | AL8: Ptos. | AM8: Pos. | AN8: Ptos. | AO8: Pos. | AP8: Ptos. | AQ8: Pos. | AR8: Ptos. | AS8: Pos. | AT8: Ptos. | AU8: Pos. | AV8: Ptos. | AW8: Pos. | AX8: Ptos. | AY8: Pos. | AZ8: Ptos. | BA8: Pos. | BB8: Ptos. | BC8: Pos. | BD8: Ptos.
D10: 1 | E10: SANHUEZA, ESPERANZA | H10: 2017 | I10: MZA | J10: =L10+N10+P10+R10+T10+V10+X10+Z10+AB10+AD10+AF10+AH10+AJ10+AL10+AN10+AP10+AR10+AT10+AV10+AX10+AZ10+BB10+BD10 -> 1145 | AE10: 2 | AF10: 90 | AK10: SF | AL10: 315 | AM10: 1 | AN10: 110 | AS10: 2 | AT10: 270 | AW10: 1 | AX10: 110 | BC10: 1B | BD10: 250
D11: 2 | E11: PASTERI, DELFINA | H11: 2017 | I11: SFE | J11: =L11+N11+P11+R11+T11+V11+X11+Z11+AB11+AD11+AF11+AH11+AJ11+AL11+AN11+AP11+AR11+AT11+AV11+AX11+AZ11+BB11+BD11 -> 895 | AK11: 1B | AL11: 250 | AS11: 1 | AT11: 330 | BC11: SF | BD11: 315
D12: 3 | E12: PALAMEDI, ALMA ANTONELLA | H12: 2017 | I12: SFE | J12: =L12+N12+P12+R12+T12+V12+X12+Z12+AB12+AD12+AF12+AH12+AJ12+AL12+AN12+AP12+AR12+AT12+AV12+AX12+AZ12+BB12+BD12 -> 810 | AK12: 2 | AL12: 405 | BC12: 2 | BD12: 405
D13: 4 | E13: PIRUZI, SIENNA | H13: 2018 | I13: MZA | J13: =L13+N13+P13+R13+T13+V13+X13+Z13+AB13+AD13+AF13+AH13+AJ13+AL13+AN13+AP13+AR13+AT13+AV13+AX13+AZ13+BB13+BD13 -> 795 | AE13: 1 | AF13: 110 | AK13: SF | AL13: 315 | AM13: 2 | AN13: 90 | AS13: SF | AT13: 210 | AW13: SF | AX13: 70
D14: 5 | E14: ALTO, MARTINA | H14: 2018 | I14: MZA | J14: =L14+N14+P14+R14+T14+V14+X14+Z14+AB14+AD14+AF14+AH14+AJ14+AL14+AN14+AP14+AR14+AT14+AV14+AX14+AZ14+BB14+BD14 -> 435 | AE14: SF | AF14: 70 | AK14: SF B | AL14: 160 | AS14: 2B | AT14: 135 | AW14: SF | AX14: 70
D15: 6 | E15: ITALIANO, DONATELLA | H15: 2019 | I15: MZA | J15: =L15+N15+P15+R15+T15+V15+X15+Z15+AB15+AD15+AF15+AH15+AJ15+AL15+AN15+AP15+AR15+AT15+AV15+AX15+AZ15+BB15+BD15 -> 275 | AE15: 3Z | AF15: 55 | AS15: 1B | AT15: 165 | AW15: 3Z | AX15: 55
D16: 7 | E16: NOTARNICOLA, PAULINA | H16: 2019 | I16: SFE | J16: =L16+N16+P16+R16+T16+V16+X16+Z16+AB16+AD16+AF16+AH16+AJ16+AL16+AN16+AP16+AR16+AT16+AV16+AX16+AZ16+BB16+BD16 -> 205 | BC16: 2B | BD16: 205
D17: 7 | E17: RICART CIACCI, EMMA | H17: 2017 | I17: CBA | J17: =L17+N17+P17+R17+T17+V17+X17+Z17+AB17+AD17+AF17+AH17+AJ17+AL17+AN17+AP17+AR17+AT17+AV17+AX17+AZ17+BB17+BD17 -> 205 | AK17: 2B | AL17: 205
D18: 9 | E18: NAVARRO, FIORELLA | H18: 2017 | I18: MZA | J18: =L18+N18+P18+R18+T18+V18+X18+Z18+AB18+AD18+AF18+AH18+AJ18+AL18+AN18+AP18+AR18+AT18+AV18+AX18+AZ18+BB18+BD18 -> 160 | AS18: SF B | AT18: 105 | AW18: 3Z | AX18: 55
D19: 10 | E19: TRIVIÑO, BELLA | H19: 2017 | I19: LIB | J19: =L19+N19+P19+R19+T19+V19+X19+Z19+AB19+AD19+AF19+AH19+AJ19+AL19+AN19+AP19+AR19+AT19+AV19+AX19+AZ19+BB19+BD19 -> 160 | BC19: SF B | BD19: 160
D20: 10 | E20: SCHWEISTEIN, ANA | H20: 2018 | I20: SLU | J20: =L20+N20+P20+R20+T20+V20+X20+Z20+AB20+AD20+AF20+AH20+AJ20+AL20+AN20+AP20+AR20+AT20+AV20+AX20+AZ20+BB20+BD20 -> 160 | AK20: SF B | AL20: 160
D21: 12 | E21: PAREDES, ARIADNA | H21: 2019 | I21: SCZ | J21: =L21+N21+P21+R21+T21+V21+X21+Z21+AB21+AD21+AF21+AH21+AJ21+AL21+AN21+AP21+AR21+AT21+AV21+AX21+AZ21+BB21+BD21 -> 90 | AQ21: 2 | AR21: 90
D22: 13 | E22: VANOLI, LENA | H22: 2018 | I22: MZA | J22: =L22+N22+P22+R22+T22+V22+X22+Z22+AB22+AD22+AF22+AH22+AJ22+AL22+AN22+AP22+AR22+AT22+AV22+AX22+AZ22+BB22+BD22 -> 55 | AE22: 3Z | AF22: 55

Sheet ID U11
E4: INDIVIDUAL DAMAS U11 | K4: RANKING NACIONAL | TEMPORADA 2026
K5: Grand Prix | M5: Challenger | O5: Regional Abierto | Q5: Challenger | S5: Regional Abierto | U5: Regional Abierto | W5: Regional Abierto | Y5: Regional Abierto | AA5: Regional Abierto | AC5: Regional Abierto | AE5: Regional Abierto | AG5: Challenger | AI5: Regional Abierto | AK5: Nacional | AM5: Regional Abierto | AO5: Regional Abierto | AQ5: Regional Abierto | AS5: Grand Prix | AU5: Regional Abierto | AW5: Regional Abierto | AY5: Regional Abierto | BA5: Challenger | BC5: Abierto de la Rep.
K6: ROSARIO | M6: CHAPADMALAL | O6: FETEMBA | Q6: SANT. DEL ESTERO | S6: MENDOZA | U6: SALTA | W6: TIERRA DEL FUEGO | Y6: FETEMBA | AA6: JUJUY | AC6: SANTA FE | AE6: MENDOZA | AG6: SALTA | AI6: NEUQUÉN | AK6: SANTA FE | AM6: MENDOZA | AO6: FETEMBA | AQ6: SANTA CRUZ | AS6: MENDOZA | AU6: FETEMBA | AW6: MENDOZA | AY6: RIO NEGRO | BA6: ROSARIO | BC6: BUENOS AIRES
K7: 7 A 9 FEB 2025 | M7: 2 A 4 MAR 2025 | O7: 29 Y 30 MAR 2025 | Q7: 11 A 13 ABR 2025 | S7: 26 Y 27 ABR 2025 | U7: 26 Y 27 ABR 2025 | W7: 04 MAY 2025 | Y7: 10 Y 11 MAY 2025 | AA7: 24 Y 25 MAY 2025 | AC7: 31 MAY Y 1 JUN 2025 | AE7: 7 Y 8 JUN 2025 | AG7: 14 A 16 JUN 2025 | AI7: 21 Y 22 JUN 2025 | AK7: 9 A 13 JUL 2025 | AM7: 9 Y 10 AGO 2025 | AO7: 15 AGO 2025 | AQ7: 15 A 17 AGO 2025 | AS7: 5 A 7 SEP 2025 | AU7: 27 Y 28 SEP 2025 | AW7: 4 Y 5 OCT 2025 | AY7: 11 Y 12 OCT 2025 | BA7: 17 A 19 OCT 2025 | BC7: 21 A 24 NOV 2025
D8: POS. | E8: ATLETA | F8: DNI | G8: Fecha de Nacimiento | H8: CAT. | I8: ASOC. | J8: TOTAL | K8: Pos. | L8: Ptos. | M8: Pos. | N8: Ptos. | O8: Pos. | P8: Ptos. | Q8: Pos. | R8: Ptos. | S8: Pos. | T8: Ptos. | U8: Pos. | V8: Ptos. | W8: Pos. | X8: Ptos. | Y8: Pos. | Z8: Ptos. | AA8: Pos. | AB8: Ptos. | AC8: Pos. | AD8: Ptos. | AE8: Pos. | AF8: Ptos. | AG8: Pos. | AH8: Ptos. | AI8: Pos. | AJ8: Ptos. | AK8: Pos. | AL8: Ptos. | AM8: Pos. | AN8: Ptos. | AO8: Pos. | AP8: Ptos. | AQ8: Pos. | AR8: Ptos. | AS8: Pos. | AT8: Ptos. | AU8: Pos. | AV8: Ptos. | AW8: Pos. | AX8: Ptos. | AY8: Pos. | AZ8: Ptos. | BA8: Pos. | BB8: Ptos. | BC8: Pos. | BD8: Ptos.
D10: 1 | E10: PIRUZI, ALBA ALLEGRA | G10: N | H10: 2015 | I10: MZA | J10: =L10+N10+P10+R10+T10+V10+X10+Z10+AB10+AD10+AF10+AH10+AJ10+AL10+AN10+AP10+AR10+AT10+AV10+AX10+AZ10+BB10+BD10 -> 1245 | S10: 2 | T10: 90 | AE10: 2 | AF10: 90 | AG10: 2 | AH10: 180 | AK10: SF | AL10: 315 | AM10: 1 | AN10: 110 | AS10: SF | AT10: 210 | BC10: 4F | BD10: 250
D11: 2 | E11: BIBBO, AITANA | G11: N | H11: 2015 | I11: SFE | J11: =L11+N11+P11+R11+T11+V11+X11+Z11+AB11+AD11+AF11+AH11+AJ11+AL11+AN11+AP11+AR11+AT11+AV11+AX11+AZ11+BB11+BD11 -> 1205 | K11: 1 | L11: 330 | AK11: 4F | AL11: 250 | BA11: 1 | BB11: 220 | BC11: 2 | BD11: 405
D12: 3 | E12: ROMERO, ANITA EMILIA | G12: N | H12: 2015 | I12: COR | J12: =L12+N12+P12+R12+T12+V12+X12+Z12+AB12+AD12+AF12+AH12+AJ12+AL12+AN12+AP12+AR12+AT12+AV12+AX12+AZ12+BB12+BD12 -> 1165 | K12: 2 | L12: 270 | Q12: 1 | R12: 220 | AC12: 1 | AD12: 110 | AK12: 4F | AL12: 250 | BC12: SF | BD12: 315
D13: 4 | E13: ALVARADO, ORIANA | G13: N | H13: 2015 | I13: SCZ | J13: =L13+N13+P13+R13+T13+V13+X13+Z13+AB13+AD13+AF13+AH13+AJ13+AL13+AN13+AP13+AR13+AT13+AV13+AX13+AZ13+BB13+BD13 -> 965 | W13: 1 | X13: 110 | AK13: 4F | AL13: 250 | AQ13: 1 | AR13: 110 | BC13: 1 | BD13: 495
D14: 5 | E14: HILARION, ZOE | G14: N | H14: 2015 | I14: SCZ | J14: =L14+N14+P14+R14+T14+V14+X14+Z14+AB14+AD14+AF14+AH14+AJ14+AL14+AN14+AP14+AR14+AT14+AV14+AX14+AZ14+BB14+BD14 -> 720 | W14: 2 | X14: 90 | AK14: SF | AL14: 315 | BC14: SF | BD14: 315
D15: 6 | E15: PASTERI, DELFINA | H15: 2017 | I15: SFE | J15: =L15+N15+P15+R15+T15+V15+X15+Z15+AB15+AD15+AF15+AH15+AJ15+AL15+AN15+AP15+AR15+AT15+AV15+AX15+AZ15+BB15+BD15 -> 645 | AK15: SF B | AL15: 90 | AS15: SF | AT15: 210 | BA15: 3 | BB15: 140 | BC15: 8F | BD15: 205
D16: 7 | E16: CASSARA, CAMILA | H16: 2016 | I16: FET | J16: =L16+N16+P16+R16+T16+V16+X16+Z16+AB16+AD16+AF16+AH16+AJ16+AL16+AN16+AP16+AR16+AT16+AV16+AX16+AZ16+BB16+BD16 -> 545 | Y16: 2 | Z16: 90 | AK16: 8F | AL16: 205 | BC16: 4F | BD16: 250
D17: 8 | E17: TUSCO, MACKENSI | G17: N | H17: 2015 | I17: SCZ | J17: =L17+N17+P17+R17+T17+V17+X17+Z17+AB17+AD17+AF17+AH17+AJ17+AL17+AN17+AP17+AR17+AT17+AV17+AX17+AZ17+BB17+BD17 -> 490 | W17: 3Z | X17: 55 | AK17: 1B | AL17: 160 | AQ17: SF | AR17: 70 | BC17: 8F | BD17: 205
D18: 9 | E18: PALAMEDI, ALMA ANTONELLA | H18: 2017 | I18: SFE | J18: =L18+N18+P18+R18+T18+V18+X18+Z18+AB18+AD18+AF18+AH18+AJ18+AL18+AN18+AP18+AR18+AT18+AV18+AX18+AZ18+BB18+BD18 -> 475 | K18: 5 | L18: 135 | AC18: 3 | AD18: 70 | BA18: 4 | BB18: 110 | BC18: 1B | BD18: 160
D19: 10 | E19: SANHUEZA, ESPERANZA | H19: 2017 | I19: MZA | J19: =L19+N19+P19+R19+T19+V19+X19+Z19+AB19+AD19+AF19+AH19+AJ19+AL19+AN19+AP19+AR19+AT19+AV19+AX19+AZ19+BB19+BD19 -> 400 | S19: 4 | T19: 55 | AM19: 2 | AN19: 90 | AS19: 1B | AT19: 165 | BC19: SF B | BD19: 90
D20: 11 | E20: HARO, YASMIN | H20: 2016 | I20: SCZ | J20: =L20+N20+P20+R20+T20+V20+X20+Z20+AB20+AD20+AF20+AH20+AJ20+AL20+AN20+AP20+AR20+AT20+AV20+AX20+AZ20+BB20+BD20 -> 305 | W20: 3Z | X20: 55 | AQ20: 3Z | AR20: 45 | BC20: 8F | BD20: 205
D21: 12 | E21: PIRUZI, SIENNA | H21: 2018 | I21: MZA | J21: =L21+N21+P21+R21+T21+V21+X21+Z21+AB21+AD21+AF21+AH21+AJ21+AL21+AN21+AP21+AR21+AT21+AV21+AX21+AZ21+BB21+BD21 -> 295 | S21: 5 | T21: 45 | AE21: 3 | AF21: 70 | AG21: 4 | AH21: 110 | AM21: 3 | AN21: 70
D22: 13 | E22: ESTIGARRIBIA, PAULA | G22: N | H22: 2015 | I22: SCZ | J22: =L22+N22+P22+R22+T22+V22+X22+Z22+AB22+AD22+AF22+AH22+AJ22+AL22+AN22+AP22+AR22+AT22+AV22+AX22+AZ22+BB22+BD22 -> 275 | W22: SF | X22: 70 | BC22: 8F | BD22: 205
D23: 14 | E23: ULLOA, ALUEN AGOSTINA | G23: N | H23: 2015 | I23: LIB | J23: =L23+N23+P23+R23+T23+V23+X23+Z23+AB23+AD23+AF23+AH23+AJ23+AL23+AN23+AP23+AR23+AT23+AV23+AX23+AZ23+BB23+BD23 -> 250 | BC23: 4F | BD23: 250
D24: 15 | E24: PAVCOVICH BINIMELIS, MILAGRO | G24: N | H24: 2015 | I24: SDE | J24: =L24+N24+P24+R24+T24+V24+X24+Z24+AB24+AD24+AF24+AH24+AJ24+AL24+AN24+AP24+AR24+AT24+AV24+AX24+AZ24+BB24+BD24 -> 140 | Q24: 3 | R24: 140
D25: 16 | E25: VILLEGAS, CANDELARIA | H25: 2016 | I25: MZA | J25: =L25+N25+P25+R25+T25+V25+X25+Z25+AB25+AD25+AF25+AH25+AJ25+AL25+AN25+AP25+AR25+AT25+AV25+AX25+AZ25+BB25+BD25 -> 135 | AS25: 2B | AT25: 135
D26: 17 | E26: FIORE SHIMOJI, ANA SAKURAKO | H26: 2016 | I26: FET | J26: =L26+N26+P26+R26+T26+V26+X26+Z26+AB26+AD26+AF26+AH26+AJ26+AL26+AN26+AP26+AR26+AT26+AV26+AX26+AZ26+BB26+BD26 -> 115 | BC26: 2B | BD26: 115
D27: 17 | E27: SCHWEISTEIN, CATALINA | G27: N | H27: 2015 | I27: SLU | J27: =L27+N27+P27+R27+T27+V27+X27+Z27+AB27+AD27+AF27+AH27+AJ27+AL27+AN27+AP27+AR27+AT27+AV27+AX27+AZ27+BB27+BD27 -> 115 | AK27: 2B | AL27: 115
D28: 19 | E28: MARTINEZ LEGUIZAMON, LISANDRA | H28: 2016 | I28: SDE | J28: =L28+N28+P28+R28+T28+V28+X28+Z28+AB28+AD28+AF28+AH28+AJ28+AL28+AN28+AP28+AR28+AT28+AV28+AX28+AZ28+BB28+BD28 -> 110 | Q28: 4 | R28: 110
D29: 20 | E29: RICART CIACCI, EMMA | H29: 2017 | I29: CBA | J29: =L29+N29+P29+R29+T29+V29+X29+Z29+AB29+AD29+AF29+AH29+AJ29+AL29+AN29+AP29+AR29+AT29+AV29+AX29+AZ29+BB29+BD29 -> 90 | AK29: SF B | AL29: 90
D30: 21 | E30: NIEVA, SOFIA | G30: N | H30: 2015 | I30: SCZ | J30: =L30+N30+P30+R30+T30+V30+X30+Z30+AB30+AD30+AF30+AH30+AJ30+AL30+AN30+AP30+AR30+AT30+AV30+AX30+AZ30+BB30+BD30 -> 55 | AQ30: 4F | AR30: 55
D31: 22 | E31: FARFAN ALANCAY, BRIANA | H31: 2016 | I31: SAL | J31: =L31+N31+P31+R31+T31+V31+X31+Z31+AB31+AD31+AF31+AH31+AJ31+AL31+AN31+AP31+AR31+AT31+AV31+AX31+AZ31+BB31+BD31 -> 55 | U31: 4 | V31: 55
D32: 23 | E32: CARDENAS, SHARON | H32: 2016 | I32: SCZ | J32: =L32+N32+P32+R32+T32+V32+X32+Z32+AB32+AD32+AF32+AH32+AJ32+AL32+AN32+AP32+AR32+AT32+AV32+AX32+AZ32+BB32+BD32 -> 45 | AQ32: 3Z | AR32: 45
D33: 24 | E33: SOLA, BIANCA | H33: 2017 | I33: JUJ | J33: =L33+N33+P33+R33+T33+V33+X33+Z33+AB33+AD33+AF33+AH33+AJ33+AL33+AN33+AP33+AR33+AT33+AV33+AX33+AZ33+BB33+BD33 -> 45 | U33: 5 | V33: 45

Sheet ID U13
E4: INDIVIDUAL DAMAS U13 | K4: RANKING NACIONAL | TEMPORADA 2026
K5: Grand Prix | M5: Challenger | O5: Regional Abierto | Q5: Challenger | S5: Regional Abierto | U5: Regional Abierto | W5: Regional Abierto | Y5: Regional Abierto | AA5: Regional Abierto | AC5: Regional Abierto | AE5: Regional Abierto | AG5: Challenger | AI5: Regional Abierto | AK5: Nacional | AM5: Regional Abierto | AO5: Regional Abierto | AQ5: Regional Abierto | AS5: Grand Prix | AU5: Regional Abierto | AW5: Regional Abierto | AY5: Regional Abierto | BA5: Challenger | BC5: Abierto de la Rep.
K6: ROSARIO | M6: CHAPADMALAL | O6: FETEMBA | Q6: SANT. DEL ESTERO | S6: MENDOZA | U6: SALTA | W6: TIERRA DEL FUEGO | Y6: FETEMBA | AA6: JUJUY | AC6: SANTA FE | AE6: MENDOZA | AG6: SALTA | AI6: NEUQUÉN | AK6: SANTA FE | AM6: MENDOZA | AO6: FETEMBA | AQ6: SANTA CRUZ | AS6: MENDOZA | AU6: FETEMBA | AW6: MENDOZA | AY6: RIO NEGRO | BA6: ROSARIO | BC6: BUENOS AIRES
K7: 7 A 9 FEB 2025 | M7: 2 A 4 MAR 2025 | O7: 29 Y 30 MAR 2025 | Q7: 11 A 13 ABR 2025 | S7: 26 Y 27 ABR 2025 | U7: 26 Y 27 ABR 2025 | W7: 04 MAY 2025 | Y7: 10 Y 11 MAY 2025 | AA7: 24 Y 25 MAY 2025 | AC7: 31 MAY Y 1 JUN 2025 | AE7: 7 Y 8 JUN 2025 | AG7: 14 A 16 JUN 2025 | AI7: 21 Y 22 JUN 2025 | AK7: 9 A 13 JUL 2025 | AM7: 9 Y 10 AGO 2025 | AO7: 15 AGO 2025 | AQ7: 15 A 17 AGO 2025 | AS7: 5 A 7 SEP 2025 | AU7: 27 Y 28 SEP 2025 | AW7: 4 Y 5 OCT 2025 | AY7: 11 Y 12 OCT 2025 | BA7: 17 A 19 OCT 2025 | BC7: 21 A 24 NOV 2025
D8: POS. | E8: ATLETA | F8: DNI | G8: Fecha de Nacimiento | H8: CAT. | I8: ASOC. | J8: TOTAL | K8: Pos. | L8: Ptos. | M8: Pos. | N8: Ptos. | O8: Pos. | P8: Ptos. | Q8: Pos. | R8: Ptos. | S8: Pos. | T8: Ptos. | U8: Pos. | V8: Ptos. | W8: Pos. | X8: Ptos. | Y8: Pos. | Z8: Ptos. | AA8: Pos. | AB8: Ptos. | AC8: Pos. | AD8: Ptos. | AE8: Pos. | AF8: Ptos. | AG8: Pos. | AH8: Ptos. | AI8: Pos. | AJ8: Ptos. | AK8: Pos. | AL8: Ptos. | AM8: Pos. | AN8: Ptos. | AO8: Pos. | AP8: Ptos. | AQ8: Pos. | AR8: Ptos. | AS8: Pos. | AT8: Ptos. | AU8: Pos. | AV8: Ptos. | AW8: Pos. | AX8: Ptos. | AY8: Pos. | AZ8: Ptos. | BA8: Pos. | BB8: Ptos. | BC8: Pos. | BD8: Ptos.
D10: 1 | E10: SATO, MIA HIROMMI | H10: 2014 | I10: FET | J10: =L10+N10+P10+R10+T10+V10+X10+Z10+AB10+AD10+AF10+AH10+AJ10+AL10+AN10+AP10+AR10+AT10+AV10+AX10+AZ10+BB10+BD10 -> 1505.2188 | K10: 4F | L10: 0.165 | M10: 3 | N10: 140 | O10: Prom. | P10: 0.05375 | AC10: SF | AD10: 70 | AK10: 4F | AL10: 250 | AO10: 2 | AP10: 90 | AS10: 1 | AT10: 330 | AU10: 2 | AV10: 90 | BA10: 1 | BB10: 220 | BC10: SF | BD10: 315
D11: 2 | E11: CRUZ MUÑOZ, MARTINA | G11: N | H11: 2013 | I11: FET | J11: =L11+N11+P11+R11+T11+V11+X11+Z11+AB11+AD11+AF11+AH11+AJ11+AL11+AN11+AP11+AR11+AT11+AV11+AX11+AZ11+BB11+BD11 -> 1205.07 | M11: 1 | N11: 220 | O11: 1 | P11: 110 | Y11: SF | Z11: 0.07 | AK11: 4F | AL11: 250 | AO11: 1 | AP11: 110 | AU11: 1 | AV11: 110 | BC11: 2 | BD11: 405
D12: 3 | E12: TOSCANO, DAIANA ANTONELLA | G12: N | H12: 2013 | I12: SAL | J12: =L12+N12+P12+R12+T12+V12+X12+Z12+AB12+AD12+AF12+AH12+AJ12+AL12+AN12+AP12+AR12+AT12+AV12+AX12+AZ12+BB12+BD12 -> 1140 | U12: 1 | V12: 110 | AG12: 1 | AH12: 220 | AK12: SF | AL12: 315 | BC12: 1 | BD12: 495
D13: 4 | E13: SIALLE, CONSTANTINA | G13: N | H13: 2013 | I13: SEN | J13: =L13+N13+P13+R13+T13+V13+X13+Z13+AB13+AD13+AF13+AH13+AJ13+AL13+AN13+AP13+AR13+AT13+AV13+AX13+AZ13+BB13+BD13 -> 1120 | Q13: 2 | R13: 180 | U13: SF | V13: 70 | AA13: 1 | AB13: 110 | AG13: SF | AH13: 140 | AK13: 8F | AL13: 205 | AS13: SF | AT13: 210 | BC13: 8F | BD13: 205
D14: 5 | E14: OLIVAREZ, ISABELLA | H14: 2014 | I14: SFE | J14: =L14+N14+P14+R14+T14+V14+X14+Z14+AB14+AD14+AF14+AH14+AJ14+AL14+AN14+AP14+AR14+AT14+AV14+AX14+AZ14+BB14+BD14 -> 1115 | K14: SF | L14: 210 | Y14: SF | Z14: 70 | AC14: 2 | AD14: 90 | AK14: SF | AL14: 315 | BA14: 2 | BB14: 180 | BC14: 4F | BD14: 250
D15: 6 | E15: VERA ARROYO, MIA LUANNA | H15: 2014 | I15: MZA | J15: =L15+N15+P15+R15+T15+V15+X15+Z15+AB15+AD15+AF15+AH15+AJ15+AL15+AN15+AP15+AR15+AT15+AV15+AX15+AZ15+BB15+BD15 -> 905 | S15: 1 | T15: 110 | AE15: 1 | AF15: 110 | AK15: 8F | AL15: 205 | AS15: 1B | AT15: 165 | AW15: 1 | AX15: 110 | BC15: 8F | BD15: 205
D16: 7 | E16: PIRUZI, ALBA ALLEGRA | H16: 2015 | I16: MZA | J16: =L16+N16+P16+R16+T16+V16+X16+Z16+AB16+AD16+AF16+AH16+AJ16+AL16+AN16+AP16+AR16+AT16+AV16+AX16+AZ16+BB16+BD16 -> 900.09 | S16: 2 | T16: 0.09 | AE16: 2 | AF16: 90 | AG16: 4F | AH16: 110 | AK16: 8F | AL16: 205 | AM16: 1 | AN16: 110 | AS16: 2B | AT16: 135 | AW16: 2 | AX16: 90 | BC16: 16F | BD16: 160
D17: 8 | E17: ROMERO, ANITA EMILIA | H17: 2015 | I17: COR | J17: =L17+N17+P17+R17+T17+V17+X17+Z17+AB17+AD17+AF17+AH17+AJ17+AL17+AN17+AP17+AR17+AT17+AV17+AX17+AZ17+BB17+BD17 -> 770 | K17: 4F | L17: 165 | Q17: 3 | R17: 140 | AC17: 1B | AD17: 55 | AK17: 8F | AL17: 205 | BC17: 8F | BD17: 205
D18: 9 | E18: SERRANO, SOL | H18: 2014 | I18: FET | J18: =L18+N18+P18+R18+T18+V18+X18+Z18+AB18+AD18+AF18+AH18+AJ18+AL18+AN18+AP18+AR18+AT18+AV18+AX18+AZ18+BB18+BD18 -> 755.045 | Y18: 2B | Z18: 0.045 | AC18: SF | AD18: 70 | AK18: 2B | AL18: 90 | AO18: SF | AP18: 70 | AS18: SF | AT18: 210 | AU18: 2B | AV18: 45 | BA18: 1B | BB18: 110 | BC18: 16F | BD18: 160
D19: 10 | E19: GALLARDO BERESIARTE, PILAR | G19: N | H19: 2013 | I19: SAL | J19: =L19+N19+P19+R19+T19+V19+X19+Z19+AB19+AD19+AF19+AH19+AJ19+AL19+AN19+AP19+AR19+AT19+AV19+AX19+AZ19+BB19+BD19 -> 710 | U19: SF | V19: 70 | AA19: 2 | AB19: 90 | AG19: SF | AH19: 140 | AK19: 8F | AL19: 205 | BC19: 8F | BD19: 205
D20: 11 | E20: ALVARADO, ORIANA | H20: 2015 | I20: SCZ | J20: =L20+N20+P20+R20+T20+V20+X20+Z20+AB20+AD20+AF20+AH20+AJ20+AL20+AN20+AP20+AR20+AT20+AV20+AX20+AZ20+BB20+BD20 -> 700 | W20: 2 | X20: 90 | AK20: 4F | AL20: 250 | AQ20: 1 | AR20: 110 | BC20: 4F | BD20: 250
D21: 12 | E21: ECHEGARAY, PIA | G21: N | H21: 2013 | I21: MZA | J21: =L21+N21+P21+R21+T21+V21+X21+Z21+AB21+AD21+AF21+AH21+AJ21+AL21+AN21+AP21+AR21+AT21+AV21+AX21+AZ21+BB21+BD21 -> 530.055 | S21: 4 | T21: 0.055 | AE21: 3Z | AF21: 55 | AK21: SF B | AL21: 70 | AM21: 3 | AN21: 70 | AS21: SF B | AT21: 105 | AW21: 3 | AX21: 70 | BC21: 16F | BD21: 160
D22: 13 | E22: GONZALEZ, CATALINA | G22: N | H22: 2013 | I22: MZA | J22: =L22+N22+P22+R22+T22+V22+X22+Z22+AB22+AD22+AF22+AH22+AJ22+AL22+AN22+AP22+AR22+AT22+AV22+AX22+AZ22+BB22+BD22 -> 445.045 | S22: 3 | T22: 70 | AE22: 3Z | AF22: 55 | AK22: 16F | AL22: 160 | AM22: 4 | AN22: 55 | AS22: SF B | AT22: 105 | AW22: 5 | AX22: 0.045
D23: 14 | E23: HILARION, ZOE | H23: 2015 | I23: SCZ | J23: =L23+N23+P23+R23+T23+V23+X23+Z23+AB23+AD23+AF23+AH23+AJ23+AL23+AN23+AP23+AR23+AT23+AV23+AX23+AZ23+BB23+BD23 -> 420 | W23: 3Z | X23: 55 | AK23: 16F | AL23: 160 | BC23: 8F | BD23: 205
D24: 15 | E24: BIBBO, AITANA | H24: 2015 | I24: SFE | J24: =L24+N24+P24+R24+T24+V24+X24+Z24+AB24+AD24+AF24+AH24+AJ24+AL24+AN24+AP24+AR24+AT24+AV24+AX24+AZ24+BB24+BD24 -> 390 | BA24: SF | BB24: 140 | BC24: 4F | BD24: 250
D25: 16 | E25: TOSCANO, FLORENCIA DANIELA | H25: 2014 | I25: SAL | J25: =L25+N25+P25+R25+T25+V25+X25+Z25+AB25+AD25+AF25+AH25+AJ25+AL25+AN25+AP25+AR25+AT25+AV25+AX25+AZ25+BB25+BD25 -> 370 | U25: 1B | V25: 55 | AG25: 4F | AH25: 110 | AK25: 8F | AL25: 205
D26: 17 | E26: ESTIGARRIBIA, NICOL | H26: 2014 | I26: SCZ | J26: =L26+N26+P26+R26+T26+V26+X26+Z26+AB26+AD26+AF26+AH26+AJ26+AL26+AN26+AP26+AR26+AT26+AV26+AX26+AZ26+BB26+BD26 -> 345 | W26: SF | X26: 70 | AQ26: SF | AR26: 70 | BC26: 8F | BD26: 205
D27: 18 | E27: MANSILLA, OLIVIA | G27: N | H27: 2013 | I27: FET | J27: =L27+N27+P27+R27+T27+V27+X27+Z27+AB27+AD27+AF27+AH27+AJ27+AL27+AN27+AP27+AR27+AT27+AV27+AX27+AZ27+BB27+BD27 -> 260.035 | O27: 4 | P27: 55 | Y27: SF B | Z27: 0.035 | AG27: 1B | AH27: 90 | AO27: 2B | AP27: 45 | AU27: SF | AV27: 70
D28: 19 | E28: GARCIA FOCHI, MARIA PILAR | H28: 2014 | I28: SEN | J28: =L28+N28+P28+R28+T28+V28+X28+Z28+AB28+AD28+AF28+AH28+AJ28+AL28+AN28+AP28+AR28+AT28+AV28+AX28+AZ28+BB28+BD28 -> 205 | Q28: 5 | R28: 90 | U28: 2B | V28: 45 | AG28: 2B | AH28: 70
D29: 20 | E29: LOPEZ, MIA | G29: N | H29: 2013 | I29: FET | J29: =L29+N29+P29+R29+T29+V29+X29+Z29+AB29+AD29+AF29+AH29+AJ29+AL29+AN29+AP29+AR29+AT29+AV29+AX29+AZ29+BB29+BD29 -> 195 | AO29: SF B | AP29: 35 | AU29: SF | AV29: 70 | BC29: 2B | BD29: 90
D30: 21 | E30: TUSCO, MACKENSI | H30: 2015 | I30: SCZ | J30: =L30+N30+P30+R30+T30+V30+X30+Z30+AB30+AD30+AF30+AH30+AJ30+AL30+AN30+AP30+AR30+AT30+AV30+AX30+AZ30+BB30+BD30 -> 180 | W30: 4Z | X30: 55 | AK30: SF B | AL30: 70 | AQ30: 4F | AR30: 55
D31: 22 | E31: BOTHIN, AYLIN JOSEFINA | G31: N | H31: 2013 | I31: LIB | J31: =L31+N31+P31+R31+T31+V31+X31+Z31+AB31+AD31+AF31+AH31+AJ31+AL31+AN31+AP31+AR31+AT31+AV31+AX31+AZ31+BB31+BD31 -> 160 | BC31: 16F | BD31: 160
D32: 23 | E32: ULLOA, ALUEN AGOSTINA | H32: 2015 | I32: LIB | J32: =L32+N32+P32+R32+T32+V32+X32+Z32+AB32+AD32+AF32+AH32+AJ32+AL32+AN32+AP32+AR32+AT32+AV32+AX32+AZ32+BB32+BD32 -> 160 | BC32: 16F | BD32: 160
D33: 24 | E33: MUT, ANA LAURA | G33: N | H33: 2013 | I33: MZA | J33: =L33+N33+P33+R33+T33+V33+X33+Z33+AB33+AD33+AF33+AH33+AJ33+AL33+AN33+AP33+AR33+AT33+AV33+AX33+AZ33+BB33+BD33 -> 125 | AE33: SF | AF33: 70 | AW33: 4 | AX33: 55
D34: 25 | E34: ESTIGARRIBIA, PAULA | H34: 2015 | I34: SCZ | J34: =L34+N34+P34+R34+T34+V34+X34+Z34+AB34+AD34+AF34+AH34+AJ34+AL34+AN34+AP34+AR34+AT34+AV34+AX34+AZ34+BB34+BD34 -> 125 | W34: 3Z | X34: 55 | BC34: SF B | BD34: 70
D35: 26 | E35: CASSARA, CAMILA | H35: 2016 | I35: FET | J35: =L35+N35+P35+R35+T35+V35+X35+Z35+AB35+AD35+AF35+AH35+AJ35+AL35+AN35+AP35+AR35+AT35+AV35+AX35+AZ35+BB35+BD35 -> 125 | AO35: SF | AP35: 70 | AU35: 1B | AV35: 55
D36: 27 | E36: PAVCOVICH BINIMELIS, MILAGRO | H36: 2015 | I36: SDE | J36: =L36+N36+P36+R36+T36+V36+X36+Z36+AB36+AD36+AF36+AH36+AJ36+AL36+AN36+AP36+AR36+AT36+AV36+AX36+AZ36+BB36+BD36 -> 110 | Q36: 4 | R36: 110
D37: 28 | E37: PASTERI, DELFINA | H37: 2017 | I37: SFE | J37: =L37+N37+P37+R37+T37+V37+X37+Z37+AB37+AD37+AF37+AH37+AJ37+AL37+AN37+AP37+AR37+AT37+AV37+AX37+AZ37+BB37+BD37 -> 110 | M37: 4 | N37: 110
D38: 29 | E38: MOSCOSO GIORNO, VALENTINA | G38: N | H38: 2013 | I38: FET | J38: =L38+N38+P38+R38+T38+V38+X38+Z38+AB38+AD38+AF38+AH38+AJ38+AL38+AN38+AP38+AR38+AT38+AV38+AX38+AZ38+BB38+BD38 -> 70 | BC38: SF B | BD38: 70
D39: 30 | E39: LAI, AYELEN | H39: 2014 | I39: FET | J39: =L39+N39+P39+R39+T39+V39+X39+Z39+AB39+AD39+AF39+AH39+AJ39+AL39+AN39+AP39+AR39+AT39+AV39+AX39+AZ39+BB39+BD39 -> 55 | AO39: 1B | AP39: 55
D40: 31 | E40: HARO, YASMIN | H40: 2016 | I40: SCZ | J40: =L40+N40+P40+R40+T40+V40+X40+Z40+AB40+AD40+AF40+AH40+AJ40+AL40+AN40+AP40+AR40+AT40+AV40+AX40+AZ40+BB40+BD40 -> 55 | AQ40: 4F | AR40: 55
D41: 32 | E41: MANSILLA, ALDANA | G41: N | H41: 2013 | I41: SCZ | J41: =L41+N41+P41+R41+T41+V41+X41+Z41+AB41+AD41+AF41+AH41+AJ41+AL41+AN41+AP41+AR41+AT41+AV41+AX41+AZ41+BB41+BD41 -> 45 | AQ41: 3Z | AR41: 45
D42: 33 | E42: SERVIN, ALMA | H42: 2014 | I42: SCZ | J42: =L42+N42+P42+R42+T42+V42+X42+Z42+AB42+AD42+AF42+AH42+AJ42+AL42+AN42+AP42+AR42+AT42+AV42+AX42+AZ42+BB42+BD42 -> 45 | AQ42: 3Z | AR42: 45
D43: 34 | E43: MIRANDA, ALMA | H43: 2014 | I43: SCZ | J43: =L43+N43+P43+R43+T43+V43+X43+Z43+AB43+AD43+AF43+AH43+AJ43+AL43+AN43+AP43+AR43+AT43+AV43+AX43+AZ43+BB43+BD43 -> 45 | AQ43: 3Z | AR43: 45
D44: 35 | E44: SADOMTSEVA, ALENA | G44: N | H44: 2013 | I44: FET | J44: =L44+N44+P44+R44+T44+V44+X44+Z44+AB44+AD44+AF44+AH44+AJ44+AL44+AN44+AP44+AR44+AT44+AV44+AX44+AZ44+BB44+BD44 -> 35 | AU44: SF B | AV44: 35

Sheet ID U15
E4: INDIVIDUAL DAMAS U15 | K4: RANKING NACIONAL | TEMPORADA 2026
K5: Grand Prix | M5: Challenger | O5: Regional Abierto | Q5: Challenger | S5: Regional Abierto | U5: Regional Abierto | W5: Regional Abierto | Y5: Regional Abierto | AA5: Regional Abierto | AC5: Regional Abierto | AE5: Regional Abierto | AG5: Challenger | AI5: Regional Abierto | AK5: Nacional | AM5: Regional Abierto | AO5: Regional Abierto | AQ5: Regional Abierto | AS5: Grand Prix | AU5: Regional Abierto | AW5: Regional Abierto | AY5: Regional Abierto | BA5: Challenger | BC5: Abierto de la Rep.
K6: ROSARIO | M6: CHAPADMALAL | O6: FETEMBA | Q6: SANT. DEL ESTERO | S6: MENDOZA | U6: SALTA | W6: TIERRA DEL FUEGO | Y6: FETEMBA | AA6: JUJUY | AC6: SANTA FE | AE6: MENDOZA | AG6: SALTA | AI6: NEUQUÉN | AK6: SANTA FE | AM6: MENDOZA | AO6: FETEMBA | AQ6: SANTA CRUZ | AS6: MENDOZA | AU6: FETEMBA | AW6: MENDOZA | AY6: RIO NEGRO | BA6: ROSARIO | BC6: BUENOS AIRES
K7: 7 A 9 FEB 2025 | M7: 2 A 4 MAR 2025 | O7: 29 Y 30 MAR 2025 | Q7: 11 A 13 ABR 2025 | S7: 26 Y 27 ABR 2025 | U7: 26 Y 27 ABR 2025 | W7: 04 MAY 2025 | Y7: 10 Y 11 MAY 2025 | AA7: 24 Y 25 MAY 2025 | AC7: 31 MAY Y 1 JUN 2025 | AE7: 7 Y 8 JUN 2025 | AG7: 14 A 16 JUN 2025 | AI7: 21 Y 22 JUN 2025 | AK7: 9 A 13 JUL 2025 | AM7: 9 Y 10 AGO 2025 | AO7: 15 AGO 2025 | AQ7: 15 A 17 AGO 2025 | AS7: 5 A 7 SEP 2025 | AU7: 27 Y 28 SEP 2025 | AW7: 4 Y 5 OCT 2025 | AY7: 11 Y 12 OCT 2025 | BA7: 17 A 19 OCT 2025 | BC7: 21 A 24 NOV 2025
D8: POS. | E8: ATLETA | F8: DNI | G8: Fecha de Nacimiento | H8: CAT. | I8: ASOC. | J8: TOTAL | K8: Pos. | L8: Ptos. | M8: Pos. | N8: Ptos. | O8: Pos. | P8: Ptos. | Q8: Pos. | R8: Ptos. | S8: Pos. | T8: Ptos. | U8: Pos. | V8: Ptos. | W8: Pos. | X8: Ptos. | Y8: Pos. | Z8: Ptos. | AA8: Pos. | AB8: Ptos. | AC8: Pos. | AD8: Ptos. | AE8: Pos. | AF8: Ptos. | AG8: Pos. | AH8: Ptos. | AI8: Pos. | AJ8: Ptos. | AK8: Pos. | AL8: Ptos. | AM8: Pos. | AN8: Ptos. | AO8: Pos. | AP8: Ptos. | AQ8: Pos. | AR8: Ptos. | AS8: Pos. | AT8: Ptos. | AU8: Pos. | AV8: Ptos. | AW8: Pos. | AX8: Ptos. | AY8: Pos. | AZ8: Ptos. | BA8: Pos. | BB8: Ptos. | BC8: Pos. | BD8: Ptos.
D10: 1 | E10: SALUSSO, ALEXIA | G10: N | H10: 2011 | I10: FET | J10: =L10+N10+P10+R10+T10+V10+X10+Z10+AB10+AD10+AF10+AH10+AJ10+AL10+AN10+AP10+AR10+AT10+AV10+AX10+AZ10+BB10+BD10 -> 1595 | K10: 1 | L10: 330 | O10: 1 | P10: 110 | Y10: 4F | Z10: 55 | AK10: 1 | AL10: 495 | AO10: 1 | AP10: 110 | BC10: 1 | BD10: 495
D11: 2 | E11: SALPETER, LUANA | H11: 2012 | I11: FET | J11: =L11+N11+P11+R11+T11+V11+X11+Z11+AB11+AD11+AF11+AH11+AJ11+AL11+AN11+AP11+AR11+AT11+AV11+AX11+AZ11+BB11+BD11 -> 1286.305 | K11: 4F | L11: 165 | M11: 1 | N11: 220 | O11: Prom. | P11: 61.25 | Y11: SF | Z11: 70 | AK11: 4F | AL11: 250 | AO11: 4F | AP11: 0.055 | AU11: 2 | AV11: 90 | BA11: 2 | BB11: 180 | BC11: 4F | BD11: 250
D12: 3 | E12: GUARDIA, MARIA VICTORIA | G12: N | H12: 2011 | I12: SAL | J12: =L12+N12+P12+R12+T12+V12+X12+Z12+AB12+AD12+AF12+AH12+AJ12+AL12+AN12+AP12+AR12+AT12+AV12+AX12+AZ12+BB12+BD12 -> 1235.1537 | K12: Prom. | L12: 0.15375 | Q12: 2 | R12: 180 | U12: 1 | V12: 110 | AG12: SF | AH12: 140 | AO12: SF | AP12: 70 | AS12: 1 | AT12: 330 | BC12: 2 | BD12: 405
D13: 4 | E13: VALERIO, GEMMA | G13: N | H13: 2011 | I13: SAL | J13: =L13+N13+P13+R13+T13+V13+X13+Z13+AB13+AD13+AF13+AH13+AJ13+AL13+AN13+AP13+AR13+AT13+AV13+AX13+AZ13+BB13+BD13 -> 1225 | Q13: SF | R13: 140 | U13: SF | V13: 70 | AA13: 1 | AB13: 110 | AG13: 1 | AH13: 220 | AK13: SF | AL13: 315 | AO13: 4F | AP13: 55 | BC13: SF | BD13: 315
D14: 5 | E14: PEREZ MAZZARELLO, MALENA | G14: N | H14: 2011 | I14: FET | J14: =L14+N14+P14+R14+T14+V14+X14+Z14+AB14+AD14+AF14+AH14+AJ14+AL14+AN14+AP14+AR14+AT14+AV14+AX14+AZ14+BB14+BD14 -> 1195.055 | K14: 4F | L14: 165 | O14: 3 | P14: 70 | Y14: 4F | Z14: 0.055 | AK14: SF | AL14: 315 | AO14: 4F | AP14: 55 | AU14: 4F | AV14: 55 | BA14: 1 | BB14: 220 | BC14: SF | BD14: 315
D15: 6 | E15: MAEHAMA, TRINIDAD | H15: 2012 | I15: FET | J15: =L15+N15+P15+R15+T15+V15+X15+Z15+AB15+AD15+AF15+AH15+AJ15+AL15+AN15+AP15+AR15+AT15+AV15+AX15+AZ15+BB15+BD15 -> 1170.025 | K15: 4F | L15: 165 | O15: Prom. | P15: 0.025 | Y15: SF | Z15: 70 | AG15: SF | AH15: 140 | AK15: 8F | AL15: 205 | AO15: 2 | AP15: 90 | AU15: 1 | AV15: 110 | BA15: SF | BB15: 140 | BC15: 4F | BD15: 250
D16: 7 | E16: GUIA MONZON, IXCHEL | H16: 2012 | I16: SFE | J16: =L16+N16+P16+R16+T16+V16+X16+Z16+AB16+AD16+AF16+AH16+AJ16+AL16+AN16+AP16+AR16+AT16+AV16+AX16+AZ16+BB16+BD16 -> 1141.25 | K16: SF | L16: 210 | M16: Prom. | N16: 120 | O16: Prom. | P16: 46.25 | AC16: 1 | AD16: 110 | AK16: 2 | AL16: 405 | BC16: 4F | BD16: 250
D17: 8 | E17: CASTELLANO, SOPHIA LIZ | G17: N | H17: 2011 | I17: FET | J17: =L17+N17+P17+R17+T17+V17+X17+Z17+AB17+AD17+AF17+AH17+AJ17+AL17+AN17+AP17+AR17+AT17+AV17+AX17+AZ17+BB17+BD17 -> 1000.055 | K17: 2 | L17: 270 | O17: 2 | P17: 90 | Y17: 4F | Z17: 0.055 | AK17: 4F | AL17: 250 | AO17: SF | AP17: 70 | AU17: SF | AV17: 70 | BC17: 4F | BD17: 250
D18: 9 | E18: SATO, MIA HIROMMI | H18: 2014 | I18: FET | J18: =L18+N18+P18+R18+T18+V18+X18+Z18+AB18+AD18+AF18+AH18+AJ18+AL18+AN18+AP18+AR18+AT18+AV18+AX18+AZ18+BB18+BD18 -> 995.1925 | K18: 4F | L18: 0.165 | M18: 4 | N18: 110 | O18: Prom. | P18: 0.0275 | AC18: 4 | AD18: 55 | AK18: 8F | AL18: 205 | AO18: 1B | AP18: 45 | AS18: SF | AT18: 210 | AU18: 4F | AV18: 55 | BA18: 1B | BB18: 110 | BC18: 8F | BD18: 205
D19: 10 | E19: IGLESIAS, VALENTINA | G19: N | H19: 2011 | I19: MZA | J19: =L19+N19+P19+R19+T19+V19+X19+Z19+AB19+AD19+AF19+AH19+AJ19+AL19+AN19+AP19+AR19+AT19+AV19+AX19+AZ19+BB19+BD19 -> 795.035 | S19: 1 | T19: 110 | Y19: 2B | Z19: 0.035 | AE19: 1 | AF19: 110 | AK19: 1B | AL19: 115 | AM19: 2 | AN19: 90 | AS19: SF | AT19: 210 | BC19: 16F | BD19: 160
D20: 11 | E20: SIALLE, CONSTANTINA | H20: 2013 | I20: SEN | J20: =L20+N20+P20+R20+T20+V20+X20+Z20+AB20+AD20+AF20+AH20+AJ20+AL20+AN20+AP20+AR20+AT20+AV20+AX20+AZ20+BB20+BD20 -> 775 | Q20: 1B | R20: 110 | AG20: 1B | AH20: 90 | AK20: 8F | AL20: 205 | AS20: 4F | AT20: 165 | BC20: 8F | BD20: 205
D21: 12 | E21: OLIVAREZ, ISABELLA | H21: 2014 | I21: SFE | J21: =L21+N21+P21+R21+T21+V21+X21+Z21+AB21+AD21+AF21+AH21+AJ21+AL21+AN21+AP21+AR21+AT21+AV21+AX21+AZ21+BB21+BD21 -> 670 | K21: SF | L21: 210 | Y21: 1B | Z21: 45 | AC21: 3 | AD21: 70 | BA21: SF | BB21: 140 | BC21: 8F | BD21: 205
D22: 13 | E22: TAN, VICTORIA | G22: N | H22: 2011 | I22: FET | J22: =L22+N22+P22+R22+T22+V22+X22+Z22+AB22+AD22+AF22+AH22+AJ22+AL22+AN22+AP22+AR22+AT22+AV22+AX22+AZ22+BB22+BD22 -> 625 | K22: 1B | L22: 135 | O22: 5 | P22: 45 | AK22: 8F | AL22: 205 | AO22: 2B | AP22: 35 | BC22: 8F | BD22: 205
D23: 14 | E23: ACHAVAL FORRAY, ANNA ZOE | H23: 2012 | I23: SEN | J23: =L23+N23+P23+R23+T23+V23+X23+Z23+AB23+AD23+AF23+AH23+AJ23+AL23+AN23+AP23+AR23+AT23+AV23+AX23+AZ23+BB23+BD23 -> 575 | Q23: 2B | R23: 90 | U23: 1B | V23: 55 | AK23: 8F | AL23: 205 | AS23: 1B | AT23: 135 | BC23: 2B | BD23: 90
D24: 15 | E24: CRUZ MUÑOZ, MARTINA | H24: 2013 | I24: FET | J24: =L24+N24+P24+R24+T24+V24+X24+Z24+AB24+AD24+AF24+AH24+AJ24+AL24+AN24+AP24+AR24+AT24+AV24+AX24+AZ24+BB24+BD24 -> 570.025 | M24: 3 | N24: 140 | O24: 4 | P24: 55 | Y24: SF B | Z24: 0.025 | AK24: 4F | AL24: 250 | AO24: 4F | AP24: 55 | AU24: SF | AV24: 70
D25: 16 | E25: GIULIANI ZAENZ, LARA | H25: 2012 | I25: SFE | J25: =L25+N25+P25+R25+T25+V25+X25+Z25+AB25+AD25+AF25+AH25+AJ25+AL25+AN25+AP25+AR25+AT25+AV25+AX25+AZ25+BB25+BD25 -> 530 | K25: SF B | L25: 75 | AC25: 5 | AD25: 45 | AK25: 8F | AL25: 205 | BC25: 8F | BD25: 205
D26: 17 | E26: GALLARDO BERESIARTE, PILAR | H26: 2013 | I26: SAL | J26: =L26+N26+P26+R26+T26+V26+X26+Z26+AB26+AD26+AF26+AH26+AJ26+AL26+AN26+AP26+AR26+AT26+AV26+AX26+AZ26+BB26+BD26 -> 500 | AA26: 3 | AB26: 70 | AG26: 4F | AH26: 110 | AK26: 16F | AL26: 160 | BC26: 16F | BD26: 160
D27: 18 | E27: FRAGAPANE, FRANCESCA | G27: N | H27: 2011 | I27: FBA | J27: =L27+N27+P27+R27+T27+V27+X27+Z27+AB27+AD27+AF27+AH27+AJ27+AL27+AN27+AP27+AR27+AT27+AV27+AX27+AZ27+BB27+BD27 -> 475 | AS27: 2 | AT27: 270 | BC27: 8F | BD27: 205
D28: 19 | E28: GONZALEZ, CATALINA | H28: 2013 | I28: MZA | J28: =L28+N28+P28+R28+T28+V28+X28+Z28+AB28+AD28+AF28+AH28+AJ28+AL28+AN28+AP28+AR28+AT28+AV28+AX28+AZ28+BB28+BD28 -> 400.045 | S28: 4 | T28: 55 | AE28: 4 | AF28: 55 | AM28: 5 | AN28: 0.045 | AS28: 4F | AT28: 165 | AW28: 4 | AX28: 55 | BC28: SF B | BD28: 70
D29: 20 | E29: TOSCANO, DAIANA ANTONELLA | H29: 2013 | I29: SAL | J29: =L29+N29+P29+R29+T29+V29+X29+Z29+AB29+AD29+AF29+AH29+AJ29+AL29+AN29+AP29+AR29+AT29+AV29+AX29+AZ29+BB29+BD29 -> 385 | U29: SF | V29: 70 | AG29: 4F | AH29: 110 | AK29: 8F | AL29: 205
D30: 21 | E30: ECHEGARAY, PIA | H30: 2013 | I30: MZA | J30: =L30+N30+P30+R30+T30+V30+X30+Z30+AB30+AD30+AF30+AH30+AJ30+AL30+AN30+AP30+AR30+AT30+AV30+AX30+AZ30+BB30+BD30 -> 320 | S30: 5 | T30: 45 | AK30: SF B | AL30: 70 | AM30: 4 | AN30: 55 | AS30: 2B | AT30: 105 | AW30: 5 | AX30: 45
D31: 22 | E31: PAREDES, FIORELA | H31: 2012 | I31: SCZ | J31: =L31+N31+P31+R31+T31+V31+X31+Z31+AB31+AD31+AF31+AH31+AJ31+AL31+AN31+AP31+AR31+AT31+AV31+AX31+AZ31+BB31+BD31 -> 310 | W31: 1 | X31: 110 | AK31: 2B | AL31: 90 | AQ31: 1 | AR31: 110
D32: 23 | E32: VERA ARROYO, MIA LUANNA | H32: 2014 | I32: MZA | J32: =L32+N32+P32+R32+T32+V32+X32+Z32+AB32+AD32+AF32+AH32+AJ32+AL32+AN32+AP32+AR32+AT32+AV32+AX32+AZ32+BB32+BD32 -> 270 | AW32: 1 | AX32: 110 | BC32: 16F | BD32: 160
D33: 24 | E33: CEJUDO, LARA | H33: 2012 | I33: MZA | J33: =L33+N33+P33+R33+T33+V33+X33+Z33+AB33+AD33+AF33+AH33+AJ33+AL33+AN33+AP33+AR33+AT33+AV33+AX33+AZ33+BB33+BD33 -> 210 | S33: 3 | T33: 70 | AE33: 3 | AF33: 70 | AM33: 3 | AN33: 70
D34: 25 | E34: MENARES, KIARA ANTONELLA | H34: 2012 | I34: SCZ | J34: =L34+N34+P34+R34+T34+V34+X34+Z34+AB34+AD34+AF34+AH34+AJ34+AL34+AN34+AP34+AR34+AT34+AV34+AX34+AZ34+BB34+BD34 -> 205 | BC34: 8F | BD34: 205
D35: 26 | E35: MOSCA PAREDES, SABRINA JAZMIN | G35: N | H35: 2011 | I35: LIB | J35: =L35+N35+P35+R35+T35+V35+X35+Z35+AB35+AD35+AF35+AH35+AJ35+AL35+AN35+AP35+AR35+AT35+AV35+AX35+AZ35+BB35+BD35 -> 160 | BC35: 16F | BD35: 160
D36: 27 | E36: ALANIZ, ZOE | H36: 2012 | I36: SCZ | J36: =L36+N36+P36+R36+T36+V36+X36+Z36+AB36+AD36+AF36+AH36+AJ36+AL36+AN36+AP36+AR36+AT36+AV36+AX36+AZ36+BB36+BD36 -> 160 | W36: 3 | X36: 70 | AQ36: 2 | AR36: 90
D37: 28 | E37: BOTHIN, AYLIN JOSEFINA | H37: 2013 | I37: LIB | J37: =L37+N37+P37+R37+T37+V37+X37+Z37+AB37+AD37+AF37+AH37+AJ37+AL37+AN37+AP37+AR37+AT37+AV37+AX37+AZ37+BB37+BD37 -> 160 | BC37: 16F | BD37: 160
D38: 29 | E38: CARRIZO JOZAMI, MIA AFELICITA | G38: N | H38: 2011 | I38: SEN | J38: =L38+N38+P38+R38+T38+V38+X38+Z38+AB38+AD38+AF38+AH38+AJ38+AL38+AN38+AP38+AR38+AT38+AV38+AX38+AZ38+BB38+BD38 -> 140 | Q38: SF | R38: 140
D39: 30 | E39: MANSILLA, OLIVIA | H39: 2013 | I39: FET | J39: =L39+N39+P39+R39+T39+V39+X39+Z39+AB39+AD39+AF39+AH39+AJ39+AL39+AN39+AP39+AR39+AT39+AV39+AX39+AZ39+BB39+BD39 -> 125 | Y39: SF B | Z39: 25 | AG39: SF B | AH39: 50 | AO39: SF B | AP39: 25 | AU39: SF B | AV39: 25
D40: 31 | E40: CENTURION SCHNEIDER, LUNA V. | G40: N | H40: 2011 | I40: CHA | J40: =L40+N40+P40+R40+T40+V40+X40+Z40+AB40+AD40+AF40+AH40+AJ40+AL40+AN40+AP40+AR40+AT40+AV40+AX40+AZ40+BB40+BD40 -> 115 | BC40: 1B | BD40: 115
D41: 32 | E41: SARAVIA, SOFIA | G41: N | H41: 2011 | I41: SAL | J41: =L41+N41+P41+R41+T41+V41+X41+Z41+AB41+AD41+AF41+AH41+AJ41+AL41+AN41+AP41+AR41+AT41+AV41+AX41+AZ41+BB41+BD41 -> 115 | U41: 2B | V41: 45 | AG41: 2B | AH41: 70
D42: 33 | E42: FAZIO, VALENTINA | G42: N | H42: 2011 | I42: FET | J42: =L42+N42+P42+R42+T42+V42+X42+Z42+AB42+AD42+AF42+AH42+AJ42+AL42+AN42+AP42+AR42+AT42+AV42+AX42+AZ42+BB42+BD42 -> 90 | M42: 5 | N42: 90
D43: 34 | E43: ARENAS, CLARITA | H43: 2012 | I43: JUJ | J43: =L43+N43+P43+R43+T43+V43+X43+Z43+AB43+AD43+AF43+AH43+AJ43+AL43+AN43+AP43+AR43+AT43+AV43+AX43+AZ43+BB43+BD43 -> 90 | AA43: 2 | AB43: 90
D44: 35 | E44: RETAMAL, AGUSTINA | H44: 2012 | I44: CHI | J44: =L44+N44+P44+R44+T44+V44+X44+Z44+AB44+AD44+AF44+AH44+AJ44+AL44+AN44+AP44+AR44+AT44+AV44+AX44+AZ44+BB44+BD44 -> 70 | AQ44: SF | AR44: 70
D45: 36 | E45: PIRUZI, ALBA ALLEGRA | H45: 2015 | I45: MZA | J45: =L45+N45+P45+R45+T45+V45+X45+Z45+AB45+AD45+AF45+AH45+AJ45+AL45+AN45+AP45+AR45+AT45+AV45+AX45+AZ45+BB45+BD45 -> 70 | AW45: 3 | AX45: 70
D46: 37 | E46: CASTRO LOZANO, DELFINA | G46: N | H46: 2011 | I46: JUJ | J46: =L46+N46+P46+R46+T46+V46+X46+Z46+AB46+AD46+AF46+AH46+AJ46+AL46+AN46+AP46+AR46+AT46+AV46+AX46+AZ46+BB46+BD46 -> 55 | AA46: 4 | AB46: 55
D47: 38 | E47: VERA, CONSTANZA | G47: N | H47: 2011 | I47: CHI | J47: =L47+N47+P47+R47+T47+V47+X47+Z47+AB47+AD47+AF47+AH47+AJ47+AL47+AN47+AP47+AR47+AT47+AV47+AX47+AZ47+BB47+BD47 -> 55 | AQ47: 3Z | AR47: 55
D48: 39 | E48: MONTESINOS, PAULA | H48: 2012 | I48: CHI | J48: =L48+N48+P48+R48+T48+V48+X48+Z48+AB48+AD48+AF48+AH48+AJ48+AL48+AN48+AP48+AR48+AT48+AV48+AX48+AZ48+BB48+BD48 -> 55 | AQ48: 3Z | AR48: 55
D49: 40 | E49: MANSILLA, ALDANA | H49: 2013 | I49: SCZ | J49: =L49+N49+P49+R49+T49+V49+X49+Z49+AB49+AD49+AF49+AH49+AJ49+AL49+AN49+AP49+AR49+AT49+AV49+AX49+AZ49+BB49+BD49 -> 55 | AQ49: 3Z | AR49: 55
D50: 41 | E50: AREPOCO, GISELLA | G50: N | H50: 2011 | I50: FET | J50: =L50+N50+P50+R50+T50+V50+X50+Z50+AB50+AD50+AF50+AH50+AJ50+AL50+AN50+AP50+AR50+AT50+AV50+AX50+AZ50+BB50+BD50 -> 50 | AO50: SF B | AP50: 25 | AU50: SF B | AV50: 25
D51: 42 | E51: PALMERIO, ISABELLA | H51: 2012 | I51: FET | J51: =L51+N51+P51+R51+T51+V51+X51+Z51+AB51+AD51+AF51+AH51+AJ51+AL51+AN51+AP51+AR51+AT51+AV51+AX51+AZ51+BB51+BD51 -> 45 | AU51: 1B | AV51: 45
D52: 43 | E52: DANTUR, JULIETA | H52: 2012 | I52: SAL | J52: =L52+N52+P52+R52+T52+V52+X52+Z52+AB52+AD52+AF52+AH52+AJ52+AL52+AN52+AP52+AR52+AT52+AV52+AX52+AZ52+BB52+BD52 -> 35 | U52: SF B | V52: 35
D53: 44 | E53: SERRANO, SOL | H53: 2014 | I53: FET | J53: =L53+N53+P53+R53+T53+V53+X53+Z53+AB53+AD53+AF53+AH53+AJ53+AL53+AN53+AP53+AR53+AT53+AV53+AX53+AZ53+BB53+BD53 -> 35 | AU53: 2B | AV53: 35

Sheet ID U17
E4: INDIVIDUAL DAMAS U17 | K4: RANKING NACIONAL | TEMPORADA 2026
K5: Grand Prix | M5: Challenger | O5: Regional Abierto | Q5: Challenger | S5: Regional Abierto | U5: Regional Abierto | W5: Regional Abierto | Y5: Regional Abierto | AA5: Regional Abierto | AC5: Regional Abierto | AE5: Regional Abierto | AG5: Challenger | AI5: Regional Abierto | AK5: Nacional | AM5: Regional Abierto | AO5: Regional Abierto | AQ5: Regional Abierto | AS5: Grand Prix | AU5: Regional Abierto | AW5: Regional Abierto | AY5: Regional Abierto | BA5: Challenger | BC5: Abierto de la Rep.
K6: ROSARIO | M6: CHAPADMALAL | O6: FETEMBA | Q6: SANT. DEL ESTERO | S6: MENDOZA | U6: SALTA | W6: TIERRA DEL FUEGO | Y6: FETEMBA | AA6: JUJUY | AC6: SANTA FE | AE6: MENDOZA | AG6: SALTA | AI6: NEUQUÉN | AK6: SANTA FE | AM6: MENDOZA | AO6: FETEMBA | AQ6: SANTA CRUZ | AS6: MENDOZA | AU6: FETEMBA | AW6: MENDOZA | AY6: RIO NEGRO | BA6: ROSARIO | BC6: BUENOS AIRES
K7: 7 A 9 FEB 2025 | M7: 2 A 4 MAR 2025 | O7: 29 Y 30 MAR 2025 | Q7: 11 A 13 ABR 2025 | S7: 26 Y 27 ABR 2025 | U7: 26 Y 27 ABR 2025 | W7: 04 MAY 2025 | Y7: 10 Y 11 MAY 2025 | AA7: 24 Y 25 MAY 2025 | AC7: 31 MAY Y 1 JUN 2025 | AE7: 7 Y 8 JUN 2025 | AG7: 14 A 16 JUN 2025 | AI7: 21 Y 22 JUN 2025 | AK7: 9 A 13 JUL 2025 | AM7: 9 Y 10 AGO 2025 | AO7: 15 AGO 2025 | AQ7: 15 A 17 AGO 2025 | AS7: 5 A 7 SEP 2025 | AU7: 27 Y 28 SEP 2025 | AW7: 4 Y 5 OCT 2025 | AY7: 11 Y 12 OCT 2025 | BA7: 17 A 19 OCT 2025 | BC7: 21 A 24 NOV 2025
D8: POS. | E8: ATLETA | F8: DNI | G8: Fecha de Nacimiento | H8: CAT. | I8: ASOC. | J8: TOTAL | K8: Pos. | L8: Ptos. | M8: Pos. | N8: Ptos. | O8: Pos. | P8: Ptos. | Q8: Pos. | R8: Ptos. | S8: Pos. | T8: Ptos. | U8: Pos. | V8: Ptos. | W8: Pos. | X8: Ptos. | Y8: Pos. | Z8: Ptos. | AA8: Pos. | AB8: Ptos. | AC8: Pos. | AD8: Ptos. | AE8: Pos. | AF8: Ptos. | AG8: Pos. | AH8: Ptos. | AI8: Pos. | AJ8: Ptos. | AK8: Pos. | AL8: Ptos. | AM8: Pos. | AN8: Ptos. | AO8: Pos. | AP8: Ptos. | AQ8: Pos. | AR8: Ptos. | AS8: Pos. | AT8: Ptos. | AU8: Pos. | AV8: Ptos. | AW8: Pos. | AX8: Ptos. | AY8: Pos. | AZ8: Ptos. | BA8: Pos. | BB8: Ptos. | BC8: Pos. | BD8: Ptos.
D10: 1 | E10: PEREZ MAZZARELLO, JULIA | H10: 2009 | I10: FET | J10: =L10+N10+P10+R10+T10+V10+X10+Z10+AB10+AD10+AF10+AH10+AJ10+AL10+AN10+AP10+AR10+AT10+AV10+AX10+AZ10+BB10+BD10 -> 1160 | K10: SF | L10: 210 | O10: 2 | P10: 90 | AK10: 2 | AL10: 405 | BA10: 3 | BB10: 140 | BC10: SF | BD10: 315
D11: 2 | E11: PALAMEDI, UMA | H11: 2010 | I11: SFE | J11: =L11+N11+P11+R11+T11+V11+X11+Z11+AB11+AD11+AF11+AH11+AJ11+AL11+AN11+AP11+AR11+AT11+AV11+AX11+AZ11+BB11+BD11 -> 665 | K11: Prom. | L11: 105 | AO11: 2 | AP11: 90 | BA11: 1 | BB11: 220 | BC11: 4F | BD11: 250
D12: 3 | E12: BENITEZ TOME, MARTINA | H12: 2010 | I12: COR | J12: =L12+N12+P12+R12+T12+V12+X12+Z12+AB12+AD12+AF12+AH12+AJ12+AL12+AN12+AP12+AR12+AT12+AV12+AX12+AZ12+BB12+BD12 -> 575 | K12: 4Z | L12: 165 | AK12: 3Z | AL12: 205 | BC12: 3Z | BD12: 205
D13: 4 | E13: GITELMAN, LORENA | H13: 2009 | I13: FET | J13: =L13+N13+P13+R13+T13+V13+X13+Z13+AB13+AD13+AF13+AH13+AJ13+AL13+AN13+AP13+AR13+AT13+AV13+AX13+AZ13+BB13+BD13 -> 550 | K13: 1 | L13: 330 | O13: 1 | P13: 110 | AO13: 1 | AP13: 110
D14: 5 | E14: VELAZQUEZ, IRUPE | H14: 2009 | I14: SFE | J14: =L14+N14+P14+R14+T14+V14+X14+Z14+AB14+AD14+AF14+AH14+AJ14+AL14+AN14+AP14+AR14+AT14+AV14+AX14+AZ14+BB14+BD14 -> 525 | K14: 3Z | L14: 165 | AK14: 4F | AL14: 250 | BA14: 4 | BB14: 110
D15: 6 | E15: GUIA MONZON, IXCHEL | H15: 2012 | I15: SFE | J15: =L15+N15+P15+R15+T15+V15+X15+Z15+AB15+AD15+AF15+AH15+AJ15+AL15+AN15+AP15+AR15+AT15+AV15+AX15+AZ15+BB15+BD15 -> 495 | BC15: 1 | BD15: 495
D16: 6 | E16: LOPEZ AUAT, MALENA | H16: 2009 | I16: SEN | J16: =L16+N16+P16+R16+T16+V16+X16+Z16+AB16+AD16+AF16+AH16+AJ16+AL16+AN16+AP16+AR16+AT16+AV16+AX16+AZ16+BB16+BD16 -> 495 | AK16: 1 | AL16: 495
D17: 8 | E17: FERRI, DELFINA | H17: 2010 | I17: SFE | J17: =L17+N17+P17+R17+T17+V17+X17+Z17+AB17+AD17+AF17+AH17+AJ17+AL17+AN17+AP17+AR17+AT17+AV17+AX17+AZ17+BB17+BD17 -> 480 | K17: 3Z | L17: 165 | AK17: SF | AL17: 315
D18: 9 | E18: PEREZ MAZZARELLO, MALENA | H18: 2011 | I18: FET | J18: =L18+N18+P18+R18+T18+V18+X18+Z18+AB18+AD18+AF18+AH18+AJ18+AL18+AN18+AP18+AR18+AT18+AV18+AX18+AZ18+BB18+BD18 -> 450 | K18: 2 | L18: 270 | BA18: 2 | BB18: 180
D19: 10 | E19: VELASQUEZ, ARIANA | H19: 2009 | I19: TDF | J19: =L19+N19+P19+R19+T19+V19+X19+Z19+AB19+AD19+AF19+AH19+AJ19+AL19+AN19+AP19+AR19+AT19+AV19+AX19+AZ19+BB19+BD19 -> 430 | W19: 2 | X19: 90 | AQ19: 2 | AR19: 90 | BC19: 4F | BD19: 250
D20: 11 | E20: TAN, VICTORIA | H20: 2011 | I20: FET | J20: =L20+N20+P20+R20+T20+V20+X20+Z20+AB20+AD20+AF20+AH20+AJ20+AL20+AN20+AP20+AR20+AT20+AV20+AX20+AZ20+BB20+BD20 -> 415 | K20: 4Z | L20: 165 | AK20: 4F | AL20: 250
D21: 12 | E21: ROJAS, MAYA | H21: 2010 | I21: URU | J21: =L21+N21+P21+R21+T21+V21+X21+Z21+AB21+AD21+AF21+AH21+AJ21+AL21+AN21+AP21+AR21+AT21+AV21+AX21+AZ21+BB21+BD21 -> 405 | BC21: 2 | BD21: 405
D22: 13 | E22: VALERIO, GEMMA | H22: 2011 | I22: SAL | J22: =L22+N22+P22+R22+T22+V22+X22+Z22+AB22+AD22+AF22+AH22+AJ22+AL22+AN22+AP22+AR22+AT22+AV22+AX22+AZ22+BB22+BD22 -> 315 | AK22: SF | AL22: 315
D23: 14 | E23: ASTORGA MELIN, ABRIL AYMARA | H23: 2010 | I23: SCZ | J23: =L23+N23+P23+R23+T23+V23+X23+Z23+AB23+AD23+AF23+AH23+AJ23+AL23+AN23+AP23+AR23+AT23+AV23+AX23+AZ23+BB23+BD23 -> 315 | W23: 4 | X23: 55 | AK23: 3Z | AL23: 205 | AQ23: 3Z | AR23: 55
D24: 15 | E24: MOSCA PAREDES, SABRINA JAZMIN | H24: 2011 | I24: LIB | J24: =L24+N24+P24+R24+T24+V24+X24+Z24+AB24+AD24+AF24+AH24+AJ24+AL24+AN24+AP24+AR24+AT24+AV24+AX24+AZ24+BB24+BD24 -> 250 | BC24: 4F | BD24: 250
D25: 15 | E25: QUIROGA MONTENEGRO, KYARA | H25: 2010 | I25: FET | J25: =L25+N25+P25+R25+T25+V25+X25+Z25+AB25+AD25+AF25+AH25+AJ25+AL25+AN25+AP25+AR25+AT25+AV25+AX25+AZ25+BB25+BD25 -> 250 | AK25: 4F | AL25: 250
D26: 15 | E26: IGLESIAS, VALENTINA | H26: 2011 | I26: MZA | J26: =L26+N26+P26+R26+T26+V26+X26+Z26+AB26+AD26+AF26+AH26+AJ26+AL26+AN26+AP26+AR26+AT26+AV26+AX26+AZ26+BB26+BD26 -> 250 | AK26: 4F | AL26: 250
D27: 18 | E27: FRAGAPANE, FRANCESCA | H27: 2011 | I27: FBA | J27: =L27+N27+P27+R27+T27+V27+X27+Z27+AB27+AD27+AF27+AH27+AJ27+AL27+AN27+AP27+AR27+AT27+AV27+AX27+AZ27+BB27+BD27 -> 210 | AS27: SF | AT27: 210
D28: 18 | E28: CASTELLANO, SOPHIA LIZ | H28: 2011 | I28: FET | J28: =L28+N28+P28+R28+T28+V28+X28+Z28+AB28+AD28+AF28+AH28+AJ28+AL28+AN28+AP28+AR28+AT28+AV28+AX28+AZ28+BB28+BD28 -> 210 | K28: SF | L28: 210
D29: 20 | E29: GORRI, AMIRA | H29: 2009 | I29: NQN | J29: =L29+N29+P29+R29+T29+V29+X29+Z29+AB29+AD29+AF29+AH29+AJ29+AL29+AN29+AP29+AR29+AT29+AV29+AX29+AZ29+BB29+BD29 -> 205 | BC29: 3Z | BD29: 205
D30: 20 | E30: BOTHIN, GERLADINE | H30: 2010 | I30: SCZ | J30: =L30+N30+P30+R30+T30+V30+X30+Z30+AB30+AD30+AF30+AH30+AJ30+AL30+AN30+AP30+AR30+AT30+AV30+AX30+AZ30+BB30+BD30 -> 205 | BC30: 3Z | BD30: 205
D31: 20 | E31: CENTURION SCHNEIDER, LUNA V. | H31: 2011 | I31: CHA | J31: =L31+N31+P31+R31+T31+V31+X31+Z31+AB31+AD31+AF31+AH31+AJ31+AL31+AN31+AP31+AR31+AT31+AV31+AX31+AZ31+BB31+BD31 -> 205 | BC31: 3Z | BD31: 205
D32: 23 | E32: SOTO, MICAELA AGOSTINA | H32: 2009 | I32: SCZ | J32: =L32+N32+P32+R32+T32+V32+X32+Z32+AB32+AD32+AF32+AH32+AJ32+AL32+AN32+AP32+AR32+AT32+AV32+AX32+AZ32+BB32+BD32 -> 205 | BC32: 4Z | BD32: 205
D33: 24 | E33: IPPOLITI, PAULINA | H33: 2010 | I33: MZA | J33: =L33+N33+P33+R33+T33+V33+X33+Z33+AB33+AD33+AF33+AH33+AJ33+AL33+AN33+AP33+AR33+AT33+AV33+AX33+AZ33+BB33+BD33 -> 165 | AS33: 3Z | AT33: 165
D34: 25 | E34: GONZALEZ, EVELYN | H34: 2009 | I34: TDF | J34: =L34+N34+P34+R34+T34+V34+X34+Z34+AB34+AD34+AF34+AH34+AJ34+AL34+AN34+AP34+AR34+AT34+AV34+AX34+AZ34+BB34+BD34 -> 140 | W34: 3 | X34: 70 | AQ34: SF | AR34: 70
D35: 26 | E35: NIETO, FLORENCIA | H35: 2009 | I35: CHI | J35: =L35+N35+P35+R35+T35+V35+X35+Z35+AB35+AD35+AF35+AH35+AJ35+AL35+AN35+AP35+AR35+AT35+AV35+AX35+AZ35+BB35+BD35 -> 70 | AQ35: SF | AR35: 70
D36: 27 | E36: CENDRA, VALENTINA | H36: 2010 | I36: FET | J36: =L36+N36+P36+R36+T36+V36+X36+Z36+AB36+AD36+AF36+AH36+AJ36+AL36+AN36+AP36+AR36+AT36+AV36+AX36+AZ36+BB36+BD36 -> 70 | AO36: 3 | AP36: 70
D37: 28 | E37: SALPETER, LUANA | H37: 2012 | I37: FET | J37: =L37+N37+P37+R37+T37+V37+X37+Z37+AB37+AD37+AF37+AH37+AJ37+AL37+AN37+AP37+AR37+AT37+AV37+AX37+AZ37+BB37+BD37 -> 13.75 | O37: Prom. | P37: 13.75

Sheet ID U19
E4: INDIVIDUAL DAMAS U19 | K4: RANKING NACIONAL | TEMPORADA 2026
K5: Grand Prix | M5: Challenger | O5: Regional Abierto | Q5: Challenger | S5: Regional Abierto | U5: Regional Abierto | W5: Regional Abierto | Y5: Regional Abierto | AA5: Regional Abierto | AC5: Regional Abierto | AE5: Regional Abierto | AG5: Challenger | AI5: Regional Abierto | AK5: Nacional | AM5: Regional Abierto | AO5: Regional Abierto | AQ5: Regional Abierto | AS5: Grand Prix | AU5: Regional Abierto | AW5: Regional Abierto | AY5: Regional Abierto | BA5: Challenger | BC5: Abierto de la Rep.
K6: ROSARIO | M6: CHAPADMALAL | O6: FETEMBA | Q6: SANT. DEL ESTERO | S6: MENDOZA | U6: SALTA | W6: TIERRA DEL FUEGO | Y6: FETEMBA | AA6: JUJUY | AC6: SANTA FE | AE6: MENDOZA | AG6: SALTA | AI6: NEUQUÉN | AK6: SANTA FE | AM6: MENDOZA | AO6: FETEMBA | AQ6: SANTA CRUZ | AS6: MENDOZA | AU6: FETEMBA | AW6: MENDOZA | AY6: RIO NEGRO | BA6: ROSARIO | BC6: BUENOS AIRES
K7: 7 A 9 FEB 2025 | M7: 2 A 4 MAR 2025 | O7: 29 Y 30 MAR 2025 | Q7: 11 A 13 ABR 2025 | S7: 26 Y 27 ABR 2025 | U7: 26 Y 27 ABR 2025 | W7: 04 MAY 2025 | Y7: 10 Y 11 MAY 2025 | AA7: 24 Y 25 MAY 2025 | AC7: 31 MAY Y 1 JUN 2025 | AE7: 7 Y 8 JUN 2025 | AG7: 14 A 16 JUN 2025 | AI7: 21 Y 22 JUN 2025 | AK7: 9 A 13 JUL 2025 | AM7: 9 Y 10 AGO 2025 | AO7: 15 AGO 2025 | AQ7: 15 A 17 AGO 2025 | AS7: 5 A 7 SEP 2025 | AU7: 27 Y 28 SEP 2025 | AW7: 4 Y 5 OCT 2025 | AY7: 11 Y 12 OCT 2025 | BA7: 17 A 19 OCT 2025 | BC7: 21 A 24 NOV 2025
D8: POS. | E8: ATLETA | F8: DNI | G8: Fecha de Nacimiento | H8: CAT. | I8: ASOC. | J8: TOTAL | K8: Pos. | L8: Ptos. | M8: Pos. | N8: Ptos. | O8: Pos. | P8: Ptos. | Q8: Pos. | R8: Ptos. | S8: Pos. | T8: Ptos. | U8: Pos. | V8: Ptos. | W8: Pos. | X8: Ptos. | Y8: Pos. | Z8: Ptos. | AA8: Pos. | AB8: Ptos. | AC8: Pos. | AD8: Ptos. | AE8: Pos. | AF8: Ptos. | AG8: Pos. | AH8: Ptos. | AI8: Pos. | AJ8: Ptos. | AK8: Pos. | AL8: Ptos. | AM8: Pos. | AN8: Ptos. | AO8: Pos. | AP8: Ptos. | AQ8: Pos. | AR8: Ptos. | AS8: Pos. | AT8: Ptos. | AU8: Pos. | AV8: Ptos. | AW8: Pos. | AX8: Ptos. | AY8: Pos. | AZ8: Ptos. | BA8: Pos. | BB8: Ptos. | BC8: Pos. | BD8: Ptos.
D10: 1 | E10: FRIAS PAZ, LUCIANA GABRIELA | H10: 2010 | I10: SEN | J10: =L10+N10+P10+R10+T10+V10+X10+Z10+AB10+AD10+AF10+AH10+AJ10+AL10+AN10+AP10+AR10+AT10+AV10+AX10+AZ10+BB10+BD10 -> 2000.67 | K10: Prom. | L10: 0.27 | Q10: 1 | R10: 0.22 | U10: 2 | V10: 0.09 | Y10: 1 | Z10: 110 | AE10: 1 | AF10: 110 | AG10: 1 | AH10: 220 | AK10: 2 | AL10: 405 | AO10: 1 | AP10: 110 | AS10: 1 | AT10: 330 | AU10: 2 | AV10: 0.09 | BA10: 1 | BB10: 220 | BC10: 1 | BD10: 495
D11: 2 | E11: SHAHMURADYAN, MARIAM | H11: 2008 | I11: FET | J11: =L11+N11+P11+R11+T11+V11+X11+Z11+AB11+AD11+AF11+AH11+AJ11+AL11+AN11+AP11+AR11+AT11+AV11+AX11+AZ11+BB11+BD11 -> 1215 | M11: 1 | N11: 220 | AC11: 1 | AD11: 110 | AK11: SF | AL11: 315 | AO11: 4F | AP11: 55 | AU11: 1 | AV11: 110 | BC11: 2 | BD11: 405
D12: 3 | E12: GIMENEZ, MALENA | H12: 2010 | I12: JUJ | J12: =L12+N12+P12+R12+T12+V12+X12+Z12+AB12+AD12+AF12+AH12+AJ12+AL12+AN12+AP12+AR12+AT12+AV12+AX12+AZ12+BB12+BD12 -> 1150 | K12: Prom. | L12: 270 | M12: Prom. | N12: 180 | U12: SF | V12: 70 | Y12: 4F | Z12: 55 | AG12: 3Z | AH12: 110 | AK12: 8F | AL12: 205 | AO12: 4F | AP12: 55 | BC12: 8F | BD12: 205
D13: 4 | E13: JANDULA, AMBAR | H13: 2009 | I13: SAL | J13: =L13+N13+P13+R13+T13+V13+X13+Z13+AB13+AD13+AF13+AH13+AJ13+AL13+AN13+AP13+AR13+AT13+AV13+AX13+AZ13+BB13+BD13 -> 1096.25 | K13: Prom. | L13: 161.25 | Q13: 2 | R13: 180 | U13: 1 | V13: 110 | AG13: 2 | AH13: 180 | AK13: 8F | AL13: 205 | AO13: 4F | AP13: 55 | BC13: 8F | BD13: 205
D14: 5 | E14: PEREZ ERASO, GIULIANA | H14: 2008 | I14: MZA | J14: =L14+N14+P14+R14+T14+V14+X14+Z14+AB14+AD14+AF14+AH14+AJ14+AL14+AN14+AP14+AR14+AT14+AV14+AX14+AZ14+BB14+BD14 -> 1017.87 | K14: Prom. | L14: 142.5 | S14: 2 | T14: 0.09 | Y14: 4F | Z14: 0.055 | AE14: 2 | AF14: 0.09 | AG14: 3Z | AH14: 110 | AK14: 8F | AL14: 205 | AM14: 1 | AN14: 110 | AO14: 2 | AP14: 90 | AS14: 3Z | AT14: 0.135 | AW14: 1 | AX14: 110 | BC14: 4F | BD14: 250
D15: 6 | E15: PEREZ MAZZARELLO, JULIA | H15: 2009 | I15: FET | J15: =L15+N15+P15+R15+T15+V15+X15+Z15+AB15+AD15+AF15+AH15+AJ15+AL15+AN15+AP15+AR15+AT15+AV15+AX15+AZ15+BB15+BD15 -> 940 | K15: 3 | L15: 210 | O15: 2B | P15: 45 | Y15: SF B | Z15: 25 | AK15: 3Z | AL15: 160 | AU15: 1B | AV15: 45 | BA15: SF | BB15: 140 | BC15: SF | BD15: 315
D16: 7 | E16: SALUSSO, ALEXIA | H16: 2011 | I16: FET | J16: =L16+N16+P16+R16+T16+V16+X16+Z16+AB16+AD16+AF16+AH16+AJ16+AL16+AN16+AP16+AR16+AT16+AV16+AX16+AZ16+BB16+BD16 -> 890 | K16: 2 | L16: 270 | AK16: 4F | AL16: 250 | AO16: 4F | AP16: 55 | BC16: SF | BD16: 315
D17: 8 | E17: LOPEZ AUAT, MALENA | H17: 2009 | I17: SEN | J17: =L17+N17+P17+R17+T17+V17+X17+Z17+AB17+AD17+AF17+AH17+AJ17+AL17+AN17+AP17+AR17+AT17+AV17+AX17+AZ17+BB17+BD17 -> 875 | Q17: 4 | R17: 110 | U17: SF B | V17: 35 | AG17: 4Z | AH17: 110 | AK17: 8F | AL17: 205 | AS17: SF | AT17: 210 | BC17: 8F | BD17: 205
D18: 9 | E18: GUARDIA, MARIA VICTORIA | H18: 2011 | I18: SAL | J18: =L18+N18+P18+R18+T18+V18+X18+Z18+AB18+AD18+AF18+AH18+AJ18+AL18+AN18+AP18+AR18+AT18+AV18+AX18+AZ18+BB18+BD18 -> 865 | Q18: 3 | R18: 140 | U18: 1B | V18: 55 | AG18: SF | AH18: 140 | AO18: SF | AP18: 70 | AS18: SF | AT18: 210 | BC18: 4F | BD18: 250
D19: 10 | E19: PALAMEDI, UMA | H19: 2010 | I19: SFE | J19: =L19+N19+P19+R19+T19+V19+X19+Z19+AB19+AD19+AF19+AH19+AJ19+AL19+AN19+AP19+AR19+AT19+AV19+AX19+AZ19+BB19+BD19 -> 842.5 | K19: Prom. | L19: 52.5 | M19: 3 | N19: 140 | Y19: 2B | Z19: 35 | AC19: 3 | AD19: 70 | AK19: 8F | AL19: 205 | AO19: 2B | AP19: 25 | BA19: 3Z | BB19: 110 | BC19: 8F | BD19: 205
D20: 11 | E20: AGUILAR IKEDA, JUSTINA MAYUMI | H20: 2008 | I20: FET | J20: =L20+N20+P20+R20+T20+V20+X20+Z20+AB20+AD20+AF20+AH20+AJ20+AL20+AN20+AP20+AR20+AT20+AV20+AX20+AZ20+BB20+BD20 -> 797.535 | O20: 1 | P20: 110 | Y20: SF | Z20: 70 | AK20: 8F | AL20: 205 | AO20: 1B | AP20: 0.035 | AS20: Prom. | AT20: 202.5 | AU20: SF | AV20: 70 | BA20: SF | BB20: 140
D21: 12 | E21: GITELMAN, LORENA | H21: 2009 | I21: FET | J21: =L21+N21+P21+R21+T21+V21+X21+Z21+AB21+AD21+AF21+AH21+AJ21+AL21+AN21+AP21+AR21+AT21+AV21+AX21+AZ21+BB21+BD21 -> 720 | K21: 1 | L21: 330 | O21: SF | P21: 70 | Y21: SF | Z21: 70 | AK21: 8F | AL21: 205 | AO21: 8F | AP21: 45
D22: 13 | E22: TAKAHASHI, BRISA | H22: 2008 | I22: FET | J22: =L22+N22+P22+R22+T22+V22+X22+Z22+AB22+AD22+AF22+AH22+AJ22+AL22+AN22+AP22+AR22+AT22+AV22+AX22+AZ22+BB22+BD22 -> 600.045 | M22: 2 | N22: 180 | O22: 2 | P22: 90 | Y22: 1B | Z22: 0.045 | AK22: 8F | AL22: 205 | AO22: SF | AP22: 70 | AU22: 4F | AV22: 55
D23: 14 | E23: VALERIO, GEMMA | H23: 2011 | I23: SAL | J23: =L23+N23+P23+R23+T23+V23+X23+Z23+AB23+AD23+AF23+AH23+AJ23+AL23+AN23+AP23+AR23+AT23+AV23+AX23+AZ23+BB23+BD23 -> 570 | Q23: 5 | R23: 90 | U23: 2B | V23: 45 | AG23: SF | AH23: 140 | AO23: 8F | AP23: 45 | BC23: 4F | BD23: 250
D24: 15 | E24: CIAMBELLA, GIULIANA | H24: 2008 | I24: MZA | J24: =L24+N24+P24+R24+T24+V24+X24+Z24+AB24+AD24+AF24+AH24+AJ24+AL24+AN24+AP24+AR24+AT24+AV24+AX24+AZ24+BB24+BD24 -> 555 | S24: SF | T24: 70 | AE24: 3 | AF24: 70 | AK24: 3Z | AL24: 160 | AM24: 2 | AN24: 90 | AS24: 4F | AT24: 165
D25: 16 | E25: IGLESIAS, VALENTINA | H25: 2011 | I25: MZA | J25: =L25+N25+P25+R25+T25+V25+X25+Z25+AB25+AD25+AF25+AH25+AJ25+AL25+AN25+AP25+AR25+AT25+AV25+AX25+AZ25+BB25+BD25 -> 525.08 | S25: SF | T25: 70 | Y25: SF B | Z25: 0.025 | AE25: 4 | AF25: 0.055 | AM25: 3 | AN25: 70 | AS25: 4Z | AT25: 135 | AW25: 2 | AX25: 90 | BC25: 16F | BD25: 160
D26: 17 | E26: VELAZQUEZ, IRUPE | H26: 2009 | I26: SFE | J26: =L26+N26+P26+R26+T26+V26+X26+Z26+AB26+AD26+AF26+AH26+AJ26+AL26+AN26+AP26+AR26+AT26+AV26+AX26+AZ26+BB26+BD26 -> 490 | K26: 4 | L26: 165 | AC26: 4 | AD26: 55 | AK26: 3Z | AL26: 160 | BA26: 4Z | BB26: 110
D27: 18 | E27: CASTELLANO, SOPHIA LIZ | H27: 2011 | I27: FET | J27: =L27+N27+P27+R27+T27+V27+X27+Z27+AB27+AD27+AF27+AH27+AJ27+AL27+AN27+AP27+AR27+AT27+AV27+AX27+AZ27+BB27+BD27 -> 485.02 | O27: 1B | P27: 55 | Y27: 4F | Z27: 55 | AK27: 3Z | AL27: 160 | AO27: SF B | AP27: 0.02 | AU27: 4F | AV27: 55 | BC27: 16F | BD27: 160
D28: 19 | E28: ALAMO, VALENTINA | G28: N | H28: 2007 | I28: LIB | J28: =L28+N28+P28+R28+T28+V28+X28+Z28+AB28+AD28+AF28+AH28+AJ28+AL28+AN28+AP28+AR28+AT28+AV28+AX28+AZ28+BB28+BD28 -> 480 | W28: 1 | X28: 110 | AS28: 4F | AT28: 165 | BC28: 8F | BD28: 205
D29: 20 | E29: MAEHAMA, TRINIDAD | H29: 2012 | I29: FET | J29: =L29+N29+P29+R29+T29+V29+X29+Z29+AB29+AD29+AF29+AH29+AJ29+AL29+AN29+AP29+AR29+AT29+AV29+AX29+AZ29+BB29+BD29 -> 455 | AU29: SF | AV29: 70 | BA29: 2 | BB29: 180 | BC29: 8F | BD29: 205
D30: 21 | E30: PEREZ MAZZARELLO, MALENA | H30: 2011 | I30: FET | J30: =L30+N30+P30+R30+T30+V30+X30+Z30+AB30+AD30+AF30+AH30+AJ30+AL30+AN30+AP30+AR30+AT30+AV30+AX30+AZ30+BB30+BD30 -> 430.045 | O30: SF | P30: 70 | Y30: 4F | Z30: 55 | AK30: 4F | AL30: 250 | AO30: 8F | AP30: 0.045 | AU30: 4F | AV30: 55
D31: 22 | E31: PAREDES, LUANA | H31: 2008 | I31: LIB | J31: =L31+N31+P31+R31+T31+V31+X31+Z31+AB31+AD31+AF31+AH31+AJ31+AL31+AN31+AP31+AR31+AT31+AV31+AX31+AZ31+BB31+BD31 -> 430 | W31: 2 | X31: 90 | AQ31: 2 | AR31: 90 | AS31: 3Z | AT31: 135 | BC31: 3Z | BD31: 115
D32: 23 | E32: SALPETER, LUANA | H32: 2012 | I32: FET | J32: =L32+N32+P32+R32+T32+V32+X32+Z32+AB32+AD32+AF32+AH32+AJ32+AL32+AN32+AP32+AR32+AT32+AV32+AX32+AZ32+BB32+BD32 -> 390 | AO32: SF B | AP32: 20 | AU32: 4F | AV32: 55 | BA32: 4Z | BB32: 110 | BC32: 8F | BD32: 205
D33: 24 | E33: IPPOLITI, PAULINA | H33: 2010 | I33: MZA | J33: =L33+N33+P33+R33+T33+V33+X33+Z33+AB33+AD33+AF33+AH33+AJ33+AL33+AN33+AP33+AR33+AT33+AV33+AX33+AZ33+BB33+BD33 -> 385 | AE33: 5 | AF33: 45 | AM33: 5 | AN33: 45 | AW33: 3 | AX33: 70 | BA33: 3Z | BB33: 110 | BC33: 3Z | BD33: 115
D34: 25 | E34: SARTOR, AGOSTINA | H34: 2008 | I34: FET | J34: =L34+N34+P34+R34+T34+V34+X34+Z34+AB34+AD34+AF34+AH34+AJ34+AL34+AN34+AP34+AR34+AT34+AV34+AX34+AZ34+BB34+BD34 -> 310 | AK34: 3Z | AL34: 160 | AU34: 2B | AV34: 35 | BC34: 3Z | BD34: 115
D35: 26 | E35: PEREZ MAZZARELLO, MALENA | H35: 2011 | I35: FET | J35: =L35+N35+P35+R35+T35+V35+X35+Z35+AB35+AD35+AF35+AH35+AJ35+AL35+AN35+AP35+AR35+AT35+AV35+AX35+AZ35+BB35+BD35 -> 295 | AO35: 8F | AP35: 45 | BC35: 4F | BD35: 250
D36: 27 | E36: VELASQUEZ, ARIANA | H36: 2009 | I36: TDF | J36: =L36+N36+P36+R36+T36+V36+X36+Z36+AB36+AD36+AF36+AH36+AJ36+AL36+AN36+AP36+AR36+AT36+AV36+AX36+AZ36+BB36+BD36 -> 140 | W36: SF | X36: 70 | AQ36: SF | AR36: 70
D37: 28 | E37: CARDENAS AGUILAR, DIANA IGNACIA | H37: 2008 | I37: LIB | J37: =L37+N37+P37+R37+T37+V37+X37+Z37+AB37+AD37+AF37+AH37+AJ37+AL37+AN37+AP37+AR37+AT37+AV37+AX37+AZ37+BB37+BD37 -> 115 | BC37: 3Z | BD37: 115
D38: 29 | E38: SOTO, MICAELA AGOSTINA | H38: 2009 | I38: LIB | J38: =L38+N38+P38+R38+T38+V38+X38+Z38+AB38+AD38+AF38+AH38+AJ38+AL38+AN38+AP38+AR38+AT38+AV38+AX38+AZ38+BB38+BD38 -> 115 | BC38: 3Z | BD38: 115
D39: 30 | E39: BENITEZ TOME, MARTINA | H39: 2010 | I39: COR | J39: =L39+N39+P39+R39+T39+V39+X39+Z39+AB39+AD39+AF39+AH39+AJ39+AL39+AN39+AP39+AR39+AT39+AV39+AX39+AZ39+BB39+BD39 -> 115 | BC39: 3Z | BD39: 115
D40: 31 | E40: FRAGAPANE, FRANCESCA | H40: 2011 | I40: FBA | J40: =L40+N40+P40+R40+T40+V40+X40+Z40+AB40+AD40+AF40+AH40+AJ40+AL40+AN40+AP40+AR40+AT40+AV40+AX40+AZ40+BB40+BD40 -> 115 | BC40: 3Z | BD40: 115
D41: 32 | E41: GOMEZ, MARIA LUJAN | H41: 2009 | I41: FBA | J41: =L41+N41+P41+R41+T41+V41+X41+Z41+AB41+AD41+AF41+AH41+AJ41+AL41+AN41+AP41+AR41+AT41+AV41+AX41+AZ41+BB41+BD41 -> 110 | M41: 4 | N41: 110
D42: 33 | E42: GONZALEZ, EVELYN | H42: 2009 | I42: TDF | J42: =L42+N42+P42+R42+T42+V42+X42+Z42+AB42+AD42+AF42+AH42+AJ42+AL42+AN42+AP42+AR42+AT42+AV42+AX42+AZ42+BB42+BD42 -> 110 | W42: 3Z | X42: 55 | AQ42: 3Z | AR42: 55
D43: 34 | E43: CACERES, ISABELLA | H43: 2012 | I43: RNG | J43: =L43+N43+P43+R43+T43+V43+X43+Z43+AB43+AD43+AF43+AH43+AJ43+AL43+AN43+AP43+AR43+AT43+AV43+AX43+AZ43+BB43+BD43 -> 110 | AY43: 1 | AZ43: 110
D44: 35 | E44: LORENZO, ORIANA | H44: 2008 | I44: LPA | J44: =L44+N44+P44+R44+T44+V44+X44+Z44+AB44+AD44+AF44+AH44+AJ44+AL44+AN44+AP44+AR44+AT44+AV44+AX44+AZ44+BB44+BD44 -> 90 | AY44: 2 | AZ44: 90
D45: 36 | E45: GUIA MONZON, IXCHEL | H45: 2012 | I45: SFE | J45: =L45+N45+P45+R45+T45+V45+X45+Z45+AB45+AD45+AF45+AH45+AJ45+AL45+AN45+AP45+AR45+AT45+AV45+AX45+AZ45+BB45+BD45 -> 90 | AC45: 2 | AD45: 90
D46: 37 | E46: MUÑOZ CONSTANZO, VALENTINA SOLEDAD | G46: N | H46: 2007 | I46: SCZ | J46: =L46+N46+P46+R46+T46+V46+X46+Z46+AB46+AD46+AF46+AH46+AJ46+AL46+AN46+AP46+AR46+AT46+AV46+AX46+AZ46+BB46+BD46 -> 70 | W46: SF | X46: 70
D47: 38 | E47: FIGUEROA, CHABELI | H47: 2009 | I47: LPA | J47: =L47+N47+P47+R47+T47+V47+X47+Z47+AB47+AD47+AF47+AH47+AJ47+AL47+AN47+AP47+AR47+AT47+AV47+AX47+AZ47+BB47+BD47 -> 70 | AY47: 3 | AZ47: 70
D48: 39 | E48: NIETO, FLORENCIA | H48: 2009 | I48: CHI | J48: =L48+N48+P48+R48+T48+V48+X48+Z48+AB48+AD48+AF48+AH48+AJ48+AL48+AN48+AP48+AR48+AT48+AV48+AX48+AZ48+BB48+BD48 -> 70 | AQ48: SF | AR48: 70
D49: 40 | E49: TOSCANO, DAIANA ANTONELLA | H49: 2013 | I49: SAL | J49: =L49+N49+P49+R49+T49+V49+X49+Z49+AB49+AD49+AF49+AH49+AJ49+AL49+AN49+AP49+AR49+AT49+AV49+AX49+AZ49+BB49+BD49 -> 70 | U49: SF | V49: 70
D50: 41 | E50: GATICA, LUCIA | G50: N | H50: 2007 | I50: SCZ | J50: =L50+N50+P50+R50+T50+V50+X50+Z50+AB50+AD50+AF50+AH50+AJ50+AL50+AN50+AP50+AR50+AT50+AV50+AX50+AZ50+BB50+BD50 -> 55 | W50: 3Z | X50: 55
D51: 42 | E51: TEJERINA, JAZMIN | H51: 2009 | I51: JUJ | J51: =L51+N51+P51+R51+T51+V51+X51+Z51+AB51+AD51+AF51+AH51+AJ51+AL51+AN51+AP51+AR51+AT51+AV51+AX51+AZ51+BB51+BD51 -> 35 | U51: SF B | V51: 35
D52: 43 | E52: TAN, VICTORIA | H52: 2011 | I52: FET | J52: =L52+N52+P52+R52+T52+V52+X52+Z52+AB52+AD52+AF52+AH52+AJ52+AL52+AN52+AP52+AR52+AT52+AV52+AX52+AZ52+BB52+BD52 -> 35 | O52: SF B | P52: 35
D53: 44 | E53: SOTO, MARTINA | G53: N | H53: 2007 | I53: FET | J53: =L53+N53+P53+R53+T53+V53+X53+Z53+AB53+AD53+AF53+AH53+AJ53+AL53+AN53+AP53+AR53+AT53+AV53+AX53+AZ53+BB53+BD53 -> 25 | AU53: SF B | AV53: 25
D54: 45 | E54: BENITEZ OROZ, VICTORIA | H54: 2008 | I54: FET | J54: =L54+N54+P54+R54+T54+V54+X54+Z54+AB54+AD54+AF54+AH54+AJ54+AL54+AN54+AP54+AR54+AT54+AV54+AX54+AZ54+BB54+BD54 -> 25 | AU54: SF B | AV54: 25

Sheet ID U23
E4: INDIVIDUAL DAMAS U23 | K4: RANKING NACIONAL | TEMPORADA 2026
K5: Grand Prix | M5: Challenger | O5: Regional Abierto | Q5: Challenger | S5: Regional Abierto | U5: Regional Abierto | W5: Regional Abierto | Y5: Regional Abierto | AA5: Regional Abierto | AC5: Regional Abierto | AE5: Regional Abierto | AG5: Challenger | AI5: Regional Abierto | AK5: Nacional | AM5: Regional Abierto | AO5: Regional Abierto | AQ5: Regional Abierto | AS5: Grand Prix | AU5: Regional Abierto | AW5: Regional Abierto | AY5: Regional Abierto | BA5: Challenger | BC5: Abierto de la Rep.
K6: ROSARIO | M6: CHAPADMALAL | O6: FETEMBA | Q6: SANT. DEL ESTERO | S6: MENDOZA | U6: SALTA | W6: TIERRA DEL FUEGO | Y6: FETEMBA | AA6: JUJUY | AC6: SANTA FE | AE6: MENDOZA | AG6: SALTA | AI6: NEUQUÉN | AK6: SANTA FE | AM6: MENDOZA | AO6: FETEMBA | AQ6: SANTA CRUZ | AS6: MENDOZA | AU6: FETEMBA | AW6: MENDOZA | AY6: RIO NEGRO | BA6: ROSARIO | BC6: BUENOS AIRES
K7: 7 A 9 FEB 2025 | M7: 2 A 4 MAR 2025 | O7: 29 Y 30 MAR 2025 | Q7: 11 A 13 ABR 2025 | S7: 26 Y 27 ABR 2025 | U7: 26 Y 27 ABR 2025 | W7: 04 MAY 2025 | Y7: 10 Y 11 MAY 2025 | AA7: 24 Y 25 MAY 2025 | AC7: 31 MAY Y 1 JUN 2025 | AE7: 7 Y 8 JUN 2025 | AG7: 14 A 16 JUN 2025 | AI7: 21 Y 22 JUN 2025 | AK7: 9 A 13 JUL 2025 | AM7: 9 Y 10 AGO 2025 | AO7: 15 AGO 2025 | AQ7: 15 A 17 AGO 2025 | AS7: 5 A 7 SEP 2025 | AU7: 27 Y 28 SEP 2025 | AW7: 4 Y 5 OCT 2025 | AY7: 11 Y 12 OCT 2025 | BA7: 17 A 19 OCT 2025 | BC7: 21 A 24 NOV 2025
D8: POS. | E8: ATLETA | F8: DNI | G8: Fecha de Nacimiento | H8: CAT. | I8: ASOC. | J8: TOTAL | K8: Pos. | L8: Ptos. | M8: Pos. | N8: Ptos. | O8: Pos. | P8: Ptos. | Q8: Pos. | R8: Ptos. | S8: Pos. | T8: Ptos. | U8: Pos. | V8: Ptos. | W8: Pos. | X8: Ptos. | Y8: Pos. | Z8: Ptos. | AA8: Pos. | AB8: Ptos. | AC8: Pos. | AD8: Ptos. | AE8: Pos. | AF8: Ptos. | AG8: Pos. | AH8: Ptos. | AI8: Pos. | AJ8: Ptos. | AK8: Pos. | AL8: Ptos. | AM8: Pos. | AN8: Ptos. | AO8: Pos. | AP8: Ptos. | AQ8: Pos. | AR8: Ptos. | AS8: Pos. | AT8: Ptos. | AU8: Pos. | AV8: Ptos. | AW8: Pos. | AX8: Ptos. | AY8: Pos. | AZ8: Ptos. | BA8: Pos. | BB8: Ptos. | BC8: Pos. | BD8: Ptos.
D10: 1 | E10: PEREZ, CAMILA | H10: 2005 | I10: FBA | J10: =L10+N10+P10+R10+T10+V10+X10+Z10+AB10+AD10+AF10+AH10+AJ10+AL10+AN10+AP10+AR10+AT10+AV10+AX10+AZ10+BB10+BD10 -> 1337.5 | M10: 1 | N10: 220 | AK10: 2 | AL10: 405 | AS10: Prom. | AT10: 217.5 | BC10: 1 | BD10: 495
D11: 2 | E11: ALAMO, VALENTINA | H11: 2007 | I11: LIB | J11: =L11+N11+P11+R11+T11+V11+X11+Z11+AB11+AD11+AF11+AH11+AJ11+AL11+AN11+AP11+AR11+AT11+AV11+AX11+AZ11+BB11+BD11 -> 755 | W11: 1 | X11: 110 | AS11: 1 | AT11: 330 | BC11: SF | BD11: 315
D12: 3 | E12: IWASA, ABRIL | H12: 2006 | I12: FET | J12: =L12+N12+P12+R12+T12+V12+X12+Z12+AB12+AD12+AF12+AH12+AJ12+AL12+AN12+AP12+AR12+AT12+AV12+AX12+AZ12+BB12+BD12 -> 635 | AS12: 3 | AT12: 210 | AU12: 1 | AV12: 110 | BC12: SF | BD12: 315
D13: 4 | E13: PEREYRA, MANUELA | H13: 2006 | I13: RNG | J13: =L13+N13+P13+R13+T13+V13+X13+Z13+AB13+AD13+AF13+AH13+AJ13+AL13+AN13+AP13+AR13+AT13+AV13+AX13+AZ13+BB13+BD13 -> 515 | AY13: 1 | AZ13: 110 | BC13: 2 | BD13: 405
D14: 5 | E14: OKUYAMA, ABRIL | H14: 2005 | I14: FET | J14: =L14+N14+P14+R14+T14+V14+X14+Z14+AB14+AD14+AF14+AH14+AJ14+AL14+AN14+AP14+AR14+AT14+AV14+AX14+AZ14+BB14+BD14 -> 495 | AK14: 1 | AL14: 495
D15: 6 | E15: LIFSCHITZ, YAEL | H15: 2006 | I15: FET | J15: =L15+N15+P15+R15+T15+V15+X15+Z15+AB15+AD15+AF15+AH15+AJ15+AL15+AN15+AP15+AR15+AT15+AV15+AX15+AZ15+BB15+BD15 -> 365 | Y15: SF B | Z15: 35 | AO15: 2B | AP15: 45 | AU15: SF B | AV15: 35 | BC15: 3Z | BD15: 250
D16: 7 | E16: CHACON, DANIELA | H16: 2004 | I16: FET | J16: =L16+N16+P16+R16+T16+V16+X16+Z16+AB16+AD16+AF16+AH16+AJ16+AL16+AN16+AP16+AR16+AT16+AV16+AX16+AZ16+BB16+BD16 -> 340 | O16: 2 | P16: 90 | AK16: 4 | AL16: 250
D17: 8 | E17: SICILIANO, KIARA | H17: 2005 | I17: FET | J17: =L17+N17+P17+R17+T17+V17+X17+Z17+AB17+AD17+AF17+AH17+AJ17+AL17+AN17+AP17+AR17+AT17+AV17+AX17+AZ17+BB17+BD17 -> 295 | O17: 5 | P17: 45 | Y17: 2B | Z17: 45 | AK17: 5 | AL17: 205
D18: 9 | E18: TAKAHASHI, BRISA | H18: 2008 | I18: FET | J18: =L18+N18+P18+R18+T18+V18+X18+Z18+AB18+AD18+AF18+AH18+AJ18+AL18+AN18+AP18+AR18+AT18+AV18+AX18+AZ18+BB18+BD18 -> 290.07 | O18: 1 | P18: 110 | Y18: SF | Z18: 0.07 | AO18: 2 | AP18: 90 | AU18: 2 | AV18: 90
D19: 10 | E19: SHAHMURADYAN, MARIAM | H19: 2008 | I19: FET | J19: =L19+N19+P19+R19+T19+V19+X19+Z19+AB19+AD19+AF19+AH19+AJ19+AL19+AN19+AP19+AR19+AT19+AV19+AX19+AZ19+BB19+BD19 -> 290 | M19: 2 | N19: 180 | AO19: 1 | AP19: 110
D20: 11 | E20: MARIÑO, NAOMI | H20: 2006 | I20: FET | J20: =L20+N20+P20+R20+T20+V20+X20+Z20+AB20+AD20+AF20+AH20+AJ20+AL20+AN20+AP20+AR20+AT20+AV20+AX20+AZ20+BB20+BD20 -> 270 | AS20: 2 | AT20: 270
D21: 12 | E21: MARCIAL, ALMA | H21: 2006 | I21: FET | J21: =L21+N21+P21+R21+T21+V21+X21+Z21+AB21+AD21+AF21+AH21+AJ21+AL21+AN21+AP21+AR21+AT21+AV21+AX21+AZ21+BB21+BD21 -> 220 | AG21: 1 | AH21: 220
D22: 13 | E22: AGUILAR IKEDA, JUSTINA MAYUMI | H22: 2008 | I22: FET | J22: =L22+N22+P22+R22+T22+V22+X22+Z22+AB22+AD22+AF22+AH22+AJ22+AL22+AN22+AP22+AR22+AT22+AV22+AX22+AZ22+BB22+BD22 -> 218.75 | O22: 3 | P22: 70 | Y22: 1B | Z22: 55 | AS22: Prom. | AT22: 93.75
D23: 14 | E23: VALERIO, GEMMA | H23: 2011 | I23: SAL | J23: =L23+N23+P23+R23+T23+V23+X23+Z23+AB23+AD23+AF23+AH23+AJ23+AL23+AN23+AP23+AR23+AT23+AV23+AX23+AZ23+BB23+BD23 -> 180 | AG23: 2 | AH23: 180
D24: 15 | E24: SATO, MIA HIROMMI | H24: 2014 | I24: FET | J24: =L24+N24+P24+R24+T24+V24+X24+Z24+AB24+AD24+AF24+AH24+AJ24+AL24+AN24+AP24+AR24+AT24+AV24+AX24+AZ24+BB24+BD24 -> 165 | AS24: 4 | AT24: 165
D25: 16 | E25: GUIA MONZON, IXCHEL | H25: 2012 | I25: SFE | J25: =L25+N25+P25+R25+T25+V25+X25+Z25+AB25+AD25+AF25+AH25+AJ25+AL25+AN25+AP25+AR25+AT25+AV25+AX25+AZ25+BB25+BD25 -> 160 | Y25: 2 | Z25: 90 | AU25: SF | AV25: 70
D26: 17 | E26: GOMEZ, MARIA LUJAN | H26: 2009 | I26: FBA | J26: =L26+N26+P26+R26+T26+V26+X26+Z26+AB26+AD26+AF26+AH26+AJ26+AL26+AN26+AP26+AR26+AT26+AV26+AX26+AZ26+BB26+BD26 -> 140 | M26: 3 | N26: 140
D27: 17 | E27: GUARDIA, MARIA VICTORIA | H27: 2011 | I27: SAL | J27: =L27+N27+P27+R27+T27+V27+X27+Z27+AB27+AD27+AF27+AH27+AJ27+AL27+AN27+AP27+AR27+AT27+AV27+AX27+AZ27+BB27+BD27 -> 140 | AG27: SF | AH27: 140
D28: 17 | E28: MAEHAMA, TRINIDAD | H28: 2012 | I28: FET | J28: =L28+N28+P28+R28+T28+V28+X28+Z28+AB28+AD28+AF28+AH28+AJ28+AL28+AN28+AP28+AR28+AT28+AV28+AX28+AZ28+BB28+BD28 -> 140 | AG28: SF | AH28: 140
D29: 20 | E29: SOTO, MARTINA | H29: 2007 | I29: FET | J29: =L29+N29+P29+R29+T29+V29+X29+Z29+AB29+AD29+AF29+AH29+AJ29+AL29+AN29+AP29+AR29+AT29+AV29+AX29+AZ29+BB29+BD29 -> 125 | Y29: SF | Z29: 70 | AU29: 1B | AV29: 55
D30: 21 | E30: KRAISMAN, MARIA FERNANDA | H30: 2004 | I30: SAL | J30: =L30+N30+P30+R30+T30+V30+X30+Z30+AB30+AD30+AF30+AH30+AJ30+AL30+AN30+AP30+AR30+AT30+AV30+AX30+AZ30+BB30+BD30 -> 110 | AG30: 3Z | AH30: 110
D31: 22 | E31: GITELMAN, LORENA | H31: 2009 | I31: FET | J31: =L31+N31+P31+R31+T31+V31+X31+Z31+AB31+AD31+AF31+AH31+AJ31+AL31+AN31+AP31+AR31+AT31+AV31+AX31+AZ31+BB31+BD31 -> 110 | Y31: 1 | Z31: 110
D32: 23 | E32: LOPEZ AUAT, MALENA | H32: 2009 | I32: SEN | J32: =L32+N32+P32+R32+T32+V32+X32+Z32+AB32+AD32+AF32+AH32+AJ32+AL32+AN32+AP32+AR32+AT32+AV32+AX32+AZ32+BB32+BD32 -> 110 | AG32: 3Z | AH32: 110
D33: 24 | E33: BENITEZ OROZ, VICTORIA | H33: 2008 | I33: FET | J33: =L33+N33+P33+R33+T33+V33+X33+Z33+AB33+AD33+AF33+AH33+AJ33+AL33+AN33+AP33+AR33+AT33+AV33+AX33+AZ33+BB33+BD33 -> 90 | AO33: 1B | AP33: 55 | AU33: SF B | AV33: 35
D34: 25 | E34: CACERES, ISABELLA | H34: 2012 | I34: RNG | J34: =L34+N34+P34+R34+T34+V34+X34+Z34+AB34+AD34+AF34+AH34+AJ34+AL34+AN34+AP34+AR34+AT34+AV34+AX34+AZ34+BB34+BD34 -> 90 | AY34: 2 | AZ34: 90
D35: 26 | E35: JARA, PRISCILA | H35: 2006 | I35: RNG | J35: =L35+N35+P35+R35+T35+V35+X35+Z35+AB35+AD35+AF35+AH35+AJ35+AL35+AN35+AP35+AR35+AT35+AV35+AX35+AZ35+BB35+BD35 -> 70 | AY35: SF | AZ35: 70
D36: 27 | E36: MUÑOZ CONSTANZO, VALENTINA SOLEDAD | H36: 2007 | I36: SCZ | J36: =L36+N36+P36+R36+T36+V36+X36+Z36+AB36+AD36+AF36+AH36+AJ36+AL36+AN36+AP36+AR36+AT36+AV36+AX36+AZ36+BB36+BD36 -> 70 | W36: 3 | X36: 70
D37: 28 | E37: JANDULA, AMBAR | H37: 2009 | I37: SAL | J37: =L37+N37+P37+R37+T37+V37+X37+Z37+AB37+AD37+AF37+AH37+AJ37+AL37+AN37+AP37+AR37+AT37+AV37+AX37+AZ37+BB37+BD37 -> 70 | AO37: SF | AP37: 70
D38: 29 | E38: FRIAS PAZ, LUCIANA GABRIELA | H38: 2010 | I38: SEN | J38: =L38+N38+P38+R38+T38+V38+X38+Z38+AB38+AD38+AF38+AH38+AJ38+AL38+AN38+AP38+AR38+AT38+AV38+AX38+AZ38+BB38+BD38 -> 70 | AU38: SF | AV38: 70
D39: 30 | E39: GIMENEZ, MALENA | H39: 2010 | I39: JUJ | J39: =L39+N39+P39+R39+T39+V39+X39+Z39+AB39+AD39+AF39+AH39+AJ39+AL39+AN39+AP39+AR39+AT39+AV39+AX39+AZ39+BB39+BD39 -> 70 | AO39: SF | AP39: 70
D40: 31 | E40: MENDEZ, MAITENA NEREA | H40: 2005 | I40: FET | J40: =L40+N40+P40+R40+T40+V40+X40+Z40+AB40+AD40+AF40+AH40+AJ40+AL40+AN40+AP40+AR40+AT40+AV40+AX40+AZ40+BB40+BD40 -> 55 | O40: 4 | P40: 55
D41: 32 | E41: GATICA, LUCIA | H41: 2007 | I41: SCZ | J41: =L41+N41+P41+R41+T41+V41+X41+Z41+AB41+AD41+AF41+AH41+AJ41+AL41+AN41+AP41+AR41+AT41+AV41+AX41+AZ41+BB41+BD41 -> 55 | W41: 4 | X41: 55
D42: 33 | E42: LORENZO, ORIANA | H42: 2008 | I42: LPA | J42: =L42+N42+P42+R42+T42+V42+X42+Z42+AB42+AD42+AF42+AH42+AJ42+AL42+AN42+AP42+AR42+AT42+AV42+AX42+AZ42+BB42+BD42 -> 55 | AY42: 3Z | AZ42: 55
D43: 34 | E43: FIGUEROA, CHABELI | H43: 2009 | I43: LPA | J43: =L43+N43+P43+R43+T43+V43+X43+Z43+AB43+AD43+AF43+AH43+AJ43+AL43+AN43+AP43+AR43+AT43+AV43+AX43+AZ43+BB43+BD43 -> 55 | AY43: 3Z | AZ43: 55
D44: 35 | E44: PEREZ MAZZARELLO, JULIA | H44: 2009 | I44: FET | J44: =L44+N44+P44+R44+T44+V44+X44+Z44+AB44+AD44+AF44+AH44+AJ44+AL44+AN44+AP44+AR44+AT44+AV44+AX44+AZ44+BB44+BD44 -> 45 | AU44: 2B | AV44: 45

Sheet ID TC
E4: INDIVIDUAL DAMAS TODA COMPETIDORA | H4: RANKING NACIONAL | TEMPORADA 2026
H5: Grand Prix | J5: Challenger | L5: Regional Abierto | N5: Challenger | P5: Regional Abierto | R5: Regional Abierto | T5: Regional Abierto | V5: Regional Abierto | X5: Regional Abierto | Z5: Regional Abierto | AB5: Regional Abierto | AD5: Challenger | AF5: Regional Abierto | AH5: Nacional | AJ5: Regional Abierto | AL5: Regional Abierto | AN5: Regional Abierto | AP5: Grand Prix | AR5: Regional Abierto | AT5: Regional Abierto | AV5: Regional Abierto | AX5: Challenger | AZ5: Abierto de la Rep.
H6: ROSARIO | J6: CHAPADMALAL | L6: FETEMBA | N6: SANT. DEL ESTERO | P6: MENDOZA | R6: SALTA | T6: TIERRA DEL FUEGO | V6: FETEMBA | X6: JUJUY | Z6: SANTA FE | AB6: MENDOZA | AD6: SALTA | AF6: NEUQUÉN | AH6: SANTA FE | AJ6: MENDOZA | AL6: FETEMBA | AN6: SANTA CRUZ | AP6: MENDOZA | AR6: FETEMBA | AT6: MENDOZA | AV6: RIO NEGRO | AX6: ROSARIO | AZ6: BUENOS AIRES
H7: 7 A 9 FEB 2025 | J7: 2 A 4 MAR 2025 | L7: 29 Y 30 MAR 2025 | N7: 11 A 13 ABR 2025 | P7: 26 Y 27 ABR 2025 | R7: 26 Y 27 ABR 2025 | T7: 04 MAY 2025 | V7: 10 Y 11 MAY 2025 | X7: 24 Y 25 MAY 2025 | Z7: 31 MAY Y 1 JUN 2025 | AB7: 7 Y 8 JUN 2025 | AD7: 14 A 16 JUN 2025 | AF7: 21 Y 22 JUN 2025 | AH7: 9 A 13 JUL 2025 | AJ7: 9 Y 10 AGO 2025 | AL7: 15 AGO 2025 | AN7: 15 A 17 AGO 2025 | AP7: 5 A 7 SEP 2025 | AR7: 27 Y 28 SEP 2025 | AT7: 4 Y 5 OCT 2025 | AV7: 11 Y 12 OCT 2025 | AX7: 17 A 19 OCT 2025 | AZ7: 21 A 24 NOV 2025
D8: POS. | E8: ATLETA | F8: ASOC. | G8: TOTAL | H8: Pos. | I8: Ptos. | J8: Pos. | K8: Ptos. | L8: Pos. | M8: Ptos. | N8: Pos. | O8: Ptos. | P8: Pos. | Q8: Ptos. | R8: Pos. | S8: Ptos. | T8: Pos. | U8: Ptos. | V8: Pos. | W8: Ptos. | X8: Pos. | Y8: Ptos. | Z8: Pos. | AA8: Ptos. | AB8: Pos. | AC8: Ptos. | AD8: Pos. | AE8: Ptos. | AF8: Pos. | AG8: Ptos. | AH8: Pos. | AI8: Ptos. | AJ8: Pos. | AK8: Ptos. | AL8: Pos. | AM8: Ptos. | AN8: Pos. | AO8: Ptos. | AP8: Pos. | AQ8: Ptos. | AR8: Pos. | AS8: Ptos. | AT8: Pos. | AU8: Ptos. | AV8: Pos. | AW8: Ptos. | AX8: Pos. | AY8: Ptos. | AZ8: Pos. | BA8: Ptos.
D10: 1 | E10: FRIAS PAZ, LUCIANA GABRIELA | F10: SEN | G10: =I10+K10+M10+O10+Q10+S10+U10+W10+Y10+AA10+AC10+AE10+AG10+AI10+AK10+AM10+AO10+AQ10+AS10+AU10+AW10+AY10+BA10 -> 1346.6 | H10: Prom. | I10: 236.25 | N10: 2 | O10: 180 | R10: SF | S10: 70 | V10: SF | W10: 70 | AB10: 1 | AC10: 110 | AD10: SF | AE10: 0.14 | AH10: 4F | AI10: 250 | AP10: SF | AQ10: 0.21 | AX10: 2 | AY10: 180 | AZ10: 4F | BA10: 250
D11: 2 | E11: ZAPATERO HEIT, ANA | F11: JUJ | G11: =I11+K11+M11+O11+Q11+S11+U11+W11+Y11+AA11+AC11+AE11+AG11+AI11+AK11+AM11+AO11+AQ11+AS11+AU11+AW11+AY11+BA11 -> 1305 | N11: 1 | O11: 220 | R11: 1 | S11: 110 | X11: 1 | Y11: 110 | AD11: 1 | AE11: 220 | AH11: SF | AI11: 315 | AP11: Prom. | AQ11: 330
D12: 3 | E12: PEREZ, CAMILA | F12: FBA | G12: =I12+K12+M12+O12+Q12+S12+U12+W12+Y12+AA12+AC12+AE12+AG12+AI12+AK12+AM12+AO12+AQ12+AS12+AU12+AW12+AY12+BA12 -> 1075.2438 | H12: 1 | I12: 330 | J12: 2 | K12: 180 | AH12: 4F | AI12: 250 | AP12: Prom. | AQ12: 0.24375 | AZ12: SF | BA12: 315
D13: 4 | E13: ZAPATERO HEIT, DANIELA | F13: JUJ | G13: =I13+K13+M13+O13+Q13+S13+U13+W13+Y13+AA13+AC13+AE13+AG13+AI13+AK13+AM13+AO13+AQ13+AS13+AU13+AW13+AY13+BA13 -> 1035 | N13: SF | O13: 140 | R13: 2 | S13: 90 | X13: 2 | Y13: 90 | AD13: 2 | AE13: 180 | AH13: 4F | AI13: 250 | AP13: Prom. | AQ13: 285
D14: 5 | E14: MARCIAL, ALMA | F14: FET | G14: =I14+K14+M14+O14+Q14+S14+U14+W14+Y14+AA14+AC14+AE14+AG14+AI14+AK14+AM14+AO14+AQ14+AS14+AU14+AW14+AY14+BA14 -> 1020 | V14: SF | W14: 70 | AD14: SF | AE14: 140 | AH14: 2 | AI14: 405 | AZ14: 2 | BA14: 405
D15: 6 | E15: MOLERO, CANDELA | F15: FET | G15: =I15+K15+M15+O15+Q15+S15+U15+W15+Y15+AA15+AC15+AE15+AG15+AI15+AK15+AM15+AO15+AQ15+AS15+AU15+AW15+AY15+BA15 -> 990 | AH15: 1 | AI15: 495 | AZ15: 1 | BA15: 495
D16: 7 | E16: PEREYRA, MANUELA | F16: RNG | G16: =I16+K16+M16+O16+Q16+S16+U16+W16+Y16+AA16+AC16+AE16+AG16+AI16+AK16+AM16+AO16+AQ16+AS16+AU16+AW16+AY16+BA16 -> 938.75 | P16: 1 | Q16: 110 | AF16: 1 | AG16: 110 | AH16: 3ZT | AI16: 205 | AP16: Prom. | AQ16: 198.75 | AV16: 1 | AW16: 110 | AZ16: 8F | BA16: 205
D17: 8 | E17: SHAHMURADYAN, MARIAM | F17: FET | G17: =I17+K17+M17+O17+Q17+S17+U17+W17+Y17+AA17+AC17+AE17+AG17+AI17+AK17+AM17+AO17+AQ17+AS17+AU17+AW17+AY17+BA17 -> 830 | J17: 1 | K17: 220 | Z17: 2 | AA17: 90 | AH17: 3ZT | AI17: 205 | AZ17: SF | BA17: 315
D18: 9 | E18: GIMENEZ, MALENA | F18: JUJ | G18: =I18+K18+M18+O18+Q18+S18+U18+W18+Y18+AA18+AC18+AE18+AG18+AI18+AK18+AM18+AO18+AQ18+AS18+AU18+AW18+AY18+BA18 -> 747.5 | H18: Prom. | I18: 217.5 | J18: Prom. | K18: 140 | R18: 4F | S18: 55 | V18: 2B | W18: 35 | AD18: SF B | AE18: 50 | AZ18: 4F | BA18: 250
D19: 10 | E19: PEREZ ERASO, GIULIANA | F19: MZA | G19: =I19+K19+M19+O19+Q19+S19+U19+W19+Y19+AA19+AC19+AE19+AG19+AI19+AK19+AM19+AO19+AQ19+AS19+AU19+AW19+AY19+BA19 -> 625.0675 | H19: Prom. | I19: 0.0675 | P19: 2 | Q19: 90 | V19: 1B | W19: 45 | AB19: 2 | AC19: 90 | AD19: 1B | AE19: 90 | AH19: 3ZT | AI19: 205 | AP19: 1B | AQ19: 105
D20: 11 | E20: IWASA, ABRIL | F20: FET | G20: =I20+K20+M20+O20+Q20+S20+U20+W20+Y20+AA20+AC20+AE20+AG20+AI20+AK20+AM20+AO20+AQ20+AS20+AU20+AW20+AY20+BA20 -> 615 | J20: 1B | K20: 110 | AH20: SF B | AI20: 90 | AP20: 4F | AQ20: 165 | AZ20: 4F | BA20: 250
D21: 12 | E21: VALERIO, GEMMA | F21: SAL | G21: =I21+K21+M21+O21+Q21+S21+U21+W21+Y21+AA21+AC21+AE21+AG21+AI21+AK21+AM21+AO21+AQ21+AS21+AU21+AW21+AY21+BA21 -> 550 | N21: 1B | O21: 110 | R21: 4F | S21: 55 | X21: SF | Y21: 70 | AD21: 4F | AE21: 110 | AZ21: 8F | BA21: 205
D22: 13 | E22: MARIÑO, NAOMI | F22: FET | G22: =I22+K22+M22+O22+Q22+S22+U22+W22+Y22+AA22+AC22+AE22+AG22+AI22+AK22+AM22+AO22+AQ22+AS22+AU22+AW22+AY22+BA22 -> 520 | AP22: 2 | AQ22: 270 | AZ22: 4F | BA22: 250
D23: 14 | E23: GITELMAN, LORENA | F23: FET | G23: =I23+K23+M23+O23+Q23+S23+U23+W23+Y23+AA23+AC23+AE23+AG23+AI23+AK23+AM23+AO23+AQ23+AS23+AU23+AW23+AY23+BA23 -> 475 | H23: 2 | I23: 270 | AH23: 4ZT | AI23: 205
D24: 15 | E24: LOPEZ AUAT, MALENA | F24: SEN | G24: =I24+K24+M24+O24+Q24+S24+U24+W24+Y24+AA24+AC24+AE24+AG24+AI24+AK24+AM24+AO24+AQ24+AS24+AU24+AW24+AY24+BA24 -> 470 | N24: SF B | O24: 70 | R24: 4F | S24: 55 | X24: SF | Y24: 70 | AD24: SF B | AE24: 50 | AP24: 8F | AQ24: 135 | AZ24: SF B | BA24: 90
D25: 16 | E25: JANDULA, AMBAR | F25: SAL | G25: =I25+K25+M25+O25+Q25+S25+U25+W25+Y25+AA25+AC25+AE25+AG25+AI25+AK25+AM25+AO25+AQ25+AS25+AU25+AW25+AY25+BA25 -> 432.5 | H25: Prom. | I25: 127.5 | N25: SF | O25: 140 | R25: 4F | S25: 55 | AD25: 4F | AE25: 110
D26: 17 | E26: SALUSSO, TATIANA | F26: FET | G26: =I26+K26+M26+O26+Q26+S26+U26+W26+Y26+AA26+AC26+AE26+AG26+AI26+AK26+AM26+AO26+AQ26+AS26+AU26+AW26+AY26+BA26 -> 410 | H26: 1B | I26: 135 | V26: SF B | W26: 25 | AH26: SF B | AI26: 90 | AZ26: 1B | BA26: 160
D27: 18 | E27: PAROLA, VALENTINA | F27: SFE | G27: =I27+K27+M27+O27+Q27+S27+U27+W27+Y27+AA27+AC27+AE27+AG27+AI27+AK27+AM27+AO27+AQ27+AS27+AU27+AW27+AY27+BA27 -> 408.75 | AH27: SF | AI27: 315 | AP27: Prom. | AQ27: 93.75
D28: 19 | E28: OKUYAMA, ABRIL | F28: FET | G28: =I28+K28+M28+O28+Q28+S28+U28+W28+Y28+AA28+AC28+AE28+AG28+AI28+AK28+AM28+AO28+AQ28+AS28+AU28+AW28+AY28+BA28 -> 340 | V28: 2 | W28: 90 | AH28: 4F | AI28: 250
D29: 20 | E29: SANCHI, CANDELA | F29: MZA | G29: =I29+K29+M29+O29+Q29+S29+U29+W29+Y29+AA29+AC29+AE29+AG29+AI29+AK29+AM29+AO29+AQ29+AS29+AU29+AW29+AY29+BA29 -> 330 | AP29: 1 | AQ29: 330
D30: 21 | E30: AGUILAR IKEDA, JUSTINA MAYUMI | F30: FET | G30: =I30+K30+M30+O30+Q30+S30+U30+W30+Y30+AA30+AC30+AE30+AG30+AI30+AK30+AM30+AO30+AQ30+AS30+AU30+AW30+AY30+BA30 -> 316.25 | V30: 4F | W30: 55 | AP30: Prom. | AQ30: 41.25 | AX30: 1 | AY30: 220
D31: 22 | E31: OLIVAREZ, ISABELLA | F31: SFE | G31: =I31+K31+M31+O31+Q31+S31+U31+W31+Y31+AA31+AC31+AE31+AG31+AI31+AK31+AM31+AO31+AQ31+AS31+AU31+AW31+AY31+BA31 -> 310 | H31: 4F | I31: 165 | Z31: 4 | AA31: 55 | AX31: 5 | AY31: 90
D32: 23 | E32: PALAMEDI, UMA | F32: SFE | G32: =I32+K32+M32+O32+Q32+S32+U32+W32+Y32+AA32+AC32+AE32+AG32+AI32+AK32+AM32+AO32+AQ32+AS32+AU32+AW32+AY32+BA32 -> 283.75 | H32: Prom. | I32: 48.75 | V32: SF B | W32: 25 | Z32: 3 | AA32: 70 | AX32: 3 | AY32: 140
D33: 24 | E33: MAEHAMA, TRINIDAD | F33: FET | G33: =I33+K33+M33+O33+Q33+S33+U33+W33+Y33+AA33+AC33+AE33+AG33+AI33+AK33+AM33+AO33+AQ33+AS33+AU33+AW33+AY33+BA33 -> 280 | H33: SF | I33: 210 | AD33: 2B | AE33: 70
D34: 25 | E34: CIAMBELLA, GIULIANA | F34: MZA | G34: =I34+K34+M34+O34+Q34+S34+U34+W34+Y34+AA34+AC34+AE34+AG34+AI34+AK34+AM34+AO34+AQ34+AS34+AU34+AW34+AY34+BA34 -> 265 | P34: 5 | Q34: 45 | AB34: 3Z | AC34: 55 | AP34: 4F | AQ34: 165
D35: 26 | E35: VELAZQUEZ, IRUPE | F35: SFE | G35: =I35+K35+M35+O35+Q35+S35+U35+W35+Y35+AA35+AC35+AE35+AG35+AI35+AK35+AM35+AO35+AQ35+AS35+AU35+AW35+AY35+BA35 -> 260 | H35: 2B | I35: 105 | Z35: 5 | AA35: 45 | AX35: 4 | AY35: 110
D36: 27 | E36: CHACON, DANIELA | F36: FET | G36: =I36+K36+M36+O36+Q36+S36+U36+W36+Y36+AA36+AC36+AE36+AG36+AI36+AK36+AM36+AO36+AQ36+AS36+AU36+AW36+AY36+BA36 -> 215 | V36: 4F | W36: 55 | AH36: 1B | AI36: 160
D37: 28 | E37: GUARDIA, MARIA VICTORIA | F37: SAL | G37: =I37+K37+M37+O37+Q37+S37+U37+W37+Y37+AA37+AC37+AE37+AG37+AI37+AK37+AM37+AO37+AQ37+AS37+AU37+AW37+AY37+BA37 -> 215 | N37: 2B | O37: 90 | R37: SF | S37: 70 | V37: 4F | W37: 55
D38: 29 | E38: PAREDES, LUANA | F38: LIB | G38: =I38+K38+M38+O38+Q38+S38+U38+W38+Y38+AA38+AC38+AE38+AG38+AI38+AK38+AM38+AO38+AQ38+AS38+AU38+AW38+AY38+BA38 -> 210 | AP38: SF | AQ38: 210
D39: 30 | E39: PEREZ MAZZARELLO, MALENA | F39: FET | G39: =I39+K39+M39+O39+Q39+S39+U39+W39+Y39+AA39+AC39+AE39+AG39+AI39+AK39+AM39+AO39+AQ39+AS39+AU39+AW39+AY39+BA39 -> 210 | H39: SF | I39: 210
D40: 31 | E40: POKORNY, SOLANGE | F40: FET | G40: =I40+K40+M40+O40+Q40+S40+U40+W40+Y40+AA40+AC40+AE40+AG40+AI40+AK40+AM40+AO40+AQ40+AS40+AU40+AW40+AY40+BA40 -> 205 | AH40: 3ZT | AI40: 205
D41: 32 | E41: LOPEZ, DIANA | F41: CHI | G41: =I41+K41+M41+O41+Q41+S41+U41+W41+Y41+AA41+AC41+AE41+AG41+AI41+AK41+AM41+AO41+AQ41+AS41+AU41+AW41+AY41+BA41 -> 165 | AP41: 4F | AQ41: 165
D42: 33 | E42: FRAGAPANE, FRANCESCA | F42: FBA | G42: =I42+K42+M42+O42+Q42+S42+U42+W42+Y42+AA42+AC42+AE42+AG42+AI42+AK42+AM42+AO42+AQ42+AS42+AU42+AW42+AY42+BA42 -> 165 | AP42: 4F | AQ42: 165
D43: 34 | E43: PEREZ MAZZARELLO, JULIA | F43: FET | G43: =I43+K43+M43+O43+Q43+S43+U43+W43+Y43+AA43+AC43+AE43+AG43+AI43+AK43+AM43+AO43+AQ43+AS43+AU43+AW43+AY43+BA43 -> 165 | H43: 4F | I43: 165
D44: 35 | E44: MUÑOZ, GISELLE | F44: FAT | G44: =I44+K44+M44+O44+Q44+S44+U44+W44+Y44+AA44+AC44+AE44+AG44+AI44+AK44+AM44+AO44+AQ44+AS44+AU44+AW44+AY44+BA44 -> 140 | J44: SF | K44: 140
D45: 36 | E45: SALPETER, LUANA | F45: FET | G45: =I45+K45+M45+O45+Q45+S45+U45+W45+Y45+AA45+AC45+AE45+AG45+AI45+AK45+AM45+AO45+AQ45+AS45+AU45+AW45+AY45+BA45 -> 140 | J45: SF | K45: 140
D46: 37 | E46: SOLARES, MARCELA | F46: MZA | G46: =I46+K46+M46+O46+Q46+S46+U46+W46+Y46+AA46+AC46+AE46+AG46+AI46+AK46+AM46+AO46+AQ46+AS46+AU46+AW46+AY46+BA46 -> 140 | P46: 3 | Q46: 70 | AB46: SF | AC46: 70
D47: 38 | E47: IPPOLITI, PAULINA | F47: MZA | G47: =I47+K47+M47+O47+Q47+S47+U47+W47+Y47+AA47+AC47+AE47+AG47+AI47+AK47+AM47+AO47+AQ47+AS47+AU47+AW47+AY47+BA47 -> 135 | AP47: 8F | AQ47: 135
D48: 39 | E48: IGLESIAS, VALENTINA | F48: MZA | G48: =I48+K48+M48+O48+Q48+S48+U48+W48+Y48+AA48+AC48+AE48+AG48+AI48+AK48+AM48+AO48+AQ48+AS48+AU48+AW48+AY48+BA48 -> 125 | P48: 4 | Q48: 55 | AB48: SF | AC48: 70
D49: 40 | E49: GORRI, AMIRA | F49: NQN | G49: =I49+K49+M49+O49+Q49+S49+U49+W49+Y49+AA49+AC49+AE49+AG49+AI49+AK49+AM49+AO49+AQ49+AS49+AU49+AW49+AY49+BA49 -> 122.5 | AF49: 3 | AG49: 70 | AP49: Prom. | AQ49: 52.5
D50: 41 | E50: CHIRINO, FLORENCIA | F50: MZA | G50: =I50+K50+M50+O50+Q50+S50+U50+W50+Y50+AA50+AC50+AE50+AG50+AI50+AK50+AM50+AO50+AQ50+AS50+AU50+AW50+AY50+BA50 -> 115 | AH50: 2B | AI50: 115
D51: 42 | E51: ROJAS, MAYA | F51: URU | G51: =I51+K51+M51+O51+Q51+S51+U51+W51+Y51+AA51+AC51+AE51+AG51+AI51+AK51+AM51+AO51+AQ51+AS51+AU51+AW51+AY51+BA51 -> 115 | AZ51: 2B | BA51: 115
D52: 43 | E52: FUKUHARA, PAULA | F52: FET | G52: =I52+K52+M52+O52+Q52+S52+U52+W52+Y52+AA52+AC52+AE52+AG52+AI52+AK52+AM52+AO52+AQ52+AS52+AU52+AW52+AY52+BA52 -> 110 | V52: 1 | W52: 110
D53: 44 | E53: BAHAMONDE, CONSUELO | F53: CHI | G53: =I53+K53+M53+O53+Q53+S53+U53+W53+Y53+AA53+AC53+AE53+AG53+AI53+AK53+AM53+AO53+AQ53+AS53+AU53+AW53+AY53+BA53 -> 110 | AN53: 1 | AO53: 110
D54: 45 | E54: GUIA MONZON, IXCHEL | F54: SFE | G54: =I54+K54+M54+O54+Q54+S54+U54+W54+Y54+AA54+AC54+AE54+AG54+AI54+AK54+AM54+AO54+AQ54+AS54+AU54+AW54+AY54+BA54 -> 110 | Z54: 1 | AA54: 110
D55: 46 | E55: LIFSCHITZ, YAEL | F55: FET | G55: =I55+K55+M55+O55+Q55+S55+U55+W55+Y55+AA55+AC55+AE55+AG55+AI55+AK55+AM55+AO55+AQ55+AS55+AU55+AW55+AY55+BA55 -> 90 | AZ55: SF B | BA55: 90
D56: 47 | E56: EREBITIS, CLAUDIA | F56: CHI | G56: =I56+K56+M56+O56+Q56+S56+U56+W56+Y56+AA56+AC56+AE56+AG56+AI56+AK56+AM56+AO56+AQ56+AS56+AU56+AW56+AY56+BA56 -> 90 | AN56: 2 | AO56: 90
D57: 48 | E57: MAZA, VICTORIA | F57: NQN | G57: =I57+K57+M57+O57+Q57+S57+U57+W57+Y57+AA57+AC57+AE57+AG57+AI57+AK57+AM57+AO57+AQ57+AS57+AU57+AW57+AY57+BA57 -> 90 | AF57: 2 | AG57: 90
D58: 49 | E58: TAKAHASHI, BRISA | F58: FET | G58: =I58+K58+M58+O58+Q58+S58+U58+W58+Y58+AA58+AC58+AE58+AG58+AI58+AK58+AM58+AO58+AQ58+AS58+AU58+AW58+AY58+BA58 -> 90 | J58: 2B | K58: 90
D59: 50 | E59: CACERES, ISABELLA | F59: RNG | G59: =I59+K59+M59+O59+Q59+S59+U59+W59+Y59+AA59+AC59+AE59+AG59+AI59+AK59+AM59+AO59+AQ59+AS59+AU59+AW59+AY59+BA59 -> 90 | AV59: 2 | AW59: 90
D60: 51 | E60: CAUCOTA, FEDRA | F60: JUJ | G60: =I60+K60+M60+O60+Q60+S60+U60+W60+Y60+AA60+AC60+AE60+AG60+AI60+AK60+AM60+AO60+AQ60+AS60+AU60+AW60+AY60+BA60 -> 80 | R60: 1B | S60: 35 | X60: 2B | Y60: 45
D61: 52 | E61: ALAMO, VALENTINA | F61: LIB | G61: =I61+K61+M61+O61+Q61+S61+U61+W61+Y61+AA61+AC61+AE61+AG61+AI61+AK61+AM61+AO61+AQ61+AS61+AU61+AW61+AY61+BA61 -> 75 | AP61: 2B | AQ61: 75
D62: 53 | E62: SICILIANO, KIARA NIOLE | F62: FET | G62: =I62+K62+M62+O62+Q62+S62+U62+W62+Y62+AA62+AC62+AE62+AG62+AI62+AK62+AM62+AO62+AQ62+AS62+AU62+AW62+AY62+BA62 -> 75 | H62: SF B | I62: 75
D63: 54 | E63: BARRIO, JASIEL | F63: RNG | G63: =I63+K63+M63+O63+Q63+S63+U63+W63+Y63+AA63+AC63+AE63+AG63+AI63+AK63+AM63+AO63+AQ63+AS63+AU63+AW63+AY63+BA63 -> 70 | AV63: SF | AW63: 70
D64: 55 | E64: JARA, PRISCILA | F64: RNG | G64: =I64+K64+M64+O64+Q64+S64+U64+W64+Y64+AA64+AC64+AE64+AG64+AI64+AK64+AM64+AO64+AQ64+AS64+AU64+AW64+AY64+BA64 -> 70 | AV64: SF | AW64: 70
D65: 56 | E65: UZQUEDA, SORAYA | F65: JUJ | G65: =I65+K65+M65+O65+Q65+S65+U65+W65+Y65+AA65+AC65+AE65+AG65+AI65+AK65+AM65+AO65+AQ65+AS65+AU65+AW65+AY65+BA65 -> 70 | AN65: 3 | AO65: 70
D66: 57 | E66: RODRIGUEZ QUINTANA, MARIA VALENTINA | F66: SEN | G66: =I66+K66+M66+O66+Q66+S66+U66+W66+Y66+AA66+AC66+AE66+AG66+AI66+AK66+AM66+AO66+AQ66+AS66+AU66+AW66+AY66+BA66 -> 70 | N66: SF B | O66: 70
D67: 58 | E67: GOMEZ, MARIA LUJAN | F67: FBA | G67: =I67+K67+M67+O67+Q67+S67+U67+W67+Y67+AA67+AC67+AE67+AG67+AI67+AK67+AM67+AO67+AQ67+AS67+AU67+AW67+AY67+BA67 -> 70 | J67: SF B | K67: 70
D68: 59 | E68: BERRUET, LUCIA | F68: FBA | G68: =I68+K68+M68+O68+Q68+S68+U68+W68+Y68+AA68+AC68+AE68+AG68+AI68+AK68+AM68+AO68+AQ68+AS68+AU68+AW68+AY68+BA68 -> 70 | J68: SF B | K68: 70
D69: 60 | E69: LORENZO, ISABELLA | F69: MZA | G69: =I69+K69+M69+O69+Q69+S69+U69+W69+Y69+AA69+AC69+AE69+AG69+AI69+AK69+AM69+AO69+AQ69+AS69+AU69+AW69+AY69+BA69 -> 60 | AP69: SF B | AQ69: 60
D70: 61 | E70: MUJICA, NATALI | F70: FET | G70: =I70+K70+M70+O70+Q70+S70+U70+W70+Y70+AA70+AC70+AE70+AG70+AI70+AK70+AM70+AO70+AQ70+AS70+AU70+AW70+AY70+BA70 -> 55 | V70: 4F | W70: 55
D71: 62 | E71: LORENZO, ORIANA | F71: LPA | G71: =I71+K71+M71+O71+Q71+S71+U71+W71+Y71+AA71+AC71+AE71+AG71+AI71+AK71+AM71+AO71+AQ71+AS71+AU71+AW71+AY71+BA71 -> 55 | AV71: 1B | AW71: 55
D72: 63 | E72: JELINCIC, PIA | F72: CHI | G72: =I72+K72+M72+O72+Q72+S72+U72+W72+Y72+AA72+AC72+AE72+AG72+AI72+AK72+AM72+AO72+AQ72+AS72+AU72+AW72+AY72+BA72 -> 55 | AN72: 4 | AO72: 55
D73: 64 | E73: VELIZ, ANDREA | F73: JUJ | G73: =I73+K73+M73+O73+Q73+S73+U73+W73+Y73+AA73+AC73+AE73+AG73+AI73+AK73+AM73+AO73+AQ73+AS73+AU73+AW73+AY73+BA73 -> 55 | X73: 1B | Y73: 55
D74: 65 | E74: KRAISMAN, MARIA FERNANDA | F74: SAL | G74: =I74+K74+M74+O74+Q74+S74+U74+W74+Y74+AA74+AC74+AE74+AG74+AI74+AK74+AM74+AO74+AQ74+AS74+AU74+AW74+AY74+BA74 -> 55 | R74: SF B | S74: 20 | X74: SF B | Y74: 35
D75: 66 | E75: CEVALLOS, DAIRA | F75: NQN | G75: =I75+K75+M75+O75+Q75+S75+U75+W75+Y75+AA75+AC75+AE75+AG75+AI75+AK75+AM75+AO75+AQ75+AS75+AU75+AW75+AY75+BA75 -> 55 | AF75: 4 | AG75: 55
D76: 67 | E76: DE LA VEGA, CELESTE | F76: MZA | G76: =I76+K76+M76+O76+Q76+S76+U76+W76+Y76+AA76+AC76+AE76+AG76+AI76+AK76+AM76+AO76+AQ76+AS76+AU76+AW76+AY76+BA76 -> 55 | AB76: 3Z | AC76: 55
D77: 68 | E77: FIGUEROA, CHABELI | F77: LPA | G77: =I77+K77+M77+O77+Q77+S77+U77+W77+Y77+AA77+AC77+AE77+AG77+AI77+AK77+AM77+AO77+AQ77+AS77+AU77+AW77+AY77+BA77 -> 45 | AV77: 2B | AW77: 45
D78: 69 | E78: SANCHEZ, MELISA | F78: JUJ | G78: =I78+K78+M78+O78+Q78+S78+U78+W78+Y78+AA78+AC78+AE78+AG78+AI78+AK78+AM78+AO78+AQ78+AS78+AU78+AW78+AY78+BA78 -> 45 | R78: 8F | S78: 45
D79: 70 | E79: CANDIA, JOSELIN | F79: NQN | G79: =I79+K79+M79+O79+Q79+S79+U79+W79+Y79+AA79+AC79+AE79+AG79+AI79+AK79+AM79+AO79+AQ79+AS79+AU79+AW79+AY79+BA79 -> 45 | AF79: 5 | AG79: 45
D80: 71 | E80: ZAPATERO, CARINA | F80: JUJ | G80: =I80+K80+M80+O80+Q80+S80+U80+W80+Y80+AA80+AC80+AE80+AG80+AI80+AK80+AM80+AO80+AQ80+AS80+AU80+AW80+AY80+BA80 -> 45 | R80: 8F | S80: 45
D81: 72 | E81: DORIGATTI, PATRICIA | F81: CAT | G81: =I81+K81+M81+O81+Q81+S81+U81+W81+Y81+AA81+AC81+AE81+AG81+AI81+AK81+AM81+AO81+AQ81+AS81+AU81+AW81+AY81+BA81 -> 25 | R81: 2B | S81: 25
D82: 73 | E82: LOPEZ, ROCIO | F82: SAL | G82: =I82+K82+M82+O82+Q82+S82+U82+W82+Y82+AA82+AC82+AE82+AG82+AI82+AK82+AM82+AO82+AQ82+AS82+AU82+AW82+AY82+BA82 -> 20 | R82: SF B | S82: 20

Sheet TOP 8
D4: TOP 8 NACIONAL | TEMPORADA 2026
D6: INDIVIDUAL DAMAS U9 | I6: INDIVIDUAL DAMAS U17 | N6: INDIVIDUAL CABALLEROS U9 | S6: INDIVIDUAL CABALLEROS U17
D7: 1 | E7: =IF(('ID U9'!E10)="","",'ID U9'!E10) -> SANHUEZA, ESPERANZA | F7: =IF(('ID U9'!I10)="","",'ID U9'!I10) -> MZA | G7: =IF(('ID U9'!J10)="","",'ID U9'!J10) -> 1145 | I7: 1 | J7: =IF(('ID U17'!E10)="","",'ID U17'!E10) -> PEREZ MAZZARELLO, JULIA | K7: =IF(('ID U17'!I10)="","",'ID U17'!I10) -> FET | L7: =IF(('ID U17'!J10)="","",'ID U17'!J10) -> 1160 | N7: 1 | O7: =IF(('IC U9'!E10)="","",'IC U9'!E10) -> HEREDIA, MARCOS | P7: =IF(('IC U9'!I10)="","",'IC U9'!I10) -> FET | Q7: =IF(('IC U9'!J10)="","",'IC U9'!J10) -> 1870 | S7: 1 | T7: =IF(('IC U17'!E10)="","",'IC U17'!E10) -> NAKAGAMA, ALAN JUN | U7: =IF(('IC U17'!I10)="","",'IC U17'!I10) -> FET | V7: =IF(('IC U17'!J10)="","",'IC U17'!J10) -> 1400.255
D8: 2 | E8: =IF(('ID U9'!E11)="","",'ID U9'!E11) -> PASTERI, DELFINA | F8: =IF(('ID U9'!I11)="","",'ID U9'!I11) -> SFE | G8: =IF(('ID U9'!J11)="","",'ID U9'!J11) -> 895 | I8: 2 | J8: =IF(('ID U17'!E11)="","",'ID U17'!E11) -> PALAMEDI, UMA | K8: =IF(('ID U17'!I11)="","",'ID U17'!I11) -> SFE | L8: =IF(('ID U17'!J11)="","",'ID U17'!J11) -> 665 | N8: 2 | O8: =IF(('IC U9'!E11)="","",'IC U9'!E11) -> FERNANDEZ, ENZO | P8: =IF(('IC U9'!I11)="","",'IC U9'!I11) -> FET | Q8: =IF(('IC U9'!J11)="","",'IC U9'!J11) -> 1555.22 | S8: 2 | T8: =IF(('IC U17'!E11)="","",'IC U17'!E11) -> NOTTURNO, NICOLAS | U8: =IF(('IC U17'!I11)="","",'IC U17'!I11) -> FET | V8: =IF(('IC U17'!J11)="","",'IC U17'!J11) -> 1230.32
D9: 3 | E9: =IF(('ID U9'!E12)="","",'ID U9'!E12) -> PALAMEDI, ALMA ANTONELLA | F9: =IF(('ID U9'!I12)="","",'ID U9'!I12) -> SFE | G9: =IF(('ID U9'!J12)="","",'ID U9'!J12) -> 810 | I9: 3 | J9: =IF(('ID U17'!E12)="","",'ID U17'!E12) -> BENITEZ TOME, MARTINA | K9: =IF(('ID U17'!I12)="","",'ID U17'!I12) -> COR | L9: =IF(('ID U17'!J12)="","",'ID U17'!J12) -> 575 | N9: 3 | O9: =IF(('IC U9'!E12)="","",'IC U9'!E12) -> RUBIN MINETTI, GALO | P9: =IF(('IC U9'!I12)="","",'IC U9'!I12) -> FET | Q9: =IF(('IC U9'!J12)="","",'IC U9'!J12) -> 1440.07 | S9: 3 | T9: =IF(('IC U17'!E12)="","",'IC U17'!E12) -> DOMINGUEZ, AGUSTIN | U9: =IF(('IC U17'!I12)="","",'IC U17'!I12) -> MZA | V9: =IF(('IC U17'!J12)="","",'IC U17'!J12) -> 1085.165
D10: 4 | E10: =IF(('ID U9'!E13)="","",'ID U9'!E13) -> PIRUZI, SIENNA | F10: =IF(('ID U9'!I13)="","",'ID U9'!I13) -> MZA | G10: =IF(('ID U9'!J13)="","",'ID U9'!J13) -> 795 | I10: 4 | J10: =IF(('ID U17'!E13)="","",'ID U17'!E13) -> GITELMAN, LORENA | K10: =IF(('ID U17'!I13)="","",'ID U17'!I13) -> FET | L10: =IF(('ID U17'!J13)="","",'ID U17'!J13) -> 550 | N10: 4 | O10: =IF(('IC U9'!E13)="","",'IC U9'!E13) -> MULLER, ILAN | P10: =IF(('IC U9'!I13)="","",'IC U9'!I13) -> FET | Q10: =IF(('IC U9'!J13)="","",'IC U9'!J13) -> 825 | S10: 4 | T10: =IF(('IC U17'!E13)="","",'IC U17'!E13) -> LEHNER, FACUNDO | U10: =IF(('IC U17'!I13)="","",'IC U17'!I13) -> CBA | V10: =IF(('IC U17'!J13)="","",'IC U17'!J13) -> 1020
D11: 5 | E11: =IF(('ID U9'!E14)="","",'ID U9'!E14) -> ALTO, MARTINA | F11: =IF(('ID U9'!I14)="","",'ID U9'!I14) -> MZA | G11: =IF(('ID U9'!J14)="","",'ID U9'!J14) -> 435 | I11: 5 | J11: =IF(('ID U17'!E14)="","",'ID U17'!E14) -> VELAZQUEZ, IRUPE | K11: =IF(('ID U17'!I14)="","",'ID U17'!I14) -> SFE | L11: =IF(('ID U17'!J14)="","",'ID U17'!J14) -> 525 | N11: 5 | O11: =IF(('IC U9'!E14)="","",'IC U9'!E14) -> TORRES, JOAQUIN | P11: =IF(('IC U9'!I14)="","",'IC U9'!I14) -> FET | Q11: =IF(('IC U9'!J14)="","",'IC U9'!J14) -> 600 | S11: 5 | T11: =IF(('IC U17'!E14)="","",'IC U17'!E14) -> AGÜERO, RENZO | U11: =IF(('IC U17'!I14)="","",'IC U17'!I14) -> MZA | V11: =IF(('IC U17'!J14)="","",'IC U17'!J14) -> 1005.165
D12: 6 | E12: =IF(('ID U9'!E15)="","",'ID U9'!E15) -> ITALIANO, DONATELLA | F12: =IF(('ID U9'!I15)="","",'ID U9'!I15) -> MZA | G12: =IF(('ID U9'!J15)="","",'ID U9'!J15) -> 275 | I12: 6 | J12: =IF(('ID U17'!E15)="","",'ID U17'!E15) -> GUIA MONZON, IXCHEL | K12: =IF(('ID U17'!I15)="","",'ID U17'!I15) -> SFE | L12: =IF(('ID U17'!J15)="","",'ID U17'!J15) -> 495 | N12: 6 | O12: =IF(('IC U9'!E15)="","",'IC U9'!E15) -> MUT, GERMAN | P12: =IF(('IC U9'!I15)="","",'IC U9'!I15) -> MZA | Q12: =IF(('IC U9'!J15)="","",'IC U9'!J15) -> 370 | S12: 6 | T12: =IF(('IC U17'!E15)="","",'IC U17'!E15) -> AXON, JUAN CRUZ | U12: =IF(('IC U17'!I15)="","",'IC U17'!I15) -> CHA | V12: =IF(('IC U17'!J15)="","",'IC U17'!J15) -> 915
D13: 7 | E13: =IF(('ID U9'!E16)="","",'ID U9'!E16) -> NOTARNICOLA, PAULINA | F13: =IF(('ID U9'!I16)="","",'ID U9'!I16) -> SFE | G13: =IF(('ID U9'!J16)="","",'ID U9'!J16) -> 205 | I13: 6 | J13: =IF(('ID U17'!E16)="","",'ID U17'!E16) -> LOPEZ AUAT, MALENA | K13: =IF(('ID U17'!I16)="","",'ID U17'!I16) -> SEN | L13: =IF(('ID U17'!J16)="","",'ID U17'!J16) -> 495 | N13: 7 | O13: =IF(('IC U9'!E16)="","",'IC U9'!E16) -> BAROCCHI, VITTO | P13: =IF(('IC U9'!I16)="","",'IC U9'!I16) -> MZA | Q13: =IF(('IC U9'!J16)="","",'IC U9'!J16) -> 190 | S13: 7 | T13: =IF(('IC U17'!E16)="","",'IC U17'!E16) -> LA VIA, GIULIANO ADRIEL | U13: =IF(('IC U17'!I16)="","",'IC U17'!I16) -> SLU | V13: =IF(('IC U17'!J16)="","",'IC U17'!J16) -> 785
D14: 7 | E14: =IF(('ID U9'!E17)="","",'ID U9'!E17) -> RICART CIACCI, EMMA | F14: =IF(('ID U9'!I17)="","",'ID U9'!I17) -> CBA | G14: =IF(('ID U9'!J17)="","",'ID U9'!J17) -> 205 | I14: 8 | J14: =IF(('ID U17'!E17)="","",'ID U17'!E17) -> FERRI, DELFINA | K14: =IF(('ID U17'!I17)="","",'ID U17'!I17) -> SFE | L14: =IF(('ID U17'!J17)="","",'ID U17'!J17) -> 480 | N14: 8 | O14: =IF(('IC U9'!E17)="","",'IC U9'!E17) -> SOTO JUAREZ, CAMILO | P14: =IF(('IC U9'!I17)="","",'IC U9'!I17) -> JUJ | Q14: =IF(('IC U9'!J17)="","",'IC U9'!J17) -> 180 | S14: 8 | T14: =IF(('IC U17'!E17)="","",'IC U17'!E17) -> USLENGHI, SANTIAGO | U14: =IF(('IC U17'!I17)="","",'IC U17'!I17) -> FET | V14: =IF(('IC U17'!J17)="","",'IC U17'!J17) -> 770
D16: INDIVIDUAL DAMAS U11 | I16: INDIVIDUAL DAMAS U19 | N16: INDIVIDUAL CABALLEROS U11 | S16: INDIVIDUAL CABALLEROS U19
D17: 1 | E17: =IF(('ID U11'!E10)="","",'ID U11'!E10) -> PIRUZI, ALBA ALLEGRA | F17: =IF(('ID U11'!I10)="","",'ID U11'!I10) -> MZA | G17: =IF(('ID U11'!J10)="","",'ID U11'!J10) -> 1245 | I17: 1 | J17: =IF(('ID U19'!E10)="","",'ID U19'!E10) -> FRIAS PAZ, LUCIANA GABRIELA | K17: =IF(('ID U19'!I10)="","",'ID U19'!I10) -> SEN | L17: =IF(('ID U19'!J10)="","",'ID U19'!J10) -> 2000.67 | N17: 1 | O17: =IF(('IC U11'!E10)="","",'IC U11'!E10) -> HEREDIA, MARCOS | P17: =IF(('IC U11'!I10)="","",'IC U11'!I10) -> FET | Q17: =IF(('IC U11'!J10)="","",'IC U11'!J10) -> 1605.4 | S17: 1 | T17: =IF(('IC U19'!E10)="","",'IC U19'!E10) -> LA VIA, GIULIANO ADRIEL | U17: =IF(('IC U19'!I10)="","",'IC U19'!I10) -> SLU | V17: =IF(('IC U19'!J10)="","",'IC U19'!J10) -> 1440.1988
D18: 2 | E18: =IF(('ID U11'!E11)="","",'ID U11'!E11) -> BIBBO, AITANA | F18: =IF(('ID U11'!I11)="","",'ID U11'!I11) -> SFE | G18: =IF(('ID U11'!J11)="","",'ID U11'!J11) -> 1205 | I18: 2 | J18: =IF(('ID U19'!E11)="","",'ID U19'!E11) -> SHAHMURADYAN, MARIAM | K18: =IF(('ID U19'!I11)="","",'ID U19'!I11) -> FET | L18: =IF(('ID U19'!J11)="","",'ID U19'!J11) -> 1215 | N18: 2 | O18: =IF(('IC U11'!E11)="","",'IC U11'!E11) -> DOMINGUEZ, BENICIO | P18: =IF(('IC U11'!I11)="","",'IC U11'!I11) -> MZA | Q18: =IF(('IC U11'!J11)="","",'IC U11'!J11) -> 1315.36 | S18: 2 | T18: =IF(('IC U19'!E11)="","",'IC U19'!E11) -> NOTTURNO, NICOLAS | U18: =IF(('IC U19'!I11)="","",'IC U19'!I11) -> FET | V18: =IF(('IC U19'!J11)="","",'IC U19'!J11) -> 1400.345
D19: 3 | E19: =IF(('ID U11'!E12)="","",'ID U11'!E12) -> ROMERO, ANITA EMILIA | F19: =IF(('ID U11'!I12)="","",'ID U11'!I12) -> COR | G19: =IF(('ID U11'!J12)="","",'ID U11'!J12) -> 1165 | I19: 3 | J19: =IF(('ID U19'!E12)="","",'ID U19'!E12) -> GIMENEZ, MALENA | K19: =IF(('ID U19'!I12)="","",'ID U19'!I12) -> JUJ | L19: =IF(('ID U19'!J12)="","",'ID U19'!J12) -> 1150 | N19: 3 | O19: =IF(('IC U11'!E12)="","",'IC U11'!E12) -> ALTO, VALENTINO | P19: =IF(('IC U11'!I12)="","",'IC U11'!I12) -> MZA | Q19: =IF(('IC U11'!J12)="","",'IC U11'!J12) -> 1100 | S19: 3 | T19: =IF(('IC U19'!E12)="","",'IC U19'!E12) -> CARRANZA, MATEO | U19: =IF(('IC U19'!I12)="","",'IC U19'!I12) -> FET | V19: =IF(('IC U19'!J12)="","",'IC U19'!J12) -> 1085
D20: 4 | E20: =IF(('ID U11'!E13)="","",'ID U11'!E13) -> ALVARADO, ORIANA | F20: =IF(('ID U11'!I13)="","",'ID U11'!I13) -> SCZ | G20: =IF(('ID U11'!J13)="","",'ID U11'!J13) -> 965 | I20: 4 | J20: =IF(('ID U19'!E13)="","",'ID U19'!E13) -> JANDULA, AMBAR | K20: =IF(('ID U19'!I13)="","",'ID U19'!I13) -> SAL | L20: =IF(('ID U19'!J13)="","",'ID U19'!J13) -> 1096.25 | N20: 4 | O20: =IF(('IC U11'!E13)="","",'IC U11'!E13) -> FERNANDEZ, ENZO | P20: =IF(('IC U11'!I13)="","",'IC U11'!I13) -> FET | Q20: =IF(('IC U11'!J13)="","",'IC U11'!J13) -> 1040.175 | S20: 4 | T20: =IF(('IC U19'!E13)="","",'IC U19'!E13) -> MOSTEIRIN CLEMENTE, CAMILO | U20: =IF(('IC U19'!I13)="","",'IC U19'!I13) -> FET | V20: =IF(('IC U19'!J13)="","",'IC U19'!J13) -> 1070.3
D21: 5 | E21: =IF(('ID U11'!E14)="","",'ID U11'!E14) -> HILARION, ZOE | F21: =IF(('ID U11'!I14)="","",'ID U11'!I14) -> SCZ | G21: =IF(('ID U11'!J14)="","",'ID U11'!J14) -> 720 | I21: 5 | J21: =IF(('ID U19'!E14)="","",'ID U19'!E14) -> PEREZ ERASO, GIULIANA | K21: =IF(('ID U19'!I14)="","",'ID U19'!I14) -> MZA | L21: =IF(('ID U19'!J14)="","",'ID U19'!J14) -> 1017.87 | N21: 5 | O21: =IF(('IC U11'!E14)="","",'IC U11'!E14) -> RUBIN MINETTI, GALO | P21: =IF(('IC U11'!I14)="","",'IC U11'!I14) -> FET | Q21: =IF(('IC U11'!J14)="","",'IC U11'!J14) -> 1000 | S21: 5 | T21: =IF(('IC U19'!E14)="","",'IC U19'!E14) -> LEHNER, FACUNDO | U21: =IF(('IC U19'!I14)="","",'IC U19'!I14) -> CBA | V21: =IF(('IC U19'!J14)="","",'IC U19'!J14) -> 1030.035
D22: 6 | E22: =IF(('ID U11'!E15)="","",'ID U11'!E15) -> PASTERI, DELFINA | F22: =IF(('ID U11'!I15)="","",'ID U11'!I15) -> SFE | G22: =IF(('ID U11'!J15)="","",'ID U11'!J15) -> 645 | I22: 6 | J22: =IF(('ID U19'!E15)="","",'ID U19'!E15) -> PEREZ MAZZARELLO, JULIA | K22: =IF(('ID U19'!I15)="","",'ID U19'!I15) -> FET | L22: =IF(('ID U19'!J15)="","",'ID U19'!J15) -> 940 | N22: 6 | O22: =IF(('IC U11'!E15)="","",'IC U11'!E15) -> DRATEWKA, DROR | P22: =IF(('IC U11'!I15)="","",'IC U11'!I15) -> FET | Q22: =IF(('IC U11'!J15)="","",'IC U11'!J15) -> 995 | S22: 6 | T22: =IF(('IC U19'!E15)="","",'IC U19'!E15) -> MARTINEZ, TOBIAS | U22: =IF(('IC U19'!I15)="","",'IC U19'!I15) -> SLU | V22: =IF(('IC U19'!J15)="","",'IC U19'!J15) -> 1001.415
D23: 7 | E23: =IF(('ID U11'!E16)="","",'ID U11'!E16) -> CASSARA, CAMILA | F23: =IF(('ID U11'!I16)="","",'ID U11'!I16) -> FET | G23: =IF(('ID U11'!J16)="","",'ID U11'!J16) -> 545 | I23: 7 | J23: =IF(('ID U19'!E16)="","",'ID U19'!E16) -> SALUSSO, ALEXIA | K23: =IF(('ID U19'!I16)="","",'ID U19'!I16) -> FET | L23: =IF(('ID U19'!J16)="","",'ID U19'!J16) -> 890 | N23: 7 | O23: =IF(('IC U11'!E16)="","",'IC U11'!E16) -> NOTARNICOLA, FELIPE | P23: =IF(('IC U11'!I16)="","",'IC U11'!I16) -> SFE | Q23: =IF(('IC U11'!J16)="","",'IC U11'!J16) -> 935.285 | S23: 7 | T23: =IF(('IC U19'!E16)="","",'IC U19'!E16) -> ARCHUA, BENJAMIN | U23: =IF(('IC U19'!I16)="","",'IC U19'!I16) -> MZA | V23: =IF(('IC U19'!J16)="","",'IC U19'!J16) -> 1000
D24: 8 | E24: =IF(('ID U11'!E17)="","",'ID U11'!E17) -> TUSCO, MACKENSI | F24: =IF(('ID U11'!I17)="","",'ID U11'!I17) -> SCZ | G24: =IF(('ID U11'!J17)="","",'ID U11'!J17) -> 490 | I24: 8 | J24: =IF(('ID U19'!E17)="","",'ID U19'!E17) -> LOPEZ AUAT, MALENA | K24: =IF(('ID U19'!I17)="","",'ID U19'!I17) -> SEN | L24: =IF(('ID U19'!J17)="","",'ID U19'!J17) -> 875 | N24: 8 | O24: =IF(('IC U11'!E17)="","",'IC U11'!E17) -> ROSSI VERA, FRANCO | P24: =IF(('IC U11'!I17)="","",'IC U11'!I17) -> FET | Q24: =IF(('IC U11'!J17)="","",'IC U11'!J17) -> 850.035 | S24: 8 | T24: =IF(('IC U19'!E17)="","",'IC U19'!E17) -> NAKAGAMA, ALAN JUN | U24: =IF(('IC U19'!I17)="","",'IC U19'!I17) -> FET | V24: =IF(('IC U19'!J17)="","",'IC U19'!J17) -> 985.17
D26: INDIVIDUAL DAMAS U13 | I26: INDIVIDUAL DAMAS U23 | N26: INDIVIDUAL CABALLEROS U13 | S26: INDIVIDUAL CABALLEROS U23
D27: 1 | E27: =IF(('ID U13'!E10)="","",'ID U13'!E10) -> SATO, MIA HIROMMI | F27: =IF(('ID U13'!I10)="","",'ID U13'!I10) -> FET | G27: =IF(('ID U13'!J10)="","",'ID U13'!J10) -> 1505.2188 | I27: 1 | J27: =IF(('ID U23'!E10)="","",'ID U23'!E10) -> PEREZ, CAMILA | K27: =IF(('ID U23'!I10)="","",'ID U23'!I10) -> FBA | L27: =IF(('ID U23'!J10)="","",'ID U23'!J10) -> 1337.5 | N27: 1 | O27: =IF(('IC U13'!E10)="","",'IC U13'!E10) -> VILLEGAS, VALENTINO ARIEL | P27: =IF(('IC U13'!I10)="","",'IC U13'!I10) -> MZA | Q27: =IF(('IC U13'!J10)="","",'IC U13'!J10) -> 1610.165 | S27: 1 | T27: =IF(('IC U23'!E10)="","",'IC U23'!E10) -> BERNARDOU, TOMAS | U27: =IF(('IC U23'!I10)="","",'IC U23'!I10) -> FET | V27: =IF(('IC U23'!J10)="","",'IC U23'!J10) -> 1350.07
D28: 2 | E28: =IF(('ID U13'!E11)="","",'ID U13'!E11) -> CRUZ MUÑOZ, MARTINA | F28: =IF(('ID U13'!I11)="","",'ID U13'!I11) -> FET | G28: =IF(('ID U13'!J11)="","",'ID U13'!J11) -> 1205.07 | I28: 2 | J28: =IF(('ID U23'!E11)="","",'ID U23'!E11) -> ALAMO, VALENTINA | K28: =IF(('ID U23'!I11)="","",'ID U23'!I11) -> LIB | L28: =IF(('ID U23'!J11)="","",'ID U23'!J11) -> 755 | N28: 2 | O28: =IF(('IC U13'!E11)="","",'IC U13'!E11) -> RUBIN MINETTI, DANTE | P28: =IF(('IC U13'!I11)="","",'IC U13'!I11) -> FET | Q28: =IF(('IC U13'!J11)="","",'IC U13'!J11) -> 1595 | S28: 2 | T28: =IF(('IC U23'!E11)="","",'IC U23'!E11) -> SERRANO, VALENTIN | U28: =IF(('IC U23'!I11)="","",'IC U23'!I11) -> SEN | V28: =IF(('IC U23'!J11)="","",'IC U23'!J11) -> 1230
D29: 3 | E29: =IF(('ID U13'!E12)="","",'ID U13'!E12) -> TOSCANO, DAIANA ANTONELLA | F29: =IF(('ID U13'!I12)="","",'ID U13'!I12) -> SAL | G29: =IF(('ID U13'!J12)="","",'ID U13'!J12) -> 1140 | I29: 3 | J29: =IF(('ID U23'!E12)="","",'ID U23'!E12) -> IWASA, ABRIL | K29: =IF(('ID U23'!I12)="","",'ID U23'!I12) -> FET | L29: =IF(('ID U23'!J12)="","",'ID U23'!J12) -> 635 | N29: 3 | O29: =IF(('IC U13'!E12)="","",'IC U13'!E12) -> MARCIAL, LUCA | P29: =IF(('IC U13'!I12)="","",'IC U13'!I12) -> FET | Q29: =IF(('IC U13'!J12)="","",'IC U13'!J12) -> 1287.61 | S29: 3 | T29: =IF(('IC U23'!E12)="","",'IC U23'!E12) -> SPINELLI, FRANCO | U29: =IF(('IC U23'!I12)="","",'IC U23'!I12) -> FET | V29: =IF(('IC U23'!J12)="","",'IC U23'!J12) -> 1035
D30: 4 | E30: =IF(('ID U13'!E13)="","",'ID U13'!E13) -> SIALLE, CONSTANTINA | F30: =IF(('ID U13'!I13)="","",'ID U13'!I13) -> SEN | G30: =IF(('ID U13'!J13)="","",'ID U13'!J13) -> 1120 | I30: 4 | J30: =IF(('ID U23'!E13)="","",'ID U23'!E13) -> PEREYRA, MANUELA | K30: =IF(('ID U23'!I13)="","",'ID U23'!I13) -> RNG | L30: =IF(('ID U23'!J13)="","",'ID U23'!J13) -> 515 | N30: 4 | O30: =IF(('IC U13'!E13)="","",'IC U13'!E13) -> PIRUZI, GIANNI | P30: =IF(('IC U13'!I13)="","",'IC U13'!I13) -> MZA | Q30: =IF(('IC U13'!J13)="","",'IC U13'!J13) -> 1095.11 | S30: 4 | T30: =IF(('IC U23'!E13)="","",'IC U23'!E13) -> RODRIGUEZ SCHOELLER, SANTIAGO | U30: =IF(('IC U23'!I13)="","",'IC U23'!I13) -> FET | V30: =IF(('IC U23'!J13)="","",'IC U23'!J13) -> 930
D31: 5 | E31: =IF(('ID U13'!E14)="","",'ID U13'!E14) -> OLIVAREZ, ISABELLA | F31: =IF(('ID U13'!I14)="","",'ID U13'!I14) -> SFE | G31: =IF(('ID U13'!J14)="","",'ID U13'!J14) -> 1115 | I31: 5 | J31: =IF(('ID U23'!E14)="","",'ID U23'!E14) -> OKUYAMA, ABRIL | K31: =IF(('ID U23'!I14)="","",'ID U23'!I14) -> FET | L31: =IF(('ID U23'!J14)="","",'ID U23'!J14) -> 495 | N31: 5 | O31: =IF(('IC U13'!E14)="","",'IC U13'!E14) -> ALTO, JULIAN | P31: =IF(('IC U13'!I14)="","",'IC U13'!I14) -> MZA | Q31: =IF(('IC U13'!J14)="","",'IC U13'!J14) -> 1055.28 | S31: 5 | T31: =IF(('IC U23'!E14)="","",'IC U23'!E14) -> ALVAREZ, FELIPE | U31: =IF(('IC U23'!I14)="","",'IC U23'!I14) -> FET | V31: =IF(('IC U23'!J14)="","",'IC U23'!J14) -> 805.225
D32: 6 | E32: =IF(('ID U13'!E15)="","",'ID U13'!E15) -> VERA ARROYO, MIA LUANNA | F32: =IF(('ID U13'!I15)="","",'ID U13'!I15) -> MZA | G32: =IF(('ID U13'!J15)="","",'ID U13'!J15) -> 905 | I32: 6 | J32: =IF(('ID U23'!E15)="","",'ID U23'!E15) -> LIFSCHITZ, YAEL | K32: =IF(('ID U23'!I15)="","",'ID U23'!I15) -> FET | L32: =IF(('ID U23'!J15)="","",'ID U23'!J15) -> 365 | N32: 6 | O32: =IF(('IC U13'!E15)="","",'IC U13'!E15) -> ROMEGO, ERNESTO | P32: =IF(('IC U13'!I15)="","",'IC U13'!I15) -> FET | Q32: =IF(('IC U13'!J15)="","",'IC U13'!J15) -> 1010.045 | S32: 6 | T32: =IF(('IC U23'!E15)="","",'IC U23'!E15) -> LA BOCCETA, IGNACIO | U32: =IF(('IC U23'!I15)="","",'IC U23'!I15) -> FET | V32: =IF(('IC U23'!J15)="","",'IC U23'!J15) -> 735
D33: 7 | E33: =IF(('ID U13'!E16)="","",'ID U13'!E16) -> PIRUZI, ALBA ALLEGRA | F33: =IF(('ID U13'!I16)="","",'ID U13'!I16) -> MZA | G33: =IF(('ID U13'!J16)="","",'ID U13'!J16) -> 900.09 | I33: 7 | J33: =IF(('ID U23'!E16)="","",'ID U23'!E16) -> CHACON, DANIELA | K33: =IF(('ID U23'!I16)="","",'ID U23'!I16) -> FET | L33: =IF(('ID U23'!J16)="","",'ID U23'!J16) -> 340 | N33: 7 | O33: =IF(('IC U13'!E16)="","",'IC U13'!E16) -> VARELA, FEDERICO | P33: =IF(('IC U13'!I16)="","",'IC U13'!I16) -> SAL | Q33: =IF(('IC U13'!J16)="","",'IC U13'!J16) -> 1005 | S33: 7 | T33: =IF(('IC U23'!E16)="","",'IC U23'!E16) -> CARRIZO JOZAMI, BENJAMIN | U33: =IF(('IC U23'!I16)="","",'IC U23'!I16) -> SEN | V33: =IF(('IC U23'!J16)="","",'IC U23'!J16) -> 685.135
D34: 8 | E34: =IF(('ID U13'!E17)="","",'ID U13'!E17) -> ROMERO, ANITA EMILIA | F34: =IF(('ID U13'!I17)="","",'ID U13'!I17) -> COR | G34: =IF(('ID U13'!J17)="","",'ID U13'!J17) -> 770 | I34: 8 | J34: =IF(('ID U23'!E17)="","",'ID U23'!E17) -> SICILIANO, KIARA | K34: =IF(('ID U23'!I17)="","",'ID U23'!I17) -> FET | L34: =IF(('ID U23'!J17)="","",'ID U23'!J17) -> 295 | N34: 8 | O34: =IF(('IC U13'!E17)="","",'IC U13'!E17) -> MULLER, LUCA | P34: =IF(('IC U13'!I17)="","",'IC U13'!I17) -> FET | Q34: =IF(('IC U13'!J17)="","",'IC U13'!J17) -> 955.175 | S34: 8 | T34: =IF(('IC U23'!E17)="","",'IC U23'!E17) -> POLLINI, EMILIANO | U34: =IF(('IC U23'!I17)="","",'IC U23'!I17) -> FET | V34: =IF(('IC U23'!J17)="","",'IC U23'!J17) -> 650.165
D36: INDIVIDUAL DAMAS U15 | I36: INDIVIDUAL DAMAS TODA COMPETIDORA | N36: INDIVIDUAL CABALLEROS U15 | S36: INDIVIDUAL CABALLEROS TODO COMPETIDOR
D37: 1 | E37: =IF(('ID U15'!E10)="","",'ID U15'!E10) -> SALUSSO, ALEXIA | F37: =IF(('ID U15'!I10)="","",'ID U15'!I10) -> FET | G37: =IF(('ID U15'!J10)="","",'ID U15'!J10) -> 1595 | I37: 1 | J37: =IF(('ID TC'!E10)="","",'ID TC'!E10) -> FRIAS PAZ, LUCIANA GABRIELA | K37: =IF(('ID TC'!F10)="","",'ID TC'!F10) -> SEN | L37: =IF(('ID TC'!G10)="","",'ID TC'!G10) -> 1346.6 | N37: 1 | O37: =IF(('IC U15'!E10)="","",'IC U15'!E10) -> DI GIROLAMO, BRUNO | P37: =IF(('IC U15'!I10)="","",'IC U15'!I10) -> FET | Q37: =IF(('IC U15'!J10)="","",'IC U15'!J10) -> 1616.46 | S37: 1 | T37: =IF(('IC TC'!E10)="","",'IC TC'!E10) -> LA VIA, GIULIANO ADRIEL | U37: =IF(('IC TC'!F10)="","",'IC TC'!F10) -> SLU | V37: =IF(('IC TC'!G10)="","",'IC TC'!G10) -> 855.0525
D38: 2 | E38: =IF(('ID U15'!E11)="","",'ID U15'!E11) -> SALPETER, LUANA | F38: =IF(('ID U15'!I11)="","",'ID U15'!I11) -> FET | G38: =IF(('ID U15'!J11)="","",'ID U15'!J11) -> 1286.305 | I38: 2 | J38: =IF(('ID TC'!E11)="","",'ID TC'!E11) -> ZAPATERO HEIT, ANA | K38: =IF(('ID TC'!F11)="","",'ID TC'!F11) -> JUJ | L38: =IF(('ID TC'!G11)="","",'ID TC'!G11) -> 1305 | N38: 2 | O38: =IF(('IC U15'!E11)="","",'IC U15'!E11) -> AXON, JUAN CRUZ | P38: =IF(('IC U15'!I11)="","",'IC U15'!I11) -> CHA | Q38: =IF(('IC U15'!J11)="","",'IC U15'!J11) -> 1270 | S38: 2 | T38: =IF(('IC TC'!E11)="","",'IC TC'!E11) -> NOTTURNO, NICOLAS | U38: =IF(('IC TC'!F11)="","",'IC TC'!F11) -> FET | V38: =IF(('IC TC'!G11)="","",'IC TC'!G11) -> 820.245
D39: 3 | E39: =IF(('ID U15'!E12)="","",'ID U15'!E12) -> GUARDIA, MARIA VICTORIA | F39: =IF(('ID U15'!I12)="","",'ID U15'!I12) -> SAL | G39: =IF(('ID U15'!J12)="","",'ID U15'!J12) -> 1235.1537 | I39: 3 | J39: =IF(('ID TC'!E12)="","",'ID TC'!E12) -> PEREZ, CAMILA | K39: =IF(('ID TC'!F12)="","",'ID TC'!F12) -> FBA | L39: =IF(('ID TC'!G12)="","",'ID TC'!G12) -> 1075.2438 | N39: 3 | O39: =IF(('IC U15'!E12)="","",'IC U15'!E12) -> VILLEGAS, VALENTINO ARIEL | P39: =IF(('IC U15'!I12)="","",'IC U15'!I12) -> MZA | Q39: =IF(('IC U15'!J12)="","",'IC U15'!J12) -> 1205.165 | S39: 3 | T39: =IF(('IC TC'!E12)="","",'IC TC'!E12) -> AGUAYSOL, LAUTARO | U39: =IF(('IC TC'!F12)="","",'IC TC'!F12) -> JUJ | V39: =IF(('IC TC'!G12)="","",'IC TC'!G12) -> 770
D40: 4 | E40: =IF(('ID U15'!E13)="","",'ID U15'!E13) -> VALERIO, GEMMA | F40: =IF(('ID U15'!I13)="","",'ID U15'!I13) -> SAL | G40: =IF(('ID U15'!J13)="","",'ID U15'!J13) -> 1225 | I40: 4 | J40: =IF(('ID TC'!E13)="","",'ID TC'!E13) -> ZAPATERO HEIT, DANIELA | K40: =IF(('ID TC'!F13)="","",'ID TC'!F13) -> JUJ | L40: =IF(('ID TC'!G13)="","",'ID TC'!G13) -> 1035 | N40: 4 | O40: =IF(('IC U15'!E13)="","",'IC U15'!E13) -> MARCIAL, LUCA | P40: =IF(('IC U15'!I13)="","",'IC U15'!I13) -> FET | Q40: =IF(('IC U15'!J13)="","",'IC U15'!J13) -> 1146.3 | S40: 4 | T40: =IF(('IC TC'!E13)="","",'IC TC'!E13) -> GILABERT, RODRIGO | U40: =IF(('IC TC'!F13)="","",'IC TC'!F13) -> FET | V40: =IF(('IC TC'!G13)="","",'IC TC'!G13) -> 745
D41: 5 | E41: =IF(('ID U15'!E14)="","",'ID U15'!E14) -> PEREZ MAZZARELLO, MALENA | F41: =IF(('ID U15'!I14)="","",'ID U15'!I14) -> FET | G41: =IF(('ID U15'!J14)="","",'ID U15'!J14) -> 1195.055 | I41: 5 | J41: =IF(('ID TC'!E14)="","",'ID TC'!E14) -> MARCIAL, ALMA | K41: =IF(('ID TC'!F14)="","",'ID TC'!F14) -> FET | L41: =IF(('ID TC'!G14)="","",'ID TC'!G14) -> 1020 | N41: 5 | O41: =IF(('IC U15'!E14)="","",'IC U15'!E14) -> PEDERNERA, LORENZO | P41: =IF(('IC U15'!I14)="","",'IC U15'!I14) -> MZA | Q41: =IF(('IC U15'!J14)="","",'IC U15'!J14) -> 1130.235 | S41: 5 | T41: =IF(('IC TC'!E14)="","",'IC TC'!E14) -> SAAVEDRA, TOMAS | U41: =IF(('IC TC'!F14)="","",'IC TC'!F14) -> MZA | V41: =IF(('IC TC'!G14)="","",'IC TC'!G14) -> 630
D42: 6 | E42: =IF(('ID U15'!E15)="","",'ID U15'!E15) -> MAEHAMA, TRINIDAD | F42: =IF(('ID U15'!I15)="","",'ID U15'!I15) -> FET | G42: =IF(('ID U15'!J15)="","",'ID U15'!J15) -> 1170.025 | I42: 6 | J42: =IF(('ID TC'!E15)="","",'ID TC'!E15) -> MOLERO, CANDELA | K42: =IF(('ID TC'!F15)="","",'ID TC'!F15) -> FET | L42: =IF(('ID TC'!G15)="","",'ID TC'!G15) -> 990 | N42: 6 | O42: =IF(('IC U15'!E15)="","",'IC U15'!E15) -> RUBIN MINETTI, DANTE | P42: =IF(('IC U15'!I15)="","",'IC U15'!I15) -> FET | Q42: =IF(('IC U15'!J15)="","",'IC U15'!J15) -> 1030.055 | S42: 6 | T42: =IF(('IC TC'!E15)="","",'IC TC'!E15) -> MOSTEIRIN CLEMENTE, CAMILO | U42: =IF(('IC TC'!F15)="","",'IC TC'!F15) -> FET | V42: =IF(('IC TC'!G15)="","",'IC TC'!G15) -> 625.195
D43: 7 | E43: =IF(('ID U15'!E16)="","",'ID U15'!E16) -> GUIA MONZON, IXCHEL | F43: =IF(('ID U15'!I16)="","",'ID U15'!I16) -> SFE | G43: =IF(('ID U15'!J16)="","",'ID U15'!J16) -> 1141.25 | I43: 7 | J43: =IF(('ID TC'!E16)="","",'ID TC'!E16) -> PEREYRA, MANUELA | K43: =IF(('ID TC'!F16)="","",'ID TC'!F16) -> RNG | L43: =IF(('ID TC'!G16)="","",'ID TC'!G16) -> 938.75 | N43: 7 | O43: =IF(('IC U15'!E16)="","",'IC U15'!E16) -> URFEIG, FRANCISCO | P43: =IF(('IC U15'!I16)="","",'IC U15'!I16) -> FET | Q43: =IF(('IC U15'!J16)="","",'IC U15'!J16) -> 895.155 | S43: 7 | T43: =IF(('IC TC'!E16)="","",'IC TC'!E16) -> SERRANO, VALENTIN | U43: =IF(('IC TC'!F16)="","",'IC TC'!F16) -> SEN | V43: =IF(('IC TC'!G16)="","",'IC TC'!G16) -> 585
D44: 8 | E44: =IF(('ID U15'!E17)="","",'ID U15'!E17) -> CASTELLANO, SOPHIA LIZ | F44: =IF(('ID U15'!I17)="","",'ID U15'!I17) -> FET | G44: =IF(('ID U15'!J17)="","",'ID U15'!J17) -> 1000.055 | I44: 8 | J44: =IF(('ID TC'!E17)="","",'ID TC'!E17) -> SHAHMURADYAN, MARIAM | K44: =IF(('ID TC'!F17)="","",'ID TC'!F17) -> FET | L44: =IF(('ID TC'!G17)="","",'ID TC'!G17) -> 830 | N44: 8 | O44: =IF(('IC U15'!E17)="","",'IC U15'!E17) -> VARELA, FEDERICO | P44: =IF(('IC U15'!I17)="","",'IC U15'!I17) -> SAL | Q44: =IF(('IC U15'!J17)="","",'IC U15'!J17) -> 855 | S44: 8 | T44: =IF(('IC TC'!E17)="","",'IC TC'!E17) -> WEISS, ALAN | U44: =IF(('IC TC'!F17)="","",'IC TC'!F17) -> FET | V44: =IF(('IC TC'!G17)="","",'IC TC'!G17) -> 583.75

Sheet IC U9
E4: INDIVIDUAL CABALLEROS U9 | K4: RANKING NACIONAL | TEMPORADA 2026
K5: Grand Prix | M5: Challenger | O5: Regional Abierto | Q5: Challenger | S5: Regional Abierto | U5: Regional Abierto | W5: Regional Abierto | Y5: Regional Abierto | AA5: Regional Abierto | AC5: Regional Abierto | AE5: Regional Abierto | AG5: Challenger | AI5: Regional Abierto | AK5: Nacional | AM5: Regional Abierto | AO5: Regional Abierto | AQ5: Regional Abierto | AS5: Grand Prix | AU5: Regional Abierto | AW5: Regional Abierto | AY5: Regional Abierto | BA5: Challenger | BC5: Abierto de la Rep.
K6: ROSARIO | M6: CHAPADMALAL | O6: FETEMBA | Q6: SANT. DEL ESTERO | S6: MENDOZA | U6: SALTA | W6: TIERRA DEL FUEGO | Y6: FETEMBA | AA6: JUJUY | AC6: SANTA FE | AE6: MENDOZA | AG6: SALTA | AI6: NEUQUÉN | AK6: SANTA FE | AM6: MENDOZA | AO6: FETEMBA | AQ6: SANTA CRUZ | AS6: MENDOZA | AU6: FETEMBA | AW6: MENDOZA | AY6: RIO NEGRO | BA6: ROSARIO | BC6: BUENOS AIRES
K7: 7 A 9 FEB 2025 | M7: 2 A 4 MAR 2025 | O7: 29 Y 30 MAR 2025 | Q7: 11 A 13 ABR 2025 | S7: 26 Y 27 ABR 2025 | U7: 26 Y 27 ABR 2025 | W7: 04 MAY 2025 | Y7: 10 Y 11 MAY 2025 | AA7: 24 Y 25 MAY 2025 | AC7: 31 MAY Y 1 JUN 2025 | AE7: 7 Y 8 JUN 2025 | AG7: 14 A 16 JUN 2025 | AI7: 21 Y 22 JUN 2025 | AK7: 9 A 13 JUL 2025 | AM7: 9 Y 10 AGO 2025 | AO7: 15 AGO 2025 | AQ7: 15 A 17 AGO 2025 | AS7: 5 A 7 SEP 2025 | AU7: 27 Y 28 SEP 2025 | AW7: 4 Y 5 OCT 2025 | AY7: 11 Y 12 OCT 2025 | BA7: 17 A 19 OCT 2025 | BC7: 21 A 24 NOV 2025
D8: POS. | E8: ATLETA | F8: DNI | G8: Fecha de Nacimiento | H8: CAT. | I8: ASOC. | J8: TOTAL | K8: Pos. | L8: Ptos. | M8: Pos. | N8: Ptos. | O8: Pos. | P8: Ptos. | Q8: Pos. | R8: Ptos. | S8: Pos. | T8: Ptos. | U8: Pos. | V8: Ptos. | W8: Pos. | X8: Ptos. | Y8: Pos. | Z8: Ptos. | AA8: Pos. | AB8: Ptos. | AC8: Pos. | AD8: Ptos. | AE8: Pos. | AF8: Ptos. | AG8: Pos. | AH8: Ptos. | AI8: Pos. | AJ8: Ptos. | AK8: Pos. | AL8: Ptos. | AM8: Pos. | AN8: Ptos. | AO8: Pos. | AP8: Ptos. | AQ8: Pos. | AR8: Ptos. | AS8: Pos. | AT8: Ptos. | AU8: Pos. | AV8: Ptos. | AW8: Pos. | AX8: Ptos. | AY8: Pos. | AZ8: Ptos. | BA8: Pos. | BB8: Ptos. | BC8: Pos. | BD8: Ptos.
D10: 1 | E10: HEREDIA, MARCOS | H10: 2017 | I10: FET | J10: =L10+N10+P10+R10+T10+V10+X10+Z10+AB10+AD10+AF10+AH10+AJ10+AL10+AN10+AP10+AR10+AT10+AV10+AX10+AZ10+BB10+BD10 -> 1870 | K10: 1 | L10: 330 | M10: 1 | N10: 220 | O10: 1 | P10: 110 | Y10: 1 | Z10: 110 | AK10: 1 | AL10: 495 | AO10: 1 | AP10: 110 | BC10: 1 | BD10: 495
D11: 2 | E11: FERNANDEZ, ENZO | H11: 2017 | I11: FET | J11: =L11+N11+P11+R11+T11+V11+X11+Z11+AB11+AD11+AF11+AH11+AJ11+AL11+AN11+AP11+AR11+AT11+AV11+AX11+AZ11+BB11+BD11 -> 1555.22 | K11: 4 | L11: 0.165 | M11: SF | N11: 140 | O11: SF | P11: 70 | Y11: SF | Z11: 70 | AK11: 2 | AL11: 405 | AO11: 4 | AP11: 0.055 | AS11: 1 | AT11: 330 | AU11: 1 | AV11: 110 | BA11: 2 | BB11: 180 | BC11: 4F | BD11: 250
D12: 3 | E12: RUBIN MINETTI, GALO | H12: 2017 | I12: FET | J12: =L12+N12+P12+R12+T12+V12+X12+Z12+AB12+AD12+AF12+AH12+AJ12+AL12+AN12+AP12+AR12+AT12+AV12+AX12+AZ12+BB12+BD12 -> 1440.07 | K12: 2 | L12: 270 | M12: 2 | N12: 180 | O12: SF | P12: 0.07 | Y12: 2 | Z12: 90 | AK12: 4F | AL12: 250 | AO12: 2 | AP12: 90 | AU12: 2 | AV12: 90 | BA12: 1 | BB12: 220 | BC12: 4F | BD12: 250
D13: 4 | E13: MULLER, ILAN | H13: 2017 | I13: FET | J13: =L13+N13+P13+R13+T13+V13+X13+Z13+AB13+AD13+AF13+AH13+AJ13+AL13+AN13+AP13+AR13+AT13+AV13+AX13+AZ13+BB13+BD13 -> 825 | O13: 1B | P13: 55 | AK13: SF | AL13: 315 | AO13: 3 | AP13: 70 | AU13: 3 | AV13: 70 | BC13: SF | BD13: 315
D14: 5 | E14: TORRES, JOAQUIN | H14: 2017 | I14: FET | J14: =L14+N14+P14+R14+T14+V14+X14+Z14+AB14+AD14+AF14+AH14+AJ14+AL14+AN14+AP14+AR14+AT14+AV14+AX14+AZ14+BB14+BD14 -> 600 | K14: 5 | L14: 135 | M14: 1B | N14: 110 | O14: SF B | P14: 35 | Y14: 2B | Z14: 45 | AK14: SF B | AL14: 115 | AO14: 5 | AP14: 45 | BC14: SF B | BD14: 115
D15: 6 | E15: MUT, GERMAN | H15: 2017 | I15: MZA | J15: =L15+N15+P15+R15+T15+V15+X15+Z15+AB15+AD15+AF15+AH15+AJ15+AL15+AN15+AP15+AR15+AT15+AV15+AX15+AZ15+BB15+BD15 -> 370 | AE15: SF | AF15: 70 | AS15: SF | AT15: 210 | AY15: 2 | AZ15: 90
D16: 7 | E16: BAROCCHI, VITTO | H16: 2018 | I16: MZA | J16: =L16+N16+P16+R16+T16+V16+X16+Z16+AB16+AD16+AF16+AH16+AJ16+AL16+AN16+AP16+AR16+AT16+AV16+AX16+AZ16+BB16+BD16 -> 190 | AE16: 3Z | AF16: 55 | AS16: 1B | AT16: 135
D17: 8 | E17: SOTO JUAREZ, CAMILO | H17: 2018 | I17: JUJ | J17: =L17+N17+P17+R17+T17+V17+X17+Z17+AB17+AD17+AF17+AH17+AJ17+AL17+AN17+AP17+AR17+AT17+AV17+AX17+AZ17+BB17+BD17 -> 180 | U17: 2 | V17: 90 | AA17: 2 | AB17: 90
D18: 9 | E18: CAMPUSANO, VITTO | H18: 2017 | I18: MZA | J18: =L18+N18+P18+R18+T18+V18+X18+Z18+AB18+AD18+AF18+AH18+AJ18+AL18+AN18+AP18+AR18+AT18+AV18+AX18+AZ18+BB18+BD18 -> 175 | AM18: 3 | AN18: 70 | AS18: 2B | AT18: 105
D19: 10 | E19: LEGGIO, FACUNDO | H19: 2017 | I19: MZA | J19: =L19+N19+P19+R19+T19+V19+X19+Z19+AB19+AD19+AF19+AH19+AJ19+AL19+AN19+AP19+AR19+AT19+AV19+AX19+AZ19+BB19+BD19 -> 165 | AS19: 4F | AT19: 165
D20: 11 | E20: MUÑOZ, GIOVANNI BENJAMIN | H20: 2017 | I20: SFE | J20: =L20+N20+P20+R20+T20+V20+X20+Z20+AB20+AD20+AF20+AH20+AJ20+AL20+AN20+AP20+AR20+AT20+AV20+AX20+AZ20+BB20+BD20 -> 160 | AK20: 2B | AL20: 160
D21: 12 | E21: IPPOLITI, MARCO | H21: 2019 | I21: MZA | J21: =L21+N21+P21+R21+T21+V21+X21+Z21+AB21+AD21+AF21+AH21+AJ21+AL21+AN21+AP21+AR21+AT21+AV21+AX21+AZ21+BB21+BD21 -> 145 | AS21: SF B | AT21: 75 | AY21: 3 | AZ21: 70
D22: 13 | E22: BENITTI, GEORGE | H22: 2017 | I22: TDF | J22: =L22+N22+P22+R22+T22+V22+X22+Z22+AB22+AD22+AF22+AH22+AJ22+AL22+AN22+AP22+AR22+AT22+AV22+AX22+AZ22+BB22+BD22 -> 140 | W22: 3 | X22: 70 | AQ22: 3 | AR22: 70
D23: 14 | E23: BIOTT, AUGUSTO | H23: 2017 | I23: LIB | J23: =L23+N23+P23+R23+T23+V23+X23+Z23+AB23+AD23+AF23+AH23+AJ23+AL23+AN23+AP23+AR23+AT23+AV23+AX23+AZ23+BB23+BD23 -> 115 | BC23: SF B | BD23: 115
D24: 15 | E24: SANTORO, GIOVANNI | H24: 2018 | I24: SFE | J24: =L24+N24+P24+R24+T24+V24+X24+Z24+AB24+AD24+AF24+AH24+AJ24+AL24+AN24+AP24+AR24+AT24+AV24+AX24+AZ24+BB24+BD24 -> 90 | BA24: 2B | BB24: 90
D25: 15 | E25: GALVAN CAMPESSI, BAUTISTA | H25: 2017 | I25: FBA | J25: =L25+N25+P25+R25+T25+V25+X25+Z25+AB25+AD25+AF25+AH25+AJ25+AL25+AN25+AP25+AR25+AT25+AV25+AX25+AZ25+BB25+BD25 -> 90 | M25: 2B | N25: 90
D26: 17 | E26: LISOTTO, FELIX | H26: 2017 | I26: MZA | J26: =L26+N26+P26+R26+T26+V26+X26+Z26+AB26+AD26+AF26+AH26+AJ26+AL26+AN26+AP26+AR26+AT26+AV26+AX26+AZ26+BB26+BD26 -> 70 | AE26: SF | AF26: 70
D27: 18 | E27: ARAMI BANGERTES, VICTORIA | H27: 2018 | I27: FBA | J27: =L27+N27+P27+R27+T27+V27+X27+Z27+AB27+AD27+AF27+AH27+AJ27+AL27+AN27+AP27+AR27+AT27+AV27+AX27+AZ27+BB27+BD27 -> 70 | M27: SF B | N27: 70

Sheet IC U11
E4: INDIVIDUAL CABALLEROS U11 | K4: RANKING NACIONAL | TEMPORADA 2026
K5: Grand Prix | M5: Challenger | O5: Regional Abierto | Q5: Challenger | S5: Regional Abierto | U5: Regional Abierto | W5: Regional Abierto | Y5: Regional Abierto | AA5: Regional Abierto | AC5: Regional Abierto | AE5: Regional Abierto | AG5: Challenger | AI5: Regional Abierto | AK5: Nacional | AM5: Regional Abierto | AO5: Regional Abierto | AQ5: Regional Abierto | AS5: Grand Prix | AU5: Regional Abierto | AW5: Regional Abierto | AY5: Regional Abierto | BA5: Challenger | BC5: Abierto de la Rep.
K6: ROSARIO | M6: CHAPADMALAL | O6: FETEMBA | Q6: SANT. DEL ESTERO | S6: MENDOZA | U6: SALTA | W6: TIERRA DEL FUEGO | Y6: FETEMBA | AA6: JUJUY | AC6: SANTA FE | AE6: MENDOZA | AG6: SALTA | AI6: NEUQUÉN | AK6: SANTA FE | AM6: MENDOZA | AO6: FETEMBA | AQ6: SANTA CRUZ | AS6: MENDOZA | AU6: FETEMBA | AW6: MENDOZA | AY6: RIO NEGRO | BA6: ROSARIO | BC6: BUENOS AIRES
K7: 7 A 9 FEB 2025 | M7: 2 A 4 MAR 2025 | O7: 29 Y 30 MAR 2025 | Q7: 11 A 13 ABR 2025 | S7: 26 Y 27 ABR 2025 | U7: 26 Y 27 ABR 2025 | W7: 04 MAY 2025 | Y7: 10 Y 11 MAY 2025 | AA7: 24 Y 25 MAY 2025 | AC7: 31 MAY Y 1 JUN 2025 | AE7: 7 Y 8 JUN 2025 | AG7: 14 A 16 JUN 2025 | AI7: 21 Y 22 JUN 2025 | AK7: 9 A 13 JUL 2025 | AM7: 9 Y 10 AGO 2025 | AO7: 15 AGO 2025 | AQ7: 15 A 17 AGO 2025 | AS7: 5 A 7 SEP 2025 | AU7: 27 Y 28 SEP 2025 | AW7: 4 Y 5 OCT 2025 | AY7: 11 Y 12 OCT 2025 | BA7: 17 A 19 OCT 2025 | BC7: 21 A 24 NOV 2025
D8: POS. | E8: ATLETA | F8: DNI | G8: Fecha de Nacimiento | H8: CAT. | I8: ASOC. | J8: TOTAL | K8: Pos. | L8: Ptos. | M8: Pos. | N8: Ptos. | O8: Pos. | P8: Ptos. | Q8: Pos. | R8: Ptos. | S8: Pos. | T8: Ptos. | U8: Pos. | V8: Ptos. | W8: Pos. | X8: Ptos. | Y8: Pos. | Z8: Ptos. | AA8: Pos. | AB8: Ptos. | AC8: Pos. | AD8: Ptos. | AE8: Pos. | AF8: Ptos. | AG8: Pos. | AH8: Ptos. | AI8: Pos. | AJ8: Ptos. | AK8: Pos. | AL8: Ptos. | AM8: Pos. | AN8: Ptos. | AO8: Pos. | AP8: Ptos. | AQ8: Pos. | AR8: Ptos. | AS8: Pos. | AT8: Ptos. | AU8: Pos. | AV8: Ptos. | AW8: Pos. | AX8: Ptos. | AY8: Pos. | AZ8: Ptos. | BA8: Pos. | BB8: Ptos. | BC8: Pos. | BD8: Ptos.
D10: 1 | E10: HEREDIA, MARCOS | H10: 2017 | I10: FET | J10: =L10+N10+P10+R10+T10+V10+X10+Z10+AB10+AD10+AF10+AH10+AJ10+AL10+AN10+AP10+AR10+AT10+AV10+AX10+AZ10+BB10+BD10 -> 1605.4 | K10: 2 | L10: 270 | M10: 1 | N10: 0.22 | O10: 1 | P10: 110 | Q10: 1 | R10: 220 | Y10: 2 | Z10: 0.09 | AC10: 2 | AD10: 0.09 | AK10: 4F | AL10: 250 | AO10: 1 | AP10: 110 | AU10: 1 | AV10: 110 | BA10: 1 | BB10: 220 | BC10: SF | BD10: 315
D11: 2 | E11: DOMINGUEZ, BENICIO | G11: N | H11: 2015 | I11: MZA | J11: =L11+N11+P11+R11+T11+V11+X11+Z11+AB11+AD11+AF11+AH11+AJ11+AL11+AN11+AP11+AR11+AT11+AV11+AX11+AZ11+BB11+BD11 -> 1315.36 | K11: 1 | L11: 330 | S11: 1 | T11: 110 | AE11: 1 | AF11: 110 | AK11: 4F | AL11: 250 | AM11: 1 | AN11: 110 | AS11: 2 | AT11: 0.27 | AW11: 2 | AX11: 0.09 | BC11: 2 | BD11: 405
D12: 3 | E12: ALTO, VALENTINO | G12: N | H12: 2015 | I12: MZA | J12: =L12+N12+P12+R12+T12+V12+X12+Z12+AB12+AD12+AF12+AH12+AJ12+AL12+AN12+AP12+AR12+AT12+AV12+AX12+AZ12+BB12+BD12 -> 1100 | AK12: 1 | AL12: 495 | AW12: 1 | AX12: 110 | BC12: 1 | BD12: 495
D13: 4 | E13: FERNANDEZ, ENZO | H13: 2017 | I13: FET | J13: =L13+N13+P13+R13+T13+V13+X13+Z13+AB13+AD13+AF13+AH13+AJ13+AL13+AN13+AP13+AR13+AT13+AV13+AX13+AZ13+BB13+BD13 -> 1040.175 | K13: SF B | L13: 0.105 | M13: SF | N13: 140 | O13: 1B | P13: 0.045 | Y13: SF B | Z13: 0.025 | AC13: SF | AD13: 70 | AK13: 8F | AL13: 205 | AO13: 4F | AP13: 55 | AS13: 4F | AT13: 165 | AU13: 2 | AV13: 90 | BA13: 4F | BB13: 110 | BC13: 8F | BD13: 205
D14: 5 | E14: RUBIN MINETTI, GALO | H14: 2017 | I14: FET | J14: =L14+N14+P14+R14+T14+V14+X14+Z14+AB14+AD14+AF14+AH14+AJ14+AL14+AN14+AP14+AR14+AT14+AV14+AX14+AZ14+BB14+BD14 -> 1000 | K14: 1B | L14: 165 | M14: 1B | N14: 110 | Y14: SF | Z14: 70 | AK14: 8F | AL14: 205 | AO14: 2 | AP14: 90 | AU14: 1B | AV14: 45 | BA14: 4F | BB14: 110 | BC14: 8F | BD14: 205
D15: 6 | E15: DRATEWKA, DROR | H15: 2016 | I15: FET | J15: =L15+N15+P15+R15+T15+V15+X15+Z15+AB15+AD15+AF15+AH15+AJ15+AL15+AN15+AP15+AR15+AT15+AV15+AX15+AZ15+BB15+BD15 -> 995 | O15: SF | P15: 70 | Y15: SF | Z15: 70 | AG15: 1 | AH15: 220 | AK15: 8F | AL15: 205 | AU15: SF | AV15: 70 | BA15: 4F | BB15: 110 | BC15: 4F | BD15: 250
D16: 7 | E16: NOTARNICOLA, FELIPE | H16: 2016 | I16: SFE | J16: =L16+N16+P16+R16+T16+V16+X16+Z16+AB16+AD16+AF16+AH16+AJ16+AL16+AN16+AP16+AR16+AT16+AV16+AX16+AZ16+BB16+BD16 -> 935.285 | K16: 2B | L16: 0.135 | M16: 2B | N16: 0.09 | O16: 2B | P16: 0.035 | Q16: 1B | R16: 110 | Y16: 4F | Z16: 55 | AC16: SF | AD16: 70 | AG16: 2 | AH16: 180 | AK16: 16F | AL16: 160 | AO16: 2B | AP16: 35 | AS16: 4F | AT16: 165 | AU16: SF B | AV16: 0.025 | BC16: 16F | BD16: 160
D17: 8 | E17: ROSSI VERA, FRANCO | G17: N | H17: 2015 | I17: FET | J17: =L17+N17+P17+R17+T17+V17+X17+Z17+AB17+AD17+AF17+AH17+AJ17+AL17+AN17+AP17+AR17+AT17+AV17+AX17+AZ17+BB17+BD17 -> 850.035 | Q17: SF | R17: 140 | Y17: 2B | Z17: 0.035 | AC17: 4F | AD17: 55 | AK17: SF B | AL17: 70 | AO17: SF | AP17: 70 | AS17: SF | AT17: 210 | AU17: 2B | AV17: 35 | BA17: 4F | BB17: 110 | BC17: 16F | BD17: 160
D18: 9 | E18: ROJAS ZANINI, PIERO | G18: N | H18: 2015 | I18: SEN | J18: =L18+N18+P18+R18+T18+V18+X18+Z18+AB18+AD18+AF18+AH18+AJ18+AL18+AN18+AP18+AR18+AT18+AV18+AX18+AZ18+BB18+BD18 -> 685 | Q18: SF | R18: 140 | U18: 1 | V18: 110 | AA18: 3 | AB18: 70 | AK18: 8F | AL18: 205 | BC18: 16F | BD18: 160
D19: 10 | E19: GIUMARRA, JUAN SEBASTIAN | G19: N | H19: 2015 | I19: MZA | J19: =L19+N19+P19+R19+T19+V19+X19+Z19+AB19+AD19+AF19+AH19+AJ19+AL19+AN19+AP19+AR19+AT19+AV19+AX19+AZ19+BB19+BD19 -> 520.045 | AE19: 3Z | AF19: 0.045 | AM19: 4F | AN19: 55 | AS19: 4F | AT19: 165 | AW19: SF | AX19: 70 | AY19: SF | AZ19: 70 | BC19: 16F | BD19: 160
D20: 11 | E20: MORENO, MATEO | H20: 2016 | I20: MZA | J20: =L20+N20+P20+R20+T20+V20+X20+Z20+AB20+AD20+AF20+AH20+AJ20+AL20+AN20+AP20+AR20+AT20+AV20+AX20+AZ20+BB20+BD20 -> 465.045 | S20: 5 | T20: 0.045 | AE20: 3Z | AF20: 45 | AM20: SF | AN20: 70 | AS20: 8F | AT20: 135 | AW20: 3Z | AX20: 55 | BC20: 16F | BD20: 160
D21: 12 | E21: OLIVA, BRUNO | G21: N | H21: 2015 | I21: CBA | J21: =L21+N21+P21+R21+T21+V21+X21+Z21+AB21+AD21+AF21+AH21+AJ21+AL21+AN21+AP21+AR21+AT21+AV21+AX21+AZ21+BB21+BD21 -> 460 | K21: SF | L21: 210 | AC21: 1 | AD21: 110 | BA21: SF | BB21: 140
D22: 13 | E22: DAIX, BRUNO | G22: N | H22: 2015 | I22: FET | J22: =L22+N22+P22+R22+T22+V22+X22+Z22+AB22+AD22+AF22+AH22+AJ22+AL22+AN22+AP22+AR22+AT22+AV22+AX22+AZ22+BB22+BD22 -> 315 | AO22: 4F | AP22: 55 | AU22: 4F | AV22: 55 | BC22: 8F | BD22: 205
D23: 14 | E23: CABRERA JARDIN, JUAN DAVID | G23: N | H23: 2015 | I23: FET | J23: =L23+N23+P23+R23+T23+V23+X23+Z23+AB23+AD23+AF23+AH23+AJ23+AL23+AN23+AP23+AR23+AT23+AV23+AX23+AZ23+BB23+BD23 -> 300 | AK23: 2B | AL23: 90 | AO23: SF B | AP23: 25 | AU23: SF B | AV23: 25 | BC23: 16F | BD23: 160
D24: 15 | E24: RASJIDO, YAMIR | H24: 2016 | I24: SCZ | J24: =L24+N24+P24+R24+T24+V24+X24+Z24+AB24+AD24+AF24+AH24+AJ24+AL24+AN24+AP24+AR24+AT24+AV24+AX24+AZ24+BB24+BD24 -> 290 | W24: 1 | X24: 110 | AQ24: 1 | AR24: 110 | BC24: SF B | BD24: 70
D25: 16 | E25: MUÑOZ, GIOVANNI BENJAMIN | H25: 2017 | I25: SFE | J25: =L25+N25+P25+R25+T25+V25+X25+Z25+AB25+AD25+AF25+AH25+AJ25+AL25+AN25+AP25+AR25+AT25+AV25+AX25+AZ25+BB25+BD25 -> 260 | AC25: 4F | AD25: 55 | AK25: 8F | AL25: 205
D26: 17 | E26: MULLER, ILAN | H26: 2017 | I26: FET | J26: =L26+N26+P26+R26+T26+V26+X26+Z26+AB26+AD26+AF26+AH26+AJ26+AL26+AN26+AP26+AR26+AT26+AV26+AX26+AZ26+BB26+BD26 -> 260 | AO26: 1B | AP26: 45 | AU26: 4F | AV26: 55 | BC26: 16F | BD26: 160
D27: 18 | E27: PETELL, RAFAEL | G27: N | H27: 2015 | I27: FET | J27: =L27+N27+P27+R27+T27+V27+X27+Z27+AB27+AD27+AF27+AH27+AJ27+AL27+AN27+AP27+AR27+AT27+AV27+AX27+AZ27+BB27+BD27 -> 255 | AO27: SF | AP27: 70 | AU27: SF | AV27: 70 | BC27: 1B | BD27: 115
D28: 19 | E28: ROCHA IBAÑEZ, AUGUSTO VALENTIN | G28: N | H28: 2015 | I28: SEN | J28: =L28+N28+P28+R28+T28+V28+X28+Z28+AB28+AD28+AF28+AH28+AJ28+AL28+AN28+AP28+AR28+AT28+AV28+AX28+AZ28+BB28+BD28 -> 250 | Q28: 2B | R28: 90 | AK28: 16F | AL28: 160
D29: 20 | E29: OCAMPO, IGNACIO | H29: 2016 | I29: SAL | J29: =L29+N29+P29+R29+T29+V29+X29+Z29+AB29+AD29+AF29+AH29+AJ29+AL29+AN29+AP29+AR29+AT29+AV29+AX29+AZ29+BB29+BD29 -> 210 | U29: SF | V29: 70 | AG29: 3 | AH29: 140
D30: 21 | E30: WEITZNER, THIAGO | H30: 2016 | I30: URU | J30: =L30+N30+P30+R30+T30+V30+X30+Z30+AB30+AD30+AF30+AH30+AJ30+AL30+AN30+AP30+AR30+AT30+AV30+AX30+AZ30+BB30+BD30 -> 205 | BC30: 8F | BD30: 205
D31: 22 | E31: MOLEDA, FACUNDO | H31: 2016 | I31: URU | J31: =L31+N31+P31+R31+T31+V31+X31+Z31+AB31+AD31+AF31+AH31+AJ31+AL31+AN31+AP31+AR31+AT31+AV31+AX31+AZ31+BB31+BD31 -> 205 | BC31: 8F | BD31: 205
D32: 23 | E32: TORRES, JOAQUIN | H32: 2017 | I32: FET | J32: =L32+N32+P32+R32+T32+V32+X32+Z32+AB32+AD32+AF32+AH32+AJ32+AL32+AN32+AP32+AR32+AT32+AV32+AX32+AZ32+BB32+BD32 -> 200 | K32: SF B | L32: 105 | M32: SF B | N32: 70 | AO32: SF B | AP32: 25
D33: 24 | E33: FERREYRA, FRANCISCO | G33: N | H33: 2015 | I33: MZA | J33: =L33+N33+P33+R33+T33+V33+X33+Z33+AB33+AD33+AF33+AH33+AJ33+AL33+AN33+AP33+AR33+AT33+AV33+AX33+AZ33+BB33+BD33 -> 165 | S33: 4 | T33: 55 | AE33: 4F | AF33: 55 | AM33: 4F | AN33: 55
D34: 25 | E34: FISHER, LUCA | G34: N | H34: 2015 | I34: URU | J34: =L34+N34+P34+R34+T34+V34+X34+Z34+AB34+AD34+AF34+AH34+AJ34+AL34+AN34+AP34+AR34+AT34+AV34+AX34+AZ34+BB34+BD34 -> 160 | BC34: 16F | BD34: 160
D35: 26 | E35: OCAMPO, LIONEL | H35: 2016 | I35: SAL | J35: =L35+N35+P35+R35+T35+V35+X35+Z35+AB35+AD35+AF35+AH35+AJ35+AL35+AN35+AP35+AR35+AT35+AV35+AX35+AZ35+BB35+BD35 -> 155 | U35: 2B | V35: 45 | AG35: 4 | AH35: 110
D36: 27 | E36: CAMPUSANO, VITTO | H36: 2017 | I36: MZA | J36: =L36+N36+P36+R36+T36+V36+X36+Z36+AB36+AD36+AF36+AH36+AJ36+AL36+AN36+AP36+AR36+AT36+AV36+AX36+AZ36+BB36+BD36 -> 150 | AM36: 3Z | AN36: 45 | AS36: 1B | AT36: 105
D37: 28 | E37: BAROCCHI, FILIPPO | H37: 2016 | I37: MZA | J37: =L37+N37+P37+R37+T37+V37+X37+Z37+AB37+AD37+AF37+AH37+AJ37+AL37+AN37+AP37+AR37+AT37+AV37+AX37+AZ37+BB37+BD37 -> 130 | AE37: SF | AF37: 70 | AS37: SF B | AT37: 60
D38: 29 | E38: BAROCCHI, VITTO | H38: 2018 | I38: MZA | J38: =L38+N38+P38+R38+T38+V38+X38+Z38+AB38+AD38+AF38+AH38+AJ38+AL38+AN38+AP38+AR38+AT38+AV38+AX38+AZ38+BB38+BD38 -> 120 | AE38: 3Z | AF38: 45 | AS38: 2B | AT38: 75
D39: 30 | E39: ARASAKI, KEI NICOLAS | G39: N | H39: 2015 | I39: FET | J39: =L39+N39+P39+R39+T39+V39+X39+Z39+AB39+AD39+AF39+AH39+AJ39+AL39+AN39+AP39+AR39+AT39+AV39+AX39+AZ39+BB39+BD39 -> 90 | BC39: 2B | BD39: 90
D40: 31 | E40: SANTANA, GAEL ELOY | G40: N | H40: 2015 | I40: LIB | J40: =L40+N40+P40+R40+T40+V40+X40+Z40+AB40+AD40+AF40+AH40+AJ40+AL40+AN40+AP40+AR40+AT40+AV40+AX40+AZ40+BB40+BD40 -> 70 | BC40: SF B | BD40: 70
D41: 32 | E41: LEAL, MATEO | G41: N | H41: 2015 | I41: SAL | J41: =L41+N41+P41+R41+T41+V41+X41+Z41+AB41+AD41+AF41+AH41+AJ41+AL41+AN41+AP41+AR41+AT41+AV41+AX41+AZ41+BB41+BD41 -> 70 | U41: SF | V41: 70
D42: 33 | E42: MIRANDA, AQUILES | G42: N | H42: 2015 | I42: SCZ | J42: =L42+N42+P42+R42+T42+V42+X42+Z42+AB42+AD42+AF42+AH42+AJ42+AL42+AN42+AP42+AR42+AT42+AV42+AX42+AZ42+BB42+BD42 -> 55 | AQ42: 4F | AR42: 55
D43: 34 | E43: GIRON, JEREMIAS | H43: 2016 | I43: JUJ | J43: =L43+N43+P43+R43+T43+V43+X43+Z43+AB43+AD43+AF43+AH43+AJ43+AL43+AN43+AP43+AR43+AT43+AV43+AX43+AZ43+BB43+BD43 -> 55 | AA43: 4 | AB43: 55
D44: 35 | E44: CANDIA, FACUNDO | H44: 2018 | I44: RNG | J44: =L44+N44+P44+R44+T44+V44+X44+Z44+AB44+AD44+AF44+AH44+AJ44+AL44+AN44+AP44+AR44+AT44+AV44+AX44+AZ44+BB44+BD44 -> 55 | AY44: 1B | AZ44: 55
D45: 36 | E45: CATANESE, NICOLAS | G45: N | H45: 2015 | I45: MZA | J45: =L45+N45+P45+R45+T45+V45+X45+Z45+AB45+AD45+AF45+AH45+AJ45+AL45+AN45+AP45+AR45+AT45+AV45+AX45+AZ45+BB45+BD45 -> 45 | AM45: 3Z | AN45: 45
D46: 37 | E46: BELTRAMI, BENJAMIN | H46: 2016 | I46: TDF | J46: =L46+N46+P46+R46+T46+V46+X46+Z46+AB46+AD46+AF46+AH46+AJ46+AL46+AN46+AP46+AR46+AT46+AV46+AX46+AZ46+BB46+BD46 -> 45 | AQ46: 3Z | AR46: 45
D47: 38 | E47: LISOTTO, FELIX | H47: 2017 | I47: MZA | J47: =L47+N47+P47+R47+T47+V47+X47+Z47+AB47+AD47+AF47+AH47+AJ47+AL47+AN47+AP47+AR47+AT47+AV47+AX47+AZ47+BB47+BD47 -> 45 | AE47: 4Z | AF47: 45
D48: 39 | E48: VALLEJOS, TIZIANO | H48: 2016 | I48: RNG | J48: =L48+N48+P48+R48+T48+V48+X48+Z48+AB48+AD48+AF48+AH48+AJ48+AL48+AN48+AP48+AR48+AT48+AV48+AX48+AZ48+BB48+BD48 -> 35 | AY48: SF B | AZ48: 35

Sheet IC U13
E4: INDIVIDUAL CABALLEROS U13 | K4: RANKING NACIONAL | TEMPORADA 2026
K5: Grand Prix | M5: Challenger | O5: Regional Abierto | Q5: Challenger | S5: Regional Abierto | U5: Regional Abierto | W5: Regional Abierto | Y5: Regional Abierto | AA5: Regional Abierto | AC5: Regional Abierto | AE5: Regional Abierto | AG5: Challenger | AI5: Regional Abierto | AK5: Nacional | AM5: Regional Abierto | AO5: Regional Abierto | AQ5: Regional Abierto | AS5: Grand Prix | AU5: Regional Abierto | AW5: Regional Abierto | AY5: Regional Abierto | BA5: Challenger | BC5: Abierto de la Rep.
K6: ROSARIO | M6: CHAPADMALAL | O6: FETEMBA | Q6: SANT. DEL ESTERO | S6: MENDOZA | U6: SALTA | W6: TIERRA DEL FUEGO | Y6: FETEMBA | AA6: JUJUY | AC6: SANTA FE | AE6: MENDOZA | AG6: SALTA | AI6: NEUQUÉN | AK6: SANTA FE | AM6: MENDOZA | AO6: FETEMBA | AQ6: SANTA CRUZ | AS6: MENDOZA | AU6: FETEMBA | AW6: MENDOZA | AY6: RIO NEGRO | BA6: ROSARIO | BC6: BUENOS AIRES
K7: 7 A 9 FEB 2025 | M7: 2 A 4 MAR 2025 | O7: 29 Y 30 MAR 2025 | Q7: 11 A 13 ABR 2025 | S7: 26 Y 27 ABR 2025 | U7: 26 Y 27 ABR 2025 | W7: 04 MAY 2025 | Y7: 10 Y 11 MAY 2025 | AA7: 24 Y 25 MAY 2025 | AC7: 31 MAY Y 1 JUN 2025 | AE7: 7 Y 8 JUN 2025 | AG7: 14 A 16 JUN 2025 | AI7: 21 Y 22 JUN 2025 | AK7: 9 A 13 JUL 2025 | AM7: 9 Y 10 AGO 2025 | AO7: 15 AGO 2025 | AQ7: 15 A 17 AGO 2025 | AS7: 5 A 7 SEP 2025 | AU7: 27 Y 28 SEP 2025 | AW7: 4 Y 5 OCT 2025 | AY7: 11 Y 12 OCT 2025 | BA7: 17 A 19 OCT 2025 | BC7: 21 A 24 NOV 2025
D8: POS. | E8: ATLETA | F8: DNI | G8: Fecha de Nacimiento | H8: CAT. | I8: ASOC. | J8: TOTAL | K8: Pos. | L8: Ptos. | M8: Pos. | N8: Ptos. | O8: Pos. | P8: Ptos. | Q8: Pos. | R8: Ptos. | S8: Pos. | T8: Ptos. | U8: Pos. | V8: Ptos. | W8: Pos. | X8: Ptos. | Y8: Pos. | Z8: Ptos. | AA8: Pos. | AB8: Ptos. | AC8: Pos. | AD8: Ptos. | AE8: Pos. | AF8: Ptos. | AG8: Pos. | AH8: Ptos. | AI8: Pos. | AJ8: Ptos. | AK8: Pos. | AL8: Ptos. | AM8: Pos. | AN8: Ptos. | AO8: Pos. | AP8: Ptos. | AQ8: Pos. | AR8: Ptos. | AS8: Pos. | AT8: Ptos. | AU8: Pos. | AV8: Ptos. | AW8: Pos. | AX8: Ptos. | AY8: Pos. | AZ8: Ptos. | BA8: Pos. | BB8: Ptos. | BC8: Pos. | BD8: Ptos.
D10: 1 | E10: VILLEGAS, VALENTINO ARIEL | G10: N | H10: 2013 | I10: MZA | J10: =L10+N10+P10+R10+T10+V10+X10+Z10+AB10+AD10+AF10+AH10+AJ10+AL10+AN10+AP10+AR10+AT10+AV10+AX10+AZ10+BB10+BD10 -> 1610.165 | K10: 1 | L10: 330 | AE10: 1 | AF10: 110 | AG10: 2 | AH10: 180 | AK10: SF | AL10: 315 | AM10: 1 | AN10: 110 | AS10: 4F | AT10: 0.165 | AW10: SF | AX10: 70 | BA10: 2 | BB10: 180 | BC10: SF | BD10: 315
D11: 2 | E11: RUBIN MINETTI, DANTE | G11: N | H11: 2013 | I11: FET | J11: =L11+N11+P11+R11+T11+V11+X11+Z11+AB11+AD11+AF11+AH11+AJ11+AL11+AN11+AP11+AR11+AT11+AV11+AX11+AZ11+BB11+BD11 -> 1595 | K11: 4F | L11: 165 | M11: 1 | N11: 220 | O11: 2 | P11: 90 | Y11: 2 | Z11: 90 | AK11: 1 | AL11: 495 | AO11: 1 | AP11: 110 | BA11: 1 | BB11: 220 | BC11: 8F | BD11: 205
D12: 3 | E12: MARCIAL, LUCA | G12: N | H12: 2013 | I12: FET | J12: =L12+N12+P12+R12+T12+V12+X12+Z12+AB12+AD12+AF12+AH12+AJ12+AL12+AN12+AP12+AR12+AT12+AV12+AX12+AZ12+BB12+BD12 -> 1287.61 | M12: Prom. | N12: 0.11 | O12: Prom. | P12: 27.5 | AC12: 1 | AD12: 110 | AG12: 1 | AH12: 220 | AK12: 2 | AL12: 405 | BA12: Prom. | BB12: 210 | BC12: SF | BD12: 315
D13: 4 | E13: PIRUZI, GIANNI | H13: 2014 | I13: MZA | J13: =L13+N13+P13+R13+T13+V13+X13+Z13+AB13+AD13+AF13+AH13+AJ13+AL13+AN13+AP13+AR13+AT13+AV13+AX13+AZ13+BB13+BD13 -> 1095.11 | S13: 2 | T13: 90 | AE13: 4F | AF13: 0.055 | AG13: SF | AH13: 140 | AK13: 8F | AL13: 205 | AM13: 4F | AN13: 0.055 | AS13: 8F | AT13: 135 | AW13: 4F | AX13: 55 | AY13: 1 | AZ13: 110 | BA13: 4F | BB13: 110 | BC13: 4F | BD13: 250
D14: 5 | E14: ALTO, JULIAN | H14: 2014 | I14: MZA | J14: =L14+N14+P14+R14+T14+V14+X14+Z14+AB14+AD14+AF14+AH14+AJ14+AL14+AN14+AP14+AR14+AT14+AV14+AX14+AZ14+BB14+BD14 -> 1055.28 | K14: SF | L14: 0.21 | S14: SF | T14: 0.07 | AE14: 2 | AF14: 90 | AK14: SF | AL14: 315 | AM14: SF | AN14: 70 | AS14: 1 | AT14: 330 | AW14: 2 | AX14: 90 | BC14: 16F | BD14: 160
D15: 6 | E15: ROMEGO, ERNESTO | G15: N | H15: 2013 | I15: FET | J15: =L15+N15+P15+R15+T15+V15+X15+Z15+AB15+AD15+AF15+AH15+AJ15+AL15+AN15+AP15+AR15+AT15+AV15+AX15+AZ15+BB15+BD15 -> 1010.045 | K15: 8F | L15: 135 | M15: 4F | N15: 110 | O15: 8F | P15: 0.045 | Y15: 8F | Z15: 45 | AK15: 8F | AL15: 205 | AO15: SF | AP15: 70 | AS15: 16F | AT15: 105 | AU15: 2 | AV15: 90 | BA15: 8F | BB15: 90 | BC15: 16F | BD15: 160
D16: 7 | E16: VARELA, FEDERICO | G16: N | H16: 2013 | I16: SAL | J16: =L16+N16+P16+R16+T16+V16+X16+Z16+AB16+AD16+AF16+AH16+AJ16+AL16+AN16+AP16+AR16+AT16+AV16+AX16+AZ16+BB16+BD16 -> 1005 | Q16: 1 | R16: 220 | U16: 1 | V16: 110 | AA16: 1 | AB16: 110 | AG16: 4F | AH16: 110 | AK16: 4F | AL16: 250 | BC16: 8F | BD16: 205
D17: 8 | E17: MULLER, LUCA | G17: N | H17: 2013 | I17: FET | J17: =L17+N17+P17+R17+T17+V17+X17+Z17+AB17+AD17+AF17+AH17+AJ17+AL17+AN17+AP17+AR17+AT17+AV17+AX17+AZ17+BB17+BD17 -> 955.175 | K17: 2B | L17: 0.075 | M17: 4F | N17: 110 | O17: 4F | P17: 0.055 | Y17: 8F | Z17: 0.045 | AC17: SF | AD17: 70 | AK17: 8F | AL17: 205 | AO17: SF | AP17: 70 | AS17: 8F | AT17: 135 | AU17: SF | AV17: 70 | BA17: 8F | BB17: 90 | BC17: 8F | BD17: 205
D18: 9 | E18: LINARES, JERONIMO | G18: N | H18: 2013 | I18: SFE | J18: =L18+N18+P18+R18+T18+V18+X18+Z18+AB18+AD18+AF18+AH18+AJ18+AL18+AN18+AP18+AR18+AT18+AV18+AX18+AZ18+BB18+BD18 -> 925.205 | K18: 8F | L18: 135 | O18: 8F | P18: 0.045 | Y18: 4F | Z18: 0.055 | AC18: 2 | AD18: 90 | AK18: 4F | AL18: 250 | AO18: 2 | AP18: 90 | AS18: 16F | AT18: 0.105 | AU18: 1 | AV18: 110 | BA18: 8F | BB18: 90 | BC18: 16F | BD18: 160
D19: 10 | E19: ALTO, LUCAS | H19: 2014 | I19: MZA | J19: =L19+N19+P19+R19+T19+V19+X19+Z19+AB19+AD19+AF19+AH19+AJ19+AL19+AN19+AP19+AR19+AT19+AV19+AX19+AZ19+BB19+BD19 -> 810.21 | K19: SF | L19: 0.21 | S19: 4F | T19: 55 | AE19: SF | AF19: 70 | AK19: 8F | AL19: 205 | AS19: SF | AT19: 210 | AW19: 1 | AX19: 110 | BC19: 16F | BD19: 160
D20: 11 | E20: ALTO, VALENTINO | H20: 2015 | I20: MZA | J20: =L20+N20+P20+R20+T20+V20+X20+Z20+AB20+AD20+AF20+AH20+AJ20+AL20+AN20+AP20+AR20+AT20+AV20+AX20+AZ20+BB20+BD20 -> 795.055 | S20: 1 | T20: 110 | AE20: 4F | AF20: 0.055 | AK20: 16F | AL20: 160 | AM20: SF | AN20: 70 | AS20: 8F | AT20: 135 | AW20: SF | AX20: 70 | BC20: 4F | BD20: 250
D21: 12 | E21: DOMINGUEZ, BENICIO | H21: 2015 | I21: MZA | J21: =L21+N21+P21+R21+T21+V21+X21+Z21+AB21+AD21+AF21+AH21+AJ21+AL21+AN21+AP21+AR21+AT21+AV21+AX21+AZ21+BB21+BD21 -> 620.055 | K21: 8F | L21: 135 | S21: 4F | T21: 0.055 | AE21: 4F | AF21: 55 | AK21: 16F | AL21: 160 | AM21: 4F | AN21: 55 | AW21: 4F | AX21: 55 | BC21: 16F | BD21: 160
D22: 13 | E22: MORALES TAPIA, VICENTE | G22: N | H22: 2013 | I22: CHI | J22: =L22+N22+P22+R22+T22+V22+X22+Z22+AB22+AD22+AF22+AH22+AJ22+AL22+AN22+AP22+AR22+AT22+AV22+AX22+AZ22+BB22+BD22 -> 615 | AS22: SF | AT22: 210 | BC22: 2 | BD22: 405
D23: 14 | E23: HAGIWARA, NAOKI | H23: 2014 | I23: FET | J23: =L23+N23+P23+R23+T23+V23+X23+Z23+AB23+AD23+AF23+AH23+AJ23+AL23+AN23+AP23+AR23+AT23+AV23+AX23+AZ23+BB23+BD23 -> 545.025 | K23: SF B | L23: 60 | O23: 8F | P23: 45 | Y23: 2B | Z23: 0.025 | AK23: 2B | AL23: 90 | AO23: 4F | AP23: 55 | AU23: 8F | AV23: 45 | BA23: 8F | BB23: 90 | BC23: 16F | BD23: 160
D24: 15 | E24: MARTININI, LAUTARO | G24: N | H24: 2013 | I24: FET | J24: =L24+N24+P24+R24+T24+V24+X24+Z24+AB24+AD24+AF24+AH24+AJ24+AL24+AN24+AP24+AR24+AT24+AV24+AX24+AZ24+BB24+BD24 -> 440 | O24: 1B | P24: 35 | Y24: 1B | Z24: 35 | AK24: 1B | AL24: 115 | AO24: 4F | AP24: 55 | BA24: SF B | BB24: 40 | BC24: 16F | BD24: 160
D25: 16 | E25: FIORE SHIMOJI, JUAN MANUEL | H25: 2014 | I25: FET | J25: =L25+N25+P25+R25+T25+V25+X25+Z25+AB25+AD25+AF25+AH25+AJ25+AL25+AN25+AP25+AR25+AT25+AV25+AX25+AZ25+BB25+BD25 -> 435 | AK25: 16F | AL25: 160 | AO25: 4F | AP25: 55 | AU25: 4F | AV25: 55 | BA25: 2B | BB25: 50 | BC25: 32F | BD25: 115
D26: 17 | E26: ROSSI VERA, FRANCO | H26: 2015 | I26: FET | J26: =L26+N26+P26+R26+T26+V26+X26+Z26+AB26+AD26+AF26+AH26+AJ26+AL26+AN26+AP26+AR26+AT26+AV26+AX26+AZ26+BB26+BD26 -> 410 | Q26: 4F | R26: 110 | AK26: 16F | AL26: 160 | AO26: SF B | AP26: 20 | AS26: 1B | AT26: 75 | AU26: 8F | AV26: 45
D27: 18 | E27: TEJEDA CERDA, VICENTE | H27: 2014 | I27: CHI | J27: =L27+N27+P27+R27+T27+V27+X27+Z27+AB27+AD27+AF27+AH27+AJ27+AL27+AN27+AP27+AR27+AT27+AV27+AX27+AZ27+BB27+BD27 -> 385 | AS27: 8F | AT27: 135 | BC27: 4F | BD27: 250
D28: 19 | E28: TAKAHASHI, VICENTE | H28: 2014 | I28: FET | J28: =L28+N28+P28+R28+T28+V28+X28+Z28+AB28+AD28+AF28+AH28+AJ28+AL28+AN28+AP28+AR28+AT28+AV28+AX28+AZ28+BB28+BD28 -> 380 | Y28: SF B | Z28: 20 | AK28: 16F | AL28: 160 | AU28: 8F | AV28: 45 | BA28: SF B | BB28: 40 | BC28: 32F | BD28: 115
D29: 20 | E29: ARCE, LIONEL | G29: N | H29: 2013 | I29: FET | J29: =L29+N29+P29+R29+T29+V29+X29+Z29+AB29+AD29+AF29+AH29+AJ29+AL29+AN29+AP29+AR29+AT29+AV29+AX29+AZ29+BB29+BD29 -> 375 | K29: SF B | L29: 60 | M29: 2B | N29: 70 | O29: SF B | P29: 20 | AG29: 2B | AH29: 70 | AO29: 4F | AP29: 55 | AU29: 4F | AV29: 55 | BC29: SF B | BD29: 45
D30: 21 | E30: DRATEWKA, DROR | H30: 2016 | I30: FET | J30: =L30+N30+P30+R30+T30+V30+X30+Z30+AB30+AD30+AF30+AH30+AJ30+AL30+AN30+AP30+AR30+AT30+AV30+AX30+AZ30+BB30+BD30 -> 350 | AU30: 4F | AV30: 55 | BA30: 8F | BB30: 90 | BC30: 8F | BD30: 205
D31: 22 | E31: HEREDIA, MARCOS | H31: 2017 | I31: FET | J31: =L31+N31+P31+R31+T31+V31+X31+Z31+AB31+AD31+AF31+AH31+AJ31+AL31+AN31+AP31+AR31+AT31+AV31+AX31+AZ31+BB31+BD31 -> 345 | Q31: 4F | R31: 110 | AC31: 4F | AD31: 55 | AU31: SF | AV31: 70 | BA31: 4F | BB31: 110
D32: 23 | E32: TARICO, LISANDRO | H32: 2014 | I32: FET | J32: =L32+N32+P32+R32+T32+V32+X32+Z32+AB32+AD32+AF32+AH32+AJ32+AL32+AN32+AP32+AR32+AT32+AV32+AX32+AZ32+BB32+BD32 -> 340.02 | O32: SF B | P32: 0.02 | Y32: SF B | Z32: 20 | AK32: 16F | AL32: 160 | AO32: 8F | AP32: 45 | AU32: 2B | AV32: 25 | BA32: 8F | BB32: 90
D33: 24 | E33: ROJAS ZANINI, PIERO | H33: 2015 | I33: SEN | J33: =L33+N33+P33+R33+T33+V33+X33+Z33+AB33+AD33+AF33+AH33+AJ33+AL33+AN33+AP33+AR33+AT33+AV33+AX33+AZ33+BB33+BD33 -> 330 | Q33: 1B | R33: 90 | U33: SF | V33: 70 | AA33: 4F | AB33: 55 | BC33: 32F | BD33: 115
D34: 25 | E34: DI PIERRI, FELIPE | G34: N | H34: 2013 | I34: SFE | J34: =L34+N34+P34+R34+T34+V34+X34+Z34+AB34+AD34+AF34+AH34+AJ34+AL34+AN34+AP34+AR34+AT34+AV34+AX34+AZ34+BB34+BD34 -> 305 | AC34: 4F | AD34: 55 | AK34: 16F | AL34: 160 | BA34: 8F | BB34: 90
D35: 26 | E35: PARDO, LUCIANO | H35: 2014 | I35: CHI | J35: =L35+N35+P35+R35+T35+V35+X35+Z35+AB35+AD35+AF35+AH35+AJ35+AL35+AN35+AP35+AR35+AT35+AV35+AX35+AZ35+BB35+BD35 -> 295 | AS35: 8F | AT35: 135 | BC35: 16F | BD35: 160
D36: 27 | E36: RECUPERO, MARTINO | G36: N | H36: 2013 | I36: JUJ | J36: =L36+N36+P36+R36+T36+V36+X36+Z36+AB36+AD36+AF36+AH36+AJ36+AL36+AN36+AP36+AR36+AT36+AV36+AX36+AZ36+BB36+BD36 -> 275 | Q36: 4F | R36: 110 | U36: 4F | V36: 55 | AG36: 4F | AH36: 110
D37: 28 | E37: RUIZ DIAZ, LEANDRO | H37: 2014 | I37: CHA | J37: =L37+N37+P37+R37+T37+V37+X37+Z37+AB37+AD37+AF37+AH37+AJ37+AL37+AN37+AP37+AR37+AT37+AV37+AX37+AZ37+BB37+BD37 -> 275 | AK37: 16F | AL37: 160 | BC37: 32F | BD37: 115
D38: 29 | E38: CAPELLA, JUAN CRUZ | G38: N | H38: 2013 | I38: SFE | J38: =L38+N38+P38+R38+T38+V38+X38+Z38+AB38+AD38+AF38+AH38+AJ38+AL38+AN38+AP38+AR38+AT38+AV38+AX38+AZ38+BB38+BD38 -> 270 | BA38: 4F | BB38: 110 | BC38: 16F | BD38: 160
D39: 30 | E39: OLIVA, BRUNO | H39: 2015 | I39: CBA | J39: =L39+N39+P39+R39+T39+V39+X39+Z39+AB39+AD39+AF39+AH39+AJ39+AL39+AN39+AP39+AR39+AT39+AV39+AX39+AZ39+BB39+BD39 -> 250 | AC39: 1B | AD39: 45 | BA39: 8F | BB39: 90 | BC39: 32F | BD39: 115
D40: 31 | E40: PETELL, FRANCISCO | G40: N | H40: 2013 | I40: FET | J40: =L40+N40+P40+R40+T40+V40+X40+Z40+AB40+AD40+AF40+AH40+AJ40+AL40+AN40+AP40+AR40+AT40+AV40+AX40+AZ40+BB40+BD40 -> 240 | AO40: 8F | AP40: 45 | AU40: 1B | AV40: 35 | BC40: 16F | BD40: 160
D41: 32 | E41: DIAZ, BENJAMIN | G41: N | H41: 2013 | I41: SCZ | J41: =L41+N41+P41+R41+T41+V41+X41+Z41+AB41+AD41+AF41+AH41+AJ41+AL41+AN41+AP41+AR41+AT41+AV41+AX41+AZ41+BB41+BD41 -> 230 | W41: 3 | X41: 70 | AQ41: 8F | AR41: 45 | BC41: 32F | BD41: 115
D42: 33 | E42: KALADJIAN, CONSTANTINO | G42: N | H42: 2013 | I42: FET | J42: =L42+N42+P42+R42+T42+V42+X42+Z42+AB42+AD42+AF42+AH42+AJ42+AL42+AN42+AP42+AR42+AT42+AV42+AX42+AZ42+BB42+BD42 -> 225.025 | O42: 2B | P42: 0.025 | Y42: 8F | Z42: 45 | AO42: 8F | AP42: 45 | AU42: 8F | AV42: 45 | BC42: 1B | BD42: 90
D43: 34 | E43: CARENINI, FRANCISCO | H43: 2014 | I43: MZA | J43: =L43+N43+P43+R43+T43+V43+X43+Z43+AB43+AD43+AF43+AH43+AJ43+AL43+AN43+AP43+AR43+AT43+AV43+AX43+AZ43+BB43+BD43 -> 205.045 | S43: 8F | T43: 0.045 | AE43: 8F | AF43: 45 | AM43: 8F | AN43: 45 | AS43: 2B | AT43: 60 | AY43: 4F | AZ43: 55
D44: 35 | E44: BATTAN, LISANDRO | H44: 2014 | I44: SEN | J44: =L44+N44+P44+R44+T44+V44+X44+Z44+AB44+AD44+AF44+AH44+AJ44+AL44+AN44+AP44+AR44+AT44+AV44+AX44+AZ44+BB44+BD44 -> 175 | Q44: SF B | R44: 50 | U44: 4F | V44: 55 | AK44: SF B | AL44: 70
D45: 36 | E45: FELDMAN, IAN | G45: N | H45: 2013 | I45: URU | J45: =L45+N45+P45+R45+T45+V45+X45+Z45+AB45+AD45+AF45+AH45+AJ45+AL45+AN45+AP45+AR45+AT45+AV45+AX45+AZ45+BB45+BD45 -> 160 | BC45: 16F | BD45: 160
D46: 37 | E46: FIGUEIREDO, MATIAS | H46: 2014 | I46: URU | J46: =L46+N46+P46+R46+T46+V46+X46+Z46+AB46+AD46+AF46+AH46+AJ46+AL46+AN46+AP46+AR46+AT46+AV46+AX46+AZ46+BB46+BD46 -> 160 | BC46: 16F | BD46: 160
D47: 38 | E47: ULLOA, DIEGO BENJAMIN | H47: 2014 | I47: SCZ | J47: =L47+N47+P47+R47+T47+V47+X47+Z47+AB47+AD47+AF47+AH47+AJ47+AL47+AN47+AP47+AR47+AT47+AV47+AX47+AZ47+BB47+BD47 -> 160 | BC47: 16F | BD47: 160
D48: 39 | E48: ESPINDOLA, DYLAN | H48: 2014 | I48: MIS | J48: =L48+N48+P48+R48+T48+V48+X48+Z48+AB48+AD48+AF48+AH48+AJ48+AL48+AN48+AP48+AR48+AT48+AV48+AX48+AZ48+BB48+BD48 -> 160 | BC48: 16F | BD48: 160
D49: 40 | E49: ZIMERMAN, CARMELO | G49: N | H49: 2013 | I49: CBA | J49: =L49+N49+P49+R49+T49+V49+X49+Z49+AB49+AD49+AF49+AH49+AJ49+AL49+AN49+AP49+AR49+AT49+AV49+AX49+AZ49+BB49+BD49 -> 140 | AK49: SF B | AL49: 70 | BC49: 2B | BD49: 70
D50: 41 | E50: GIUMARRA, JUAN SEBASTIAN | H50: 2015 | I50: MZA | J50: =L50+N50+P50+R50+T50+V50+X50+Z50+AB50+AD50+AF50+AH50+AJ50+AL50+AN50+AP50+AR50+AT50+AV50+AX50+AZ50+BB50+BD50 -> 135 | AE50: 3Z | AF50: 35 | AW50: 3Z | AX50: 45 | AY50: 4F | AZ50: 55
D51: 42 | E51: CORTEZ OYARZO, IAN SANTINO | G51: N | H51: 2013 | I51: LIB | J51: =L51+N51+P51+R51+T51+V51+X51+Z51+AB51+AD51+AF51+AH51+AJ51+AL51+AN51+AP51+AR51+AT51+AV51+AX51+AZ51+BB51+BD51 -> 115 | BC51: 32F | BD51: 115
D52: 43 | E52: IRURZUN NAVARRO, MATIAS IÑAKI | G52: N | H52: 2013 | I52: SFE | J52: =L52+N52+P52+R52+T52+V52+X52+Z52+AB52+AD52+AF52+AH52+AJ52+AL52+AN52+AP52+AR52+AT52+AV52+AX52+AZ52+BB52+BD52 -> 115 | BC52: 32F | BD52: 115
D53: 44 | E53: LUCERO, SANTIAGO | G53: N | H53: 2013 | I53: MZA | J53: =L53+N53+P53+R53+T53+V53+X53+Z53+AB53+AD53+AF53+AH53+AJ53+AL53+AN53+AP53+AR53+AT53+AV53+AX53+AZ53+BB53+BD53 -> 115 | AE53: 4Z | AF53: 35 | AM53: 3Z | AN53: 35 | AS53: SF B | AT53: 45
D54: 45 | E54: GONZALES SOSA, PEDRO | H54: 2014 | I54: SFE | J54: =L54+N54+P54+R54+T54+V54+X54+Z54+AB54+AD54+AF54+AH54+AJ54+AL54+AN54+AP54+AR54+AT54+AV54+AX54+AZ54+BB54+BD54 -> 115 | BC54: 32F | BD54: 115
D55: 46 | E55: TORRES, LAUTARO | G55: N | H55: 2013 | I55: SCZ | J55: =L55+N55+P55+R55+T55+V55+X55+Z55+AB55+AD55+AF55+AH55+AJ55+AL55+AN55+AP55+AR55+AT55+AV55+AX55+AZ55+BB55+BD55 -> 110 | AQ55: 1 | AR55: 110
D56: 47 | E56: CARRIBERO, MATEO | G56: N | H56: 2013 | I56: MZA | J56: =L56+N56+P56+R56+T56+V56+X56+Z56+AB56+AD56+AF56+AH56+AJ56+AL56+AN56+AP56+AR56+AT56+AV56+AX56+AZ56+BB56+BD56 -> 90 | S56: SF B | T56: 20 | AE56: 3Z | AF56: 35 | AM56: 3Z | AN56: 35
D57: 48 | E57: FLORES, AUGUSTO | G57: N | H57: 2013 | I57: MZA | J57: =L57+N57+P57+R57+T57+V57+X57+Z57+AB57+AD57+AF57+AH57+AJ57+AL57+AN57+AP57+AR57+AT57+AV57+AX57+AZ57+BB57+BD57 -> 90 | AE57: 8F | AF57: 45 | AM57: 8F | AN57: 45
D58: 49 | E58: FERNANDEZ THEILLET, SANTINO | G58: N | H58: 2013 | I58: FET | J58: =L58+N58+P58+R58+T58+V58+X58+Z58+AB58+AD58+AF58+AH58+AJ58+AL58+AN58+AP58+AR58+AT58+AV58+AX58+AZ58+BB58+BD58 -> 90 | AO58: 8F | AP58: 45 | AU58: 8F | AV58: 45
D59: 50 | E59: ESTRADA, BAUTISTA | G59: N | H59: 2013 | I59: MZA | J59: =L59+N59+P59+R59+T59+V59+X59+Z59+AB59+AD59+AF59+AH59+AJ59+AL59+AN59+AP59+AR59+AT59+AV59+AX59+AZ59+BB59+BD59 -> 80 | AE59: 3Z | AF59: 35 | AW59: 3Z | AX59: 45
D60: 51 | E60: BAROCCHI, LUCA | H60: 2014 | I60: MZA | J60: =L60+N60+P60+R60+T60+V60+X60+Z60+AB60+AD60+AF60+AH60+AJ60+AL60+AN60+AP60+AR60+AT60+AV60+AX60+AZ60+BB60+BD60 -> 80 | AE60: 3Z | AF60: 35 | AW60: 4Z | AX60: 45
D61: 52 | E61: TAGLIAVINI RAMPULLA, RENZO | G61: N | H61: 2013 | I61: SEN | J61: =L61+N61+P61+R61+T61+V61+X61+Z61+AB61+AD61+AF61+AH61+AJ61+AL61+AN61+AP61+AR61+AT61+AV61+AX61+AZ61+BB61+BD61 -> 75 | Q61: SF B | R61: 50 | AA61: SF B | AB61: 25
D62: 53 | E62: VERGARA, SANTIAGO | G62: N | H62: 2013 | I62: JUJ | J62: =L62+N62+P62+R62+T62+V62+X62+Z62+AB62+AD62+AF62+AH62+AJ62+AL62+AN62+AP62+AR62+AT62+AV62+AX62+AZ62+BB62+BD62 -> 70 | AA62: SF | AB62: 70
D63: 54 | E63: BALLAY, GAEL | G63: N | H63: 2013 | I63: JUJ | J63: =L63+N63+P63+R63+T63+V63+X63+Z63+AB63+AD63+AF63+AH63+AJ63+AL63+AN63+AP63+AR63+AT63+AV63+AX63+AZ63+BB63+BD63 -> 55 | U63: 4F | V63: 55
D64: 55 | E64: SOLORZANO, FEDERICO | G64: N | H64: 2013 | I64: JUJ | J64: =L64+N64+P64+R64+T64+V64+X64+Z64+AB64+AD64+AF64+AH64+AJ64+AL64+AN64+AP64+AR64+AT64+AV64+AX64+AZ64+BB64+BD64 -> 55 | AA64: 4F | AB64: 55
D65: 56 | E65: TUFIK, ATHUR | G65: N | H65: 2013 | I65: MZA | J65: =L65+N65+P65+R65+T65+V65+X65+Z65+AB65+AD65+AF65+AH65+AJ65+AL65+AN65+AP65+AR65+AT65+AV65+AX65+AZ65+BB65+BD65 -> 55 | AW65: 4F | AX65: 55
D66: 57 | E66: MORALES, MATEO | G66: N | H66: 2013 | I66: RNG | J66: =L66+N66+P66+R66+T66+V66+X66+Z66+AB66+AD66+AF66+AH66+AJ66+AL66+AN66+AP66+AR66+AT66+AV66+AX66+AZ66+BB66+BD66 -> 55 | AY66: 4F | AZ66: 55
D67: 58 | E67: MORINO, PEDRO | G67: N | H67: 2013 | I67: FET | J67: =L67+N67+P67+R67+T67+V67+X67+Z67+AB67+AD67+AF67+AH67+AJ67+AL67+AN67+AP67+AR67+AT67+AV67+AX67+AZ67+BB67+BD67 -> 55 | AU67: 4F | AV67: 55
D68: 59 | E68: HIGA, BENJAMIN RYU | G68: N | H68: 2013 | I68: FET | J68: =L68+N68+P68+R68+T68+V68+X68+Z68+AB68+AD68+AF68+AH68+AJ68+AL68+AN68+AP68+AR68+AT68+AV68+AX68+AZ68+BB68+BD68 -> 50 | M68: SF B | N68: 50
D69: 60 | E69: POPOVSKY, RAFAEL | G69: N | H69: 2013 | I69: FET | J69: =L69+N69+P69+R69+T69+V69+X69+Z69+AB69+AD69+AF69+AH69+AJ69+AL69+AN69+AP69+AR69+AT69+AV69+AX69+AZ69+BB69+BD69 -> 45 | Y69: 8F | Z69: 45
D70: 61 | E70: FUERTES BUBIEN, FEDERICO | G70: N | H70: 2013 | I70: FET | J70: =L70+N70+P70+R70+T70+V70+X70+Z70+AB70+AD70+AF70+AH70+AJ70+AL70+AN70+AP70+AR70+AT70+AV70+AX70+AZ70+BB70+BD70 -> 45 | AU70: 8F | AV70: 45
D71: 62 | E71: RODRIGUEZ, FACUNDO | G71: N | H71: 2013 | I71: FET | J71: =L71+N71+P71+R71+T71+V71+X71+Z71+AB71+AD71+AF71+AH71+AJ71+AL71+AN71+AP71+AR71+AT71+AV71+AX71+AZ71+BB71+BD71 -> 45 | AO71: 8F | AP71: 45
D72: 63 | E72: ITALIANO, DEMIAN | H72: 2014 | I72: MZA | J72: =L72+N72+P72+R72+T72+V72+X72+Z72+AB72+AD72+AF72+AH72+AJ72+AL72+AN72+AP72+AR72+AT72+AV72+AX72+AZ72+BB72+BD72 -> 45 | AW72: 3Z | AX72: 45
D73: 64 | E73: GONZALEZ, FRANCISCO | H73: 2014 | I73: RNG | J73: =L73+N73+P73+R73+T73+V73+X73+Z73+AB73+AD73+AF73+AH73+AJ73+AL73+AN73+AP73+AR73+AT73+AV73+AX73+AZ73+BB73+BD73 -> 45 | AY73: 1B | AZ73: 45
D74: 65 | E74: BELTRAMI, FELIPE | H74: 2014 | I74: TDF | J74: =L74+N74+P74+R74+T74+V74+X74+Z74+AB74+AD74+AF74+AH74+AJ74+AL74+AN74+AP74+AR74+AT74+AV74+AX74+AZ74+BB74+BD74 -> 45 | AQ74: 8F | AR74: 45
D75: 66 | E75: BOBEDA, MATEO | H75: 2014 | I75: FET | J75: =L75+N75+P75+R75+T75+V75+X75+Z75+AB75+AD75+AF75+AH75+AJ75+AL75+AN75+AP75+AR75+AT75+AV75+AX75+AZ75+BB75+BD75 -> 45 | AO75: 8F | AP75: 45
D76: 67 | E76: AREPOCO, THIAGO | H76: 2014 | I76: FET | J76: =L76+N76+P76+R76+T76+V76+X76+Z76+AB76+AD76+AF76+AH76+AJ76+AL76+AN76+AP76+AR76+AT76+AV76+AX76+AZ76+BB76+BD76 -> 45 | AO76: 2B | AP76: 25 | AU76: SF B | AV76: 20
D77: 68 | E77: SANTANA, GAEL ELOY | H77: 2015 | I77: LIB | J77: =L77+N77+P77+R77+T77+V77+X77+Z77+AB77+AD77+AF77+AH77+AJ77+AL77+AN77+AP77+AR77+AT77+AV77+AX77+AZ77+BB77+BD77 -> 45 | BC77: SF B | BD77: 45
D78: 69 | E78: NOTARNICOLA, FELIPE | H78: 2016 | I78: SFE | J78: =L78+N78+P78+R78+T78+V78+X78+Z78+AB78+AD78+AF78+AH78+AJ78+AL78+AN78+AP78+AR78+AT78+AV78+AX78+AZ78+BB78+BD78 -> 45 | AC78: SF B | AD78: 25 | AO78: SF B | AP78: 20
D79: 70 | E79: FARFAN, SANTINO | G79: N | H79: 2013 | I79: SAL | J79: =L79+N79+P79+R79+T79+V79+X79+Z79+AB79+AD79+AF79+AH79+AJ79+AL79+AN79+AP79+AR79+AT79+AV79+AX79+AZ79+BB79+BD79 -> 35 | AA79: 2B | AB79: 35
D80: 71 | E80: VIDELA, FRANCISCO | G80: N | H80: 2013 | I80: MZA | J80: =L80+N80+P80+R80+T80+V80+X80+Z80+AB80+AD80+AF80+AH80+AJ80+AL80+AN80+AP80+AR80+AT80+AV80+AX80+AZ80+BB80+BD80 -> 35 | AE80: 3Z | AF80: 35
D81: 72 | E81: HUENCHULLANCA, ISAIAS | H81: 2014 | I81: CHI | J81: =L81+N81+P81+R81+T81+V81+X81+Z81+AB81+AD81+AF81+AH81+AJ81+AL81+AN81+AP81+AR81+AT81+AV81+AX81+AZ81+BB81+BD81 -> 35 | AQ81: 3Z | AR81: 35
D82: 73 | E82: ETCHEVERRY, TOMAS | H82: 2014 | I82: FET | J82: =L82+N82+P82+R82+T82+V82+X82+Z82+AB82+AD82+AF82+AH82+AJ82+AL82+AN82+AP82+AR82+AT82+AV82+AX82+AZ82+BB82+BD82 -> 35 | AO82: 1B | AP82: 35
D83: 74 | E83: MIRANDA, AQUILES | H83: 2015 | I83: SCZ | J83: =L83+N83+P83+R83+T83+V83+X83+Z83+AB83+AD83+AF83+AH83+AJ83+AL83+AN83+AP83+AR83+AT83+AV83+AX83+AZ83+BB83+BD83 -> 35 | AQ83: 4Z | AR83: 35
D84: 75 | E84: FERREYRA, FRANCISCO | H84: 2015 | I84: MZA | J84: =L84+N84+P84+R84+T84+V84+X84+Z84+AB84+AD84+AF84+AH84+AJ84+AL84+AN84+AP84+AR84+AT84+AV84+AX84+AZ84+BB84+BD84 -> 35 | AM84: 3Z | AN84: 35
D85: 76 | E85: BAROCCHI, FILIPPO | H85: 2016 | I85: MZA | J85: =L85+N85+P85+R85+T85+V85+X85+Z85+AB85+AD85+AF85+AH85+AJ85+AL85+AN85+AP85+AR85+AT85+AV85+AX85+AZ85+BB85+BD85 -> 35 | AM85: 3Z | AN85: 35
D86: 77 | E86: FERNANDEZ, ENZO | H86: 2017 | I86: FET | J86: =L86+N86+P86+R86+T86+V86+X86+Z86+AB86+AD86+AF86+AH86+AJ86+AL86+AN86+AP86+AR86+AT86+AV86+AX86+AZ86+BB86+BD86 -> 35 | AC86: 2B | AD86: 35
D87: 78 | E87: CACERES, FELIPE | G87: N | H87: 2013 | I87: RNG | J87: =L87+N87+P87+R87+T87+V87+X87+Z87+AB87+AD87+AF87+AH87+AJ87+AL87+AN87+AP87+AR87+AT87+AV87+AX87+AZ87+BB87+BD87 -> 25 | AY87: SF B | AZ87: 25
D88: 79 | E88: CANDIA, FACUNDO | H88: 2018 | I88: RNG | J88: =L88+N88+P88+R88+T88+V88+X88+Z88+AB88+AD88+AF88+AH88+AJ88+AL88+AN88+AP88+AR88+AT88+AV88+AX88+AZ88+BB88+BD88 -> 25 | AY88: SF B | AZ88: 25
D89: 80 | E89: PETELL, RAFAEL | H89: 2015 | I89: FET | J89: =L89+N89+P89+R89+T89+V89+X89+Z89+AB89+AD89+AF89+AH89+AJ89+AL89+AN89+AP89+AR89+AT89+AV89+AX89+AZ89+BB89+BD89 -> 20 | AU89: SF B | AV89: 20

Sheet IC U15
E4: INDIVIDUAL CABALLEROS U15 | K4: RANKING NACIONAL | TEMPORADA 2026
K5: Grand Prix | M5: Challenger | O5: Regional Abierto | Q5: Challenger | S5: Regional Abierto | U5: Regional Abierto | W5: Regional Abierto | Y5: Regional Abierto | AA5: Regional Abierto | AC5: Regional Abierto | AE5: Regional Abierto | AG5: Challenger | AI5: Regional Abierto | AK5: Nacional | AM5: Regional Abierto | AO5: Regional Abierto | AQ5: Regional Abierto | AS5: Grand Prix | AU5: Regional Abierto | AW5: Regional Abierto | AY5: Regional Abierto | BA5: Challenger | BC5: Abierto de la Rep.
K6: ROSARIO | M6: CHAPADMALAL | O6: FETEMBA | Q6: SANT. DEL ESTERO | S6: MENDOZA | U6: SALTA | W6: TIERRA DEL FUEGO | Y6: FETEMBA | AA6: JUJUY | AC6: SANTA FE | AE6: MENDOZA | AG6: SALTA | AI6: NEUQUÉN | AK6: SANTA FE | AM6: MENDOZA | AO6: FETEMBA | AQ6: SANTA CRUZ | AS6: MENDOZA | AU6: FETEMBA | AW6: MENDOZA | AY6: RIO NEGRO | BA6: ROSARIO | BC6: BUENOS AIRES
K7: 7 A 9 FEB 2025 | M7: 2 A 4 MAR 2025 | O7: 29 Y 30 MAR 2025 | Q7: 11 A 13 ABR 2025 | S7: 26 Y 27 ABR 2025 | U7: 26 Y 27 ABR 2025 | W7: 04 MAY 2025 | Y7: 10 Y 11 MAY 2025 | AA7: 24 Y 25 MAY 2025 | AC7: 31 MAY Y 1 JUN 2025 | AE7: 7 Y 8 JUN 2025 | AG7: 14 A 16 JUN 2025 | AI7: 21 Y 22 JUN 2025 | AK7: 9 A 13 JUL 2025 | AM7: 9 Y 10 AGO 2025 | AO7: 15 AGO 2025 | AQ7: 15 A 17 AGO 2025 | AS7: 5 A 7 SEP 2025 | AU7: 27 Y 28 SEP 2025 | AW7: 4 Y 5 OCT 2025 | AY7: 11 Y 12 OCT 2025 | BA7: 17 A 19 OCT 2025 | BC7: 21 A 24 NOV 2025
D8: POS. | E8: ATLETA | F8: DNI | G8: Fecha de Nacimiento | H8: CAT. | I8: ASOC. | J8: TOTAL | K8: Pos. | L8: Ptos. | M8: Pos. | N8: Ptos. | O8: Pos. | P8: Ptos. | Q8: Pos. | R8: Ptos. | S8: Pos. | T8: Ptos. | U8: Pos. | V8: Ptos. | W8: Pos. | X8: Ptos. | Y8: Pos. | Z8: Ptos. | AA8: Pos. | AB8: Ptos. | AC8: Pos. | AD8: Ptos. | AE8: Pos. | AF8: Ptos. | AG8: Pos. | AH8: Ptos. | AI8: Pos. | AJ8: Ptos. | AK8: Pos. | AL8: Ptos. | AM8: Pos. | AN8: Ptos. | AO8: Pos. | AP8: Ptos. | AQ8: Pos. | AR8: Ptos. | AS8: Pos. | AT8: Ptos. | AU8: Pos. | AV8: Ptos. | AW8: Pos. | AX8: Ptos. | AY8: Pos. | AZ8: Ptos. | BA8: Pos. | BB8: Ptos. | BC8: Pos. | BD8: Ptos.
D10: 1 | E10: DI GIROLAMO, BRUNO | H10: 2012 | I10: FET | J10: =L10+N10+P10+R10+T10+V10+X10+Z10+AB10+AD10+AF10+AH10+AJ10+AL10+AN10+AP10+AR10+AT10+AV10+AX10+AZ10+BB10+BD10 -> 1616.46 | K10: 2 | L10: 270 | M10: 1 | N10: 220 | O10: Prom. | P10: 81.25 | Y10: 4F | Z10: 55 | AK10: 8F | AL10: 205 | AS10: SF | AT10: 0.21 | AU10: 1 | AV10: 110 | BA10: 2 | BB10: 180 | BC10: 1 | BD10: 495
D11: 2 | E11: AXON, JUAN CRUZ | G11: N | H11: 2011 | I11: CHA | J11: =L11+N11+P11+R11+T11+V11+X11+Z11+AB11+AD11+AF11+AH11+AJ11+AL11+AN11+AP11+AR11+AT11+AV11+AX11+AZ11+BB11+BD11 -> 1270 | Y11: 1 | Z11: 110 | AG11: 1 | AH11: 220 | AK11: SF | AL11: 315 | BA11: 1 | BB11: 220 | BC11: 2 | BD11: 405
D12: 3 | E12: VILLEGAS, VALENTINO ARIEL | H12: 2013 | I12: MZA | J12: =L12+N12+P12+R12+T12+V12+X12+Z12+AB12+AD12+AF12+AH12+AJ12+AL12+AN12+AP12+AR12+AT12+AV12+AX12+AZ12+BB12+BD12 -> 1205.165 | K12: 4F | L12: 0.165 | AE12: SF | AF12: 70 | AG12: 4F | AH12: 110 | AK12: 4F | AL12: 250 | AM12: 2 | AN12: 90 | AS12: 2 | AT12: 270 | AW12: SF | AX12: 70 | BA12: SF | BB12: 140 | BC12: 8F | BD12: 205
D13: 4 | E13: MARCIAL, LUCA | H13: 2013 | I13: FET | J13: =L13+N13+P13+R13+T13+V13+X13+Z13+AB13+AD13+AF13+AH13+AJ13+AL13+AN13+AP13+AR13+AT13+AV13+AX13+AZ13+BB13+BD13 -> 1146.3 | M13: Prom. | N13: 0.05 | O13: Prom. | P13: 13.75 | AC13: 1 | AD13: 110 | AG13: SF | AH13: 140 | AK13: 8F | AL13: 205 | AS13: SF | AT13: 210 | BA13: Prom. | BB13: 152.5 | BC13: SF | BD13: 315
D14: 5 | E14: PEDERNERA, LORENZO | G14: N | H14: 2011 | I14: MZA | J14: =L14+N14+P14+R14+T14+V14+X14+Z14+AB14+AD14+AF14+AH14+AJ14+AL14+AN14+AP14+AR14+AT14+AV14+AX14+AZ14+BB14+BD14 -> 1130.235 | K14: 4F | L14: 0.165 | S14: SF | T14: 0.07 | AE14: 1 | AF14: 110 | AG14: 4F | AH14: 110 | AK14: 8F | AL14: 205 | AM14: 1 | AN14: 110 | AS14: 4F | AT14: 165 | AW14: 2 | AX14: 90 | BA14: 8F | BB14: 90 | BC14: 4F | BD14: 250
D15: 6 | E15: RUBIN MINETTI, DANTE | H15: 2013 | I15: FET | J15: =L15+N15+P15+R15+T15+V15+X15+Z15+AB15+AD15+AF15+AH15+AJ15+AL15+AN15+AP15+AR15+AT15+AV15+AX15+AZ15+BB15+BD15 -> 1030.055 | K15: 8F | L15: 135 | M15: SF | N15: 140 | O15: 4F | P15: 0.055 | Y15: 4F | Z15: 55 | AK15: 8F | AL15: 205 | AO15: 1 | AP15: 110 | AU15: SF | AV15: 70 | BA15: 4F | BB15: 110 | BC15: 8F | BD15: 205
D16: 7 | E16: URFEIG, FRANCISCO | H16: 2012 | I16: FET | J16: =L16+N16+P16+R16+T16+V16+X16+Z16+AB16+AD16+AF16+AH16+AJ16+AL16+AN16+AP16+AR16+AT16+AV16+AX16+AZ16+BB16+BD16 -> 895.155 | M16: 4F | N16: 0.11 | O16: 8F | P16: 0.045 | Q16: 4F | R16: 110 | Y16: 8F | Z16: 45 | AK16: 16F | AL16: 160 | AO16: 2 | AP16: 90 | AS16: 16F | AT16: 105 | AU16: SF | AV16: 70 | BA16: 4F | BB16: 110 | BC16: 8F | BD16: 205
D17: 8 | E17: VARELA, FEDERICO | H17: 2013 | I17: SAL | J17: =L17+N17+P17+R17+T17+V17+X17+Z17+AB17+AD17+AF17+AH17+AJ17+AL17+AN17+AP17+AR17+AT17+AV17+AX17+AZ17+BB17+BD17 -> 855 | Q17: SF | R17: 140 | U17: SF | V17: 70 | AA17: 4F | AB17: 55 | AG17: 2 | AH17: 180 | AK17: 8F | AL17: 205 | BC17: 8F | BD17: 205
D18: 9 | E18: DOMINGUEZ, FELIPE | H18: 2012 | I18: MZA | J18: =L18+N18+P18+R18+T18+V18+X18+Z18+AB18+AD18+AF18+AH18+AJ18+AL18+AN18+AP18+AR18+AT18+AV18+AX18+AZ18+BB18+BD18 -> 855.225 | K18: 8F | L18: 0.135 | S18: 4F | T18: 55 | Y18: 8F | Z18: 0.045 | AE18: SF | AF18: 70 | AG18: SF B | AH18: 40 | AK18: 8F | AL18: 205 | AM18: 4F | AN18: 55 | AS18: 8F | AT18: 135 | AW18: 3Z | AX18: 0.045 | BA18: 8F | BB18: 90 | BC18: 8F | BD18: 205
D19: 10 | E19: OCAMPO, BRAIAN | G19: N | H19: 2011 | I19: SAL | J19: =L19+N19+P19+R19+T19+V19+X19+Z19+AB19+AD19+AF19+AH19+AJ19+AL19+AN19+AP19+AR19+AT19+AV19+AX19+AZ19+BB19+BD19 -> 850 | Q19: 2 | R19: 180 | U19: 1 | V19: 110 | AA19: 4F | AB19: 55 | AG19: SF | AH19: 140 | AK19: 8F | AL19: 205 | BC19: 16F | BD19: 160
D20: 11 | E20: SPINELLI, THIAGO | H20: 2012 | I20: FET | J20: =L20+N20+P20+R20+T20+V20+X20+Z20+AB20+AD20+AF20+AH20+AJ20+AL20+AN20+AP20+AR20+AT20+AV20+AX20+AZ20+BB20+BD20 -> 835 | O20: 8F | P20: 45 | Q20: 4F | R20: 110 | Y20: 8F | Z20: 45 | AC20: SF | AD20: 70 | AK20: 16F | AL20: 160 | AS20: 8F | AT20: 135 | BA20: 4F | BB20: 110 | BC20: 16F | BD20: 160
D21: 12 | E21: PIRUZI, GIANNI | H21: 2014 | I21: MZA | J21: =L21+N21+P21+R21+T21+V21+X21+Z21+AB21+AD21+AF21+AH21+AJ21+AL21+AN21+AP21+AR21+AT21+AV21+AX21+AZ21+BB21+BD21 -> 820.09 | S21: 4F | T21: 55 | AE21: 8F | AF21: 0.045 | AG21: 4F | AH21: 110 | AM21: SF | AN21: 70 | AS21: 8F | AT21: 135 | AW21: 3Z | AX21: 0.045 | AY21: 1 | AZ21: 110 | BA21: 8F | BB21: 90 | BC21: 4F | BD21: 250
D22: 13 | E22: SATO, LEONARDO EZEQUIEL | G22: N | H22: 2011 | I22: FET | J22: =L22+N22+P22+R22+T22+V22+X22+Z22+AB22+AD22+AF22+AH22+AJ22+AL22+AN22+AP22+AR22+AT22+AV22+AX22+AZ22+BB22+BD22 -> 795.425 | K22: 8F | L22: 0.135 | M22: 4F | N22: 0.11 | O22: SF | P22: 0.07 | Q22: 4F | R22: 0.11 | AC22: 2 | AD22: 90 | AG22: 4F | AH22: 110 | AK22: 16F | AL22: 160 | AO22: SF | AP22: 70 | AS22: 4F | AT22: 165 | AU22: 2 | AV22: 90 | BA22: 4F | BB22: 110
D23: 14 | E23: PASTERI, GINO | H23: 2012 | I23: SFE | J23: =L23+N23+P23+R23+T23+V23+X23+Z23+AB23+AD23+AF23+AH23+AJ23+AL23+AN23+AP23+AR23+AT23+AV23+AX23+AZ23+BB23+BD23 -> 745.06 | K23: 2B | L23: 0.06 | M23: 8F | N23: 90 | AC23: 1B | AD23: 45 | AK23: 16F | AL23: 160 | AO23: 4F | AP23: 55 | AS23: 8F | AT23: 135 | AU23: 4F | AV23: 55 | BA23: 8F | BB23: 90 | BC23: 32F | BD23: 115
D24: 15 | E24: MASETRO, CIRO | H24: 2012 | I24: SFE | J24: =L24+N24+P24+R24+T24+V24+X24+Z24+AB24+AD24+AF24+AH24+AJ24+AL24+AN24+AP24+AR24+AT24+AV24+AX24+AZ24+BB24+BD24 -> 720.025 | K24: 8F | L24: 135 | M24: 8F | N24: 90 | O24: 2B | P24: 0.025 | Y24: 1B | Z24: 25 | AC24: 4F | AD24: 55 | AK24: 16F | AL24: 160 | AO24: 8F | AP24: 45 | BA24: 2B | BB24: 50 | BC24: 16F | BD24: 160
D25: 16 | E25: ROMEGO, ERNESTO | H25: 2013 | I25: FET | J25: =L25+N25+P25+R25+T25+V25+X25+Z25+AB25+AD25+AF25+AH25+AJ25+AL25+AN25+AP25+AR25+AT25+AV25+AX25+AZ25+BB25+BD25 -> 685 | M25: 8F | N25: 90 | O25: 8F | P25: 45 | AK25: 16F | AL25: 160 | AO25: 4F | AP25: 55 | AS25: 16F | AT25: 105 | AU25: 8F | AV25: 45 | BA25: 1B | BB25: 70 | BC25: 32F | BD25: 115
D26: 17 | E26: ORQUERA, JEREMIAS | H26: 2012 | I26: MZA | J26: =L26+N26+P26+R26+T26+V26+X26+Z26+AB26+AD26+AF26+AH26+AJ26+AL26+AN26+AP26+AR26+AT26+AV26+AX26+AZ26+BB26+BD26 -> 680.145 | K26: 8F | L26: 135 | S26: SF | T26: 70 | Y26: 8F | Z26: 0.045 | AE26: 4F | AF26: 0.055 | AK26: 16F | AL26: 160 | AM26: 4F | AN26: 55 | AS26: SF B | AT26: 0.045 | AW26: 4F | AX26: 55 | BA26: 8F | BB26: 90 | BC26: 32F | BD26: 115
D27: 18 | E27: ALTO, JULIAN | H27: 2014 | I27: MZA | J27: =L27+N27+P27+R27+T27+V27+X27+Z27+AB27+AD27+AF27+AH27+AJ27+AL27+AN27+AP27+AR27+AT27+AV27+AX27+AZ27+BB27+BD27 -> 675.22 | K27: SF | L27: 210 | S27: 4F | T27: 0.055 | AE27: 2 | AF27: 90 | AM27: SF | AN27: 70 | AS27: 4F | AT27: 0.165 | AW27: 4F | AX27: 55 | BC27: 4F | BD27: 250
D28: 19 | E28: MOLINA, JUAN GREGORIO | H28: 2012 | I28: SEN | J28: =L28+N28+P28+R28+T28+V28+X28+Z28+AB28+AD28+AF28+AH28+AJ28+AL28+AN28+AP28+AR28+AT28+AV28+AX28+AZ28+BB28+BD28 -> 650 | O28: 8F | P28: 45 | Q28: 2B | R28: 50 | U28: 4F | V28: 55 | AA28: 8F | AB28: 45 | AK28: 16F | AL28: 160 | AS28: 8F | AT28: 135 | BC28: 16F | BD28: 160
D29: 20 | E29: MULLER, LUCA | H29: 2013 | I29: FET | J29: =L29+N29+P29+R29+T29+V29+X29+Z29+AB29+AD29+AF29+AH29+AJ29+AL29+AN29+AP29+AR29+AT29+AV29+AX29+AZ29+BB29+BD29 -> 640.14 | K29: 16F | L29: 0.105 | M29: 1B | N29: 70 | O29: 4F | P29: 55 | Y29: 16F | Z29: 0.035 | AK29: 16F | AL29: 160 | AO29: 8F | AP29: 45 | AS29: 16F | AT29: 105 | AU29: 8F | AV29: 45 | BC29: 16F | BD29: 160
D30: 21 | E30: BENITEZ, EMANUEL JULIAN | G30: N | H30: 2011 | I30: JUJ | J30: =L30+N30+P30+R30+T30+V30+X30+Z30+AB30+AD30+AF30+AH30+AJ30+AL30+AN30+AP30+AR30+AT30+AV30+AX30+AZ30+BB30+BD30 -> 625 | K30: 4F | L30: 165 | Q30: SF | R30: 140 | U30: SF | V30: 70 | Y30: 8F | Z30: 45 | AG30: 8F | AH30: 90 | AK30: 32F | AL30: 115
D31: 22 | E31: MASSARE, DANTE | H31: 2012 | I31: FET | J31: =L31+N31+P31+R31+T31+V31+X31+Z31+AB31+AD31+AF31+AH31+AJ31+AL31+AN31+AP31+AR31+AT31+AV31+AX31+AZ31+BB31+BD31 -> 575.15 | K31: 8F | L31: 135 | M31: 4F | N31: 110 | O31: 4F | P31: 55 | Y31: 8F | Z31: 0.045 | AO31: SF | AP31: 70 | AS31: 16F | AT31: 0.105 | AU31: 8F | AV31: 45 | BC31: 16F | BD31: 160
D32: 23 | E32: PEÑALVES, LINO | H32: 2012 | I32: SFE | J32: =L32+N32+P32+R32+T32+V32+X32+Z32+AB32+AD32+AF32+AH32+AJ32+AL32+AN32+AP32+AR32+AT32+AV32+AX32+AZ32+BB32+BD32 -> 545.015 | M32: 4F | N32: 110 | O32: 8F | P32: 45 | Y32: SF B | Z32: 0.015 | AK32: 32F | AL32: 115 | AO32: 8F | AP32: 45 | AS32: 2B | AT32: 60 | AU32: 4F | AV32: 55 | BC32: 32F | BD32: 115
D33: 24 | E33: TAGLIAVINI ARAGON, BENICIO | H33: 2012 | I33: SEN | J33: =L33+N33+P33+R33+T33+V33+X33+Z33+AB33+AD33+AF33+AH33+AJ33+AL33+AN33+AP33+AR33+AT33+AV33+AX33+AZ33+BB33+BD33 -> 535 | Q33: 8F | R33: 90 | U33: 8F | V33: 45 | AG33: 2B | AH33: 50 | AK33: 16F | AL33: 160 | AS33: 1B | AT33: 75 | BC33: 32F | BD33: 115
D34: 25 | E34: ALTO, LUCAS | H34: 2014 | I34: MZA | J34: =L34+N34+P34+R34+T34+V34+X34+Z34+AB34+AD34+AF34+AH34+AJ34+AL34+AN34+AP34+AR34+AT34+AV34+AX34+AZ34+BB34+BD34 -> 530.135 | K34: 8F | L34: 0.135 | S34: 1 | T34: 110 | AE34: 4F | AF34: 55 | AS34: 8F | AT34: 135 | AW34: SF | AX34: 70 | BC34: 16F | BD34: 160
D35: 26 | E35: LINARES, JERONIMO | H35: 2013 | I35: SFE | J35: =L35+N35+P35+R35+T35+V35+X35+Z35+AB35+AD35+AF35+AH35+AJ35+AL35+AN35+AP35+AR35+AT35+AV35+AX35+AZ35+BB35+BD35 -> 500.17 | K35: 16F | L35: 0.105 | O35: 8F | P35: 0.045 | Y35: 2B | Z35: 0.02 | AC35: 4F | AD35: 55 | AO35: 8F | AP35: 45 | AS35: 16F | AT35: 105 | AU35: 8F | AV35: 45 | BA35: 8F | BB35: 90 | BC35: 16F | BD35: 160
D36: 27 | E36: MARAGNA, GASTON | G36: N | H36: 2011 | I36: MZA | J36: =L36+N36+P36+R36+T36+V36+X36+Z36+AB36+AD36+AF36+AH36+AJ36+AL36+AN36+AP36+AR36+AT36+AV36+AX36+AZ36+BB36+BD36 -> 435 | AS36: 8F | AT36: 135 | AW36: 3Z | AX36: 45 | BA36: SF | BB36: 140 | BC36: 32F | BD36: 115
D37: 28 | E37: APPIANI, LUCAS | G37: N | H37: 2011 | I37: SFE | J37: =L37+N37+P37+R37+T37+V37+X37+Z37+AB37+AD37+AF37+AH37+AJ37+AL37+AN37+AP37+AR37+AT37+AV37+AX37+AZ37+BB37+BD37 -> 405 | K37: 1B | L37: 75 | M37: SF B | N37: 40 | AC37: 2B | AD37: 35 | AO37: 8F | AP37: 45 | AU37: 4F | AV37: 55 | BA37: SF B | BB37: 40 | BC37: 32F | BD37: 115
D38: 29 | E38: ACUÑA VELASQUEZ, AGUSTIN | H38: 2012 | I38: CHI | J38: =L38+N38+P38+R38+T38+V38+X38+Z38+AB38+AD38+AF38+AH38+AJ38+AL38+AN38+AP38+AR38+AT38+AV38+AX38+AZ38+BB38+BD38 -> 385 | AS38: 8F | AT38: 135 | BC38: 4F | BD38: 250
D39: 30 | E39: MARTININI, LAUTARO | H39: 2013 | I39: FET | J39: =L39+N39+P39+R39+T39+V39+X39+Z39+AB39+AD39+AF39+AH39+AJ39+AL39+AN39+AP39+AR39+AT39+AV39+AX39+AZ39+BB39+BD39 -> 380 | O39: SF B | P39: 20 | AK39: 16F | AL39: 160 | AO39: 8F | AP39: 45 | BA39: SF B | BB39: 40 | BC39: 32F | BD39: 115
D40: 31 | E40: MORALES TAPIA, VICENTE | H40: 2013 | I40: CHI | J40: =L40+N40+P40+R40+T40+V40+X40+Z40+AB40+AD40+AF40+AH40+AJ40+AL40+AN40+AP40+AR40+AT40+AV40+AX40+AZ40+BB40+BD40 -> 370 | AS40: 4F | AT40: 165 | BC40: 8F | BD40: 205
D41: 32 | E41: LOBO DIAZ, LUCCA | G41: N | H41: 2011 | I41: CRI | J41: =L41+N41+P41+R41+T41+V41+X41+Z41+AB41+AD41+AF41+AH41+AJ41+AL41+AN41+AP41+AR41+AT41+AV41+AX41+AZ41+BB41+BD41 -> 330 | AS41: 1 | AT41: 330
D42: 33 | E42: BUSTAMANTE FERNANDEZ, SEBASTIAN | H42: 2012 | I42: SCZ | J42: =L42+N42+P42+R42+T42+V42+X42+Z42+AB42+AD42+AF42+AH42+AJ42+AL42+AN42+AP42+AR42+AT42+AV42+AX42+AZ42+BB42+BD42 -> 305 | AK42: 1B | AL42: 90 | AQ42: 4F | AR42: 55 | BC42: 16F | BD42: 160
D43: 34 | E43: ALTO, VALENTINO | H43: 2015 | I43: MZA | J43: =L43+N43+P43+R43+T43+V43+X43+Z43+AB43+AD43+AF43+AH43+AJ43+AL43+AN43+AP43+AR43+AT43+AV43+AX43+AZ43+BB43+BD43 -> 305 | S43: 2 | T43: 90 | AE43: 4F | AF43: 55 | AM43: 4F | AN43: 55 | AS43: 16F | AT43: 105
D44: 35 | E44: MENEGAZZO, THIAGO | G44: N | H44: 2011 | I44: MZA | J44: =L44+N44+P44+R44+T44+V44+X44+Z44+AB44+AD44+AF44+AH44+AJ44+AL44+AN44+AP44+AR44+AT44+AV44+AX44+AZ44+BB44+BD44 -> 280.045 | K44: 8F | L44: 135 | S44: 8F | T44: 45 | AE44: 4F | AF44: 55 | AS44: SF B | AT44: 0.045 | AW44: 4Z | AX44: 45
D45: 36 | E45: VERNILLO, AGUSTIN | H45: 2012 | I45: FET | J45: =L45+N45+P45+R45+T45+V45+X45+Z45+AB45+AD45+AF45+AH45+AJ45+AL45+AN45+AP45+AR45+AT45+AV45+AX45+AZ45+BB45+BD45 -> 270 | AO45: 4F | AP45: 55 | AU45: 4F | AV45: 55 | BC45: 16F | BD45: 160
D46: 37 | E46: ARCE, LIONEL | H46: 2013 | I46: FET | J46: =L46+N46+P46+R46+T46+V46+X46+Z46+AB46+AD46+AF46+AH46+AJ46+AL46+AN46+AP46+AR46+AT46+AV46+AX46+AZ46+BB46+BD46 -> 245 | K46: SF B | L46: 45 | AG46: SF B | AH46: 40 | BC46: 16F | BD46: 160
D47: 38 | E47: RASJIDO, JONATHAN | H47: 2012 | I47: SCZ | J47: =L47+N47+P47+R47+T47+V47+X47+Z47+AB47+AD47+AF47+AH47+AJ47+AL47+AN47+AP47+AR47+AT47+AV47+AX47+AZ47+BB47+BD47 -> 240 | W47: SF | X47: 70 | AQ47: 4F | AR47: 55 | BC47: 32F | BD47: 115
D48: 39 | E48: RECUPERO, MARTINO | H48: 2013 | I48: JUJ | J48: =L48+N48+P48+R48+T48+V48+X48+Z48+AB48+AD48+AF48+AH48+AJ48+AL48+AN48+AP48+AR48+AT48+AV48+AX48+AZ48+BB48+BD48 -> 235 | Q48: 8F | R48: 90 | U48: 4F | V48: 55 | AG48: 8F | AH48: 90
D49: 40 | E49: AGUIRRE, MAXIMO | G49: N | H49: 2011 | I49: JUJ | J49: =L49+N49+P49+R49+T49+V49+X49+Z49+AB49+AD49+AF49+AH49+AJ49+AL49+AN49+AP49+AR49+AT49+AV49+AX49+AZ49+BB49+BD49 -> 230 | AA49: SF | AB49: 70 | BC49: 16F | BD49: 160
D50: 41 | E50: RINALDI, NICOLAS | H50: 2012 | I50: URU | J50: =L50+N50+P50+R50+T50+V50+X50+Z50+AB50+AD50+AF50+AH50+AJ50+AL50+AN50+AP50+AR50+AT50+AV50+AX50+AZ50+BB50+BD50 -> 205 | BC50: 8F | BD50: 205
D51: 42 | E51: TIMBAL, GONZALO | H51: 2012 | I51: URU | J51: =L51+N51+P51+R51+T51+V51+X51+Z51+AB51+AD51+AF51+AH51+AJ51+AL51+AN51+AP51+AR51+AT51+AV51+AX51+AZ51+BB51+BD51 -> 205 | BC51: 8F | BD51: 205
D52: 43 | E52: JANTUS PEREIRA, BAUTISTA | G52: N | H52: 2011 | I52: FET | J52: =L52+N52+P52+R52+T52+V52+X52+Z52+AB52+AD52+AF52+AH52+AJ52+AL52+AN52+AP52+AR52+AT52+AV52+AX52+AZ52+BB52+BD52 -> 195 | AU52: 1B | AV52: 35 | BC52: 16F | BD52: 160
D53: 44 | E53: ANARELLA, VICENTE | H53: 2012 | I53: FET | J53: =L53+N53+P53+R53+T53+V53+X53+Z53+AB53+AD53+AF53+AH53+AJ53+AL53+AN53+AP53+AR53+AT53+AV53+AX53+AZ53+BB53+BD53 -> 195 | AO53: 1B | AP53: 35 | AU53: 8F | AV53: 45 | BC53: 32F | BD53: 115
D54: 45 | E54: OJEDA BARRIA, SEBASTIAN | G54: N | H54: 2011 | I54: LIB | J54: =L54+N54+P54+R54+T54+V54+X54+Z54+AB54+AD54+AF54+AH54+AJ54+AL54+AN54+AP54+AR54+AT54+AV54+AX54+AZ54+BB54+BD54 -> 160 | BC54: 16F | BD54: 160
D55: 46 | E55: GOMEZ, SEBASTIAN | G55: N | H55: 2011 | I55: TDF | J55: =L55+N55+P55+R55+T55+V55+X55+Z55+AB55+AD55+AF55+AH55+AJ55+AL55+AN55+AP55+AR55+AT55+AV55+AX55+AZ55+BB55+BD55 -> 160 | W55: SF | X55: 70 | AQ55: 2 | AR55: 90
D56: 47 | E56: AGUILAR, LUCAS BENJAMIN | G56: N | H56: 2011 | I56: SCZ | J56: =L56+N56+P56+R56+T56+V56+X56+Z56+AB56+AD56+AF56+AH56+AJ56+AL56+AN56+AP56+AR56+AT56+AV56+AX56+AZ56+BB56+BD56 -> 160 | BC56: 16F | BD56: 160
D57: 48 | E57: ZIMERMAN, CARMELO | H57: 2013 | I57: CBA | J57: =L57+N57+P57+R57+T57+V57+X57+Z57+AB57+AD57+AF57+AH57+AJ57+AL57+AN57+AP57+AR57+AT57+AV57+AX57+AZ57+BB57+BD57 -> 160 | AK57: SF B | AL57: 45 | BC57: 32F | BD57: 115
D58: 49 | E58: TEJEDA CERDA, VICENTE | H58: 2014 | I58: CHI | J58: =L58+N58+P58+R58+T58+V58+X58+Z58+AB58+AD58+AF58+AH58+AJ58+AL58+AN58+AP58+AR58+AT58+AV58+AX58+AZ58+BB58+BD58 -> 160 | BC58: 16F | BD58: 160
D59: 50 | E59: SORIA, DIEGO | G59: N | H59: 2011 | I59: TDF | J59: =L59+N59+P59+R59+T59+V59+X59+Z59+AB59+AD59+AF59+AH59+AJ59+AL59+AN59+AP59+AR59+AT59+AV59+AX59+AZ59+BB59+BD59 -> 145 | W59: 2 | X59: 90 | AQ59: 4F | AR59: 55
D60: 51 | E60: CARDOZO, JUAN IGNACIO | H60: 2012 | I60: MZA | J60: =L60+N60+P60+R60+T60+V60+X60+Z60+AB60+AD60+AF60+AH60+AJ60+AL60+AN60+AP60+AR60+AT60+AV60+AX60+AZ60+BB60+BD60 -> 145 | S60: 4F | T60: 55 | AE60: 3Z | AF60: 35 | AM60: 4F | AN60: 55
D61: 52 | E61: RODRIGUEZ BATTILANA, ALFONSO | G61: N | H61: 2011 | I61: SAL | J61: =L61+N61+P61+R61+T61+V61+X61+Z61+AB61+AD61+AF61+AH61+AJ61+AL61+AN61+AP61+AR61+AT61+AV61+AX61+AZ61+BB61+BD61 -> 140 | Q61: SF B | R61: 40 | U61: 4F | V61: 55 | AA61: 8F | AB61: 45
D62: 53 | E62: BOSATTA, FAUSTO | G62: N | H62: 2011 | I62: FBA | J62: =L62+N62+P62+R62+T62+V62+X62+Z62+AB62+AD62+AF62+AH62+AJ62+AL62+AN62+AP62+AR62+AT62+AV62+AX62+AZ62+BB62+BD62 -> 135 | M62: 8F | N62: 90 | AK62: SF B | AL62: 45
D63: 54 | E63: GALVEZ, CRISTIAN BENICIO | G63: N | H63: 2011 | I63: SAL | J63: =L63+N63+P63+R63+T63+V63+X63+Z63+AB63+AD63+AF63+AH63+AJ63+AL63+AN63+AP63+AR63+AT63+AV63+AX63+AZ63+BB63+BD63 -> 125 | K63: SF B | L63: 45 | U63: 1B | V63: 35 | AA63: 8F | AB63: 45
D64: 55 | E64: ANTMAN, FACUNDO | G64: N | H64: 2011 | I64: FET | J64: =L64+N64+P64+R64+T64+V64+X64+Z64+AB64+AD64+AF64+AH64+AJ64+AL64+AN64+AP64+AR64+AT64+AV64+AX64+AZ64+BB64+BD64 -> 120 | O64: SF B | P64: 20 | AO64: 4F | AP64: 55 | AU64: 8F | AV64: 45
D65: 56 | E65: SCHPISI SALDAÑA, SANTINO | G65: N | H65: 2011 | I65: RNG | J65: =L65+N65+P65+R65+T65+V65+X65+Z65+AB65+AD65+AF65+AH65+AJ65+AL65+AN65+AP65+AR65+AT65+AV65+AX65+AZ65+BB65+BD65 -> 115 | BC65: 32F | BD65: 115
D66: 57 | E66: RUSSO, SHAIR ASAEL | G66: N | H66: 2011 | I66: LIB | J66: =L66+N66+P66+R66+T66+V66+X66+Z66+AB66+AD66+AF66+AH66+AJ66+AL66+AN66+AP66+AR66+AT66+AV66+AX66+AZ66+BB66+BD66 -> 115 | BC66: 32F | BD66: 115
D67: 58 | E67: FIGUEIREDO, AGUSTIN | G67: N | H67: 2011 | I67: URU | J67: =L67+N67+P67+R67+T67+V67+X67+Z67+AB67+AD67+AF67+AH67+AJ67+AL67+AN67+AP67+AR67+AT67+AV67+AX67+AZ67+BB67+BD67 -> 115 | BC67: 32F | BD67: 115
D68: 59 | E68: QUEIROZ, PEDRO | G68: N | H68: 2011 | I68: URU | J68: =L68+N68+P68+R68+T68+V68+X68+Z68+AB68+AD68+AF68+AH68+AJ68+AL68+AN68+AP68+AR68+AT68+AV68+AX68+AZ68+BB68+BD68 -> 115 | BC68: 32F | BD68: 115
D69: 60 | E69: BECCARIA, DANIEL FRANCISCO | H69: 2012 | I69: NQN | J69: =L69+N69+P69+R69+T69+V69+X69+Z69+AB69+AD69+AF69+AH69+AJ69+AL69+AN69+AP69+AR69+AT69+AV69+AX69+AZ69+BB69+BD69 -> 115 | BC69: 32F | BD69: 115
D70: 61 | E70: ESPINOZA, THIAGO | H70: 2012 | I70: NQN | J70: =L70+N70+P70+R70+T70+V70+X70+Z70+AB70+AD70+AF70+AH70+AJ70+AL70+AN70+AP70+AR70+AT70+AV70+AX70+AZ70+BB70+BD70 -> 115 | AY70: SF | AZ70: 70 | BC70: SF B | BD70: 45
D71: 62 | E71: FELDMAN, IAN | H71: 2013 | I71: URU | J71: =L71+N71+P71+R71+T71+V71+X71+Z71+AB71+AD71+AF71+AH71+AJ71+AL71+AN71+AP71+AR71+AT71+AV71+AX71+AZ71+BB71+BD71 -> 115 | BC71: 32F | BD71: 115
D72: 63 | E72: CAPELLA, JUAN CRUZ | H72: 2013 | I72: SFE | J72: =L72+N72+P72+R72+T72+V72+X72+Z72+AB72+AD72+AF72+AH72+AJ72+AL72+AN72+AP72+AR72+AT72+AV72+AX72+AZ72+BB72+BD72 -> 115 | BC72: 32F | BD72: 115
D73: 64 | E73: QUINTANA MAIDANA, TIZIANO URIEL | H73: 2013 | I73: LIB | J73: =L73+N73+P73+R73+T73+V73+X73+Z73+AB73+AD73+AF73+AH73+AJ73+AL73+AN73+AP73+AR73+AT73+AV73+AX73+AZ73+BB73+BD73 -> 115 | BC73: 32F | BD73: 115
D74: 65 | E74: IRURZUN NAVARRO, MATIAS IÑAKI | H74: 2013 | I74: SFE | J74: =L74+N74+P74+R74+T74+V74+X74+Z74+AB74+AD74+AF74+AH74+AJ74+AL74+AN74+AP74+AR74+AT74+AV74+AX74+AZ74+BB74+BD74 -> 115 | BC74: 32F | BD74: 115
D75: 66 | E75: BIOTT, JEREMIAS | H75: 2013 | I75: LIB | J75: =L75+N75+P75+R75+T75+V75+X75+Z75+AB75+AD75+AF75+AH75+AJ75+AL75+AN75+AP75+AR75+AT75+AV75+AX75+AZ75+BB75+BD75 -> 115 | BC75: 32F | BD75: 115
D76: 67 | E76: DI PIERRI, FELIPE | H76: 2013 | I76: SFE | J76: =L76+N76+P76+R76+T76+V76+X76+Z76+AB76+AD76+AF76+AH76+AJ76+AL76+AN76+AP76+AR76+AT76+AV76+AX76+AZ76+BB76+BD76 -> 115 | AC76: SF | AD76: 70 | AU76: 8F | AV76: 45
D77: 68 | E77: RUIZ DIAZ, LEANDRO | H77: 2014 | I77: CHA | J77: =L77+N77+P77+R77+T77+V77+X77+Z77+AB77+AD77+AF77+AH77+AJ77+AL77+AN77+AP77+AR77+AT77+AV77+AX77+AZ77+BB77+BD77 -> 115 | BC77: 32F | BD77: 115
D78: 69 | E78: TORRES, LAUTARO | H78: 2013 | I78: SCZ | J78: =L78+N78+P78+R78+T78+V78+X78+Z78+AB78+AD78+AF78+AH78+AJ78+AL78+AN78+AP78+AR78+AT78+AV78+AX78+AZ78+BB78+BD78 -> 110 | AQ78: 1 | AR78: 110
D79: 70 | E79: CORONEL, EMILIO ARSENIO | G79: N | H79: 2011 | I79: SFE | J79: =L79+N79+P79+R79+T79+V79+X79+Z79+AB79+AD79+AF79+AH79+AJ79+AL79+AN79+AP79+AR79+AT79+AV79+AX79+AZ79+BB79+BD79 -> 105 | K79: 16F | L79: 105
D80: 71 | E80: CARRIBERO, MATEO | H80: 2013 | I80: MZA | J80: =L80+N80+P80+R80+T80+V80+X80+Z80+AB80+AD80+AF80+AH80+AJ80+AL80+AN80+AP80+AR80+AT80+AV80+AX80+AZ80+BB80+BD80 -> 105 | S80: 2B | T80: 25 | AE80: 3Z | AF80: 35 | AM80: 3Z | AN80: 45
D81: 72 | E81: DIAZ, BENJAMIN | H81: 2013 | I81: SCZ | J81: =L81+N81+P81+R81+T81+V81+X81+Z81+AB81+AD81+AF81+AH81+AJ81+AL81+AN81+AP81+AR81+AT81+AV81+AX81+AZ81+BB81+BD81 -> 100 | W81: 3Z | X81: 55 | AQ81: 8F | AR81: 45
D82: 73 | E82: ESCOBAR MUÑOZ, LAUTARO JEREMIAS | H82: 2012 | I82: SCZ | J82: =L82+N82+P82+R82+T82+V82+X82+Z82+AB82+AD82+AF82+AH82+AJ82+AL82+AN82+AP82+AR82+AT82+AV82+AX82+AZ82+BB82+BD82 -> 90 | BC82: 1B | BD82: 90
D83: 74 | E83: HAGIWARA, NAOKI | H83: 2014 | I83: FET | J83: =L83+N83+P83+R83+T83+V83+X83+Z83+AB83+AD83+AF83+AH83+AJ83+AL83+AN83+AP83+AR83+AT83+AV83+AX83+AZ83+BB83+BD83 -> 90 | AO83: 8F | AP83: 45 | AU83: 8F | AV83: 45
D84: 75 | E84: SABARZA, JOEL | G84: N | H84: 2011 | I84: JUJ | J84: =L84+N84+P84+R84+T84+V84+X84+Z84+AB84+AD84+AF84+AH84+AJ84+AL84+AN84+AP84+AR84+AT84+AV84+AX84+AZ84+BB84+BD84 -> 80 | U84: 8F | V84: 45 | AA84: 1B | AB84: 35
D85: 76 | E85: GONZALEZ, BAUTISTA | H85: 2012 | I85: MZA | J85: =L85+N85+P85+R85+T85+V85+X85+Z85+AB85+AD85+AF85+AH85+AJ85+AL85+AN85+AP85+AR85+AT85+AV85+AX85+AZ85+BB85+BD85 -> 80 | AE85: 3Z | AF85: 35 | AM85: 3Z | AN85: 45
D86: 77 | E86: RAMIREZ, LUCAS | G86: N | H86: 2011 | I86: CHI | J86: =L86+N86+P86+R86+T86+V86+X86+Z86+AB86+AD86+AF86+AH86+AJ86+AL86+AN86+AP86+AR86+AT86+AV86+AX86+AZ86+BB86+BD86 -> 70 | AQ86: SF | AR86: 70
D87: 78 | E87: DIAZ, THIAGO JOAQUIN | G87: N | H87: 2011 | I87: SFE | J87: =L87+N87+P87+R87+T87+V87+X87+Z87+AB87+AD87+AF87+AH87+AJ87+AL87+AN87+AP87+AR87+AT87+AV87+AX87+AZ87+BB87+BD87 -> 70 | AK87: 2B | AL87: 70
D88: 79 | E88: CASTILLO CIA, JOAQUIN | H88: 2012 | I88: MZA | J88: =L88+N88+P88+R88+T88+V88+X88+Z88+AB88+AD88+AF88+AH88+AJ88+AL88+AN88+AP88+AR88+AT88+AV88+AX88+AZ88+BB88+BD88 -> 70 | BC88: 2B | BD88: 70
D89: 80 | E89: CARENINI, FRANCISCO | H89: 2014 | I89: MZA | J89: =L89+N89+P89+R89+T89+V89+X89+Z89+AB89+AD89+AF89+AH89+AJ89+AL89+AN89+AP89+AR89+AT89+AV89+AX89+AZ89+BB89+BD89 -> 70 | AY89: SF | AZ89: 70
D90: 81 | E90: CARRIVALE, VALENTINO | H90: 2012 | I90: MZA | J90: =L90+N90+P90+R90+T90+V90+X90+Z90+AB90+AD90+AF90+AH90+AJ90+AL90+AN90+AP90+AR90+AT90+AV90+AX90+AZ90+BB90+BD90 -> 65 | S90: SF B | T90: 20 | AY90: 1B | AZ90: 45
D91: 82 | E91: VERGARA, LUCAS | G91: N | H91: 2011 | I91: JUJ | J91: =L91+N91+P91+R91+T91+V91+X91+Z91+AB91+AD91+AF91+AH91+AJ91+AL91+AN91+AP91+AR91+AT91+AV91+AX91+AZ91+BB91+BD91 -> 55 | AA91: 4F | AB91: 55
D92: 83 | E92: BARBIERI, CRISTOBAL | H92: 2012 | I92: FBA | J92: =L92+N92+P92+R92+T92+V92+X92+Z92+AB92+AD92+AF92+AH92+AJ92+AL92+AN92+AP92+AR92+AT92+AV92+AX92+AZ92+BB92+BD92 -> 55 | AY92: 4F | AZ92: 55
D93: 84 | E93: VERGARA, SANTIAGO | H93: 2013 | I93: JUJ | J93: =L93+N93+P93+R93+T93+V93+X93+Z93+AB93+AD93+AF93+AH93+AJ93+AL93+AN93+AP93+AR93+AT93+AV93+AX93+AZ93+BB93+BD93 -> 55 | AA93: 4F | AB93: 55
D94: 85 | E94: NUÑEZ, JOSE | G94: N | H94: 2011 | I94: MZA | J94: =L94+N94+P94+R94+T94+V94+X94+Z94+AB94+AD94+AF94+AH94+AJ94+AL94+AN94+AP94+AR94+AT94+AV94+AX94+AZ94+BB94+BD94 -> 45 | AM94: 4Z | AN94: 45
D95: 86 | E95: BALDERRAMA, AGUSTIN | G95: N | H95: 2011 | I95: SEN | J95: =L95+N95+P95+R95+T95+V95+X95+Z95+AB95+AD95+AF95+AH95+AJ95+AL95+AN95+AP95+AR95+AT95+AV95+AX95+AZ95+BB95+BD95 -> 45 | U95: 8F | V95: 45
D96: 87 | E96: LEZCANO, FANTINO | G96: N | H96: 2011 | I96: JUJ | J96: =L96+N96+P96+R96+T96+V96+X96+Z96+AB96+AD96+AF96+AH96+AJ96+AL96+AN96+AP96+AR96+AT96+AV96+AX96+AZ96+BB96+BD96 -> 45 | U96: 8F | V96: 45
D97: 88 | E97: CARDENAS JARA, FERNANDO JAVIER | H97: 2012 | I97: LIB | J97: =L97+N97+P97+R97+T97+V97+X97+Z97+AB97+AD97+AF97+AH97+AJ97+AL97+AN97+AP97+AR97+AT97+AV97+AX97+AZ97+BB97+BD97 -> 45 | BC97: SF B | BD97: 45
D98: 89 | E98: SIMIONATO, VALENTINO | H98: 2012 | I98: MZA | J98: =L98+N98+P98+R98+T98+V98+X98+Z98+AB98+AD98+AF98+AH98+AJ98+AL98+AN98+AP98+AR98+AT98+AV98+AX98+AZ98+BB98+BD98 -> 45 | AW98: 4Z | AX98: 45
D99: 90 | E99: BAHAMONDE, ALEXIS | H99: 2012 | I99: CHI | J99: =L99+N99+P99+R99+T99+V99+X99+Z99+AB99+AD99+AF99+AH99+AJ99+AL99+AN99+AP99+AR99+AT99+AV99+AX99+AZ99+BB99+BD99 -> 45 | AQ99: 8F | AR99: 45
D100: 91 | E100: BAHAMONDE, IGNACIO | H100: 2012 | I100: CHI | J100: =L100+N100+P100+R100+T100+V100+X100+Z100+AB100+AD100+AF100+AH100+AJ100+AL100+AN100+AP100+AR100+AT100+AV100+AX100+AZ100+BB100+BD100 -> 45 | AQ100: 8F | AR100: 45
D101: 92 | E101: BELTRAMI, BAUTISTA | H101: 2012 | I101: TDF | J101: =L101+N101+P101+R101+T101+V101+X101+Z101+AB101+AD101+AF101+AH101+AJ101+AL101+AN101+AP101+AR101+AT101+AV101+AX101+AZ101+BB101+BD101 -> 45 | AQ101: 8F | AR101: 45
D102: 93 | E102: MOYA, BENJAMIN | H102: 2012 | I102: TDF | J102: =L102+N102+P102+R102+T102+V102+X102+Z102+AB102+AD102+AF102+AH102+AJ102+AL102+AN102+AP102+AR102+AT102+AV102+AX102+AZ102+BB102+BD102 -> 45 | AQ102: 8F | AR102: 45
D103: 94 | E103: IBAÑEZ, MATHEO | H103: 2012 | I103: SCZ | J103: =L103+N103+P103+R103+T103+V103+X103+Z103+AB103+AD103+AF103+AH103+AJ103+AL103+AN103+AP103+AR103+AT103+AV103+AX103+AZ103+BB103+BD103 -> 45 | AQ103: 8F | AR103: 45
D104: 95 | E104: LAI, BRIAN | H104: 2012 | I104: FET | J104: =L104+N104+P104+R104+T104+V104+X104+Z104+AB104+AD104+AF104+AH104+AJ104+AL104+AN104+AP104+AR104+AT104+AV104+AX104+AZ104+BB104+BD104 -> 45 | AO104: 8F | AP104: 45
...

Sheet IC U17
E4: INDIVIDUAL CABALLEROS U17 | K4: RANKING NACIONAL | TEMPORADA 2026
K5: Grand Prix | M5: Challenger | O5: Regional Abierto | Q5: Challenger | S5: Regional Abierto | U5: Regional Abierto | W5: Regional Abierto | Y5: Regional Abierto | AA5: Regional Abierto | AC5: Regional Abierto | AE5: Regional Abierto | AG5: Challenger | AI5: Regional Abierto | AK5: Nacional | AM5: Regional Abierto | AO5: Regional Abierto | AQ5: Regional Abierto | AS5: Grand Prix | AU5: Regional Abierto | AW5: Regional Abierto | AY5: Regional Abierto | BA5: Challenger | BC5: Abierto de la Rep.
K6: ROSARIO | M6: CHAPADMALAL | O6: FETEMBA | Q6: SANT. DEL ESTERO | S6: MENDOZA | U6: SALTA | W6: TIERRA DEL FUEGO | Y6: FETEMBA | AA6: JUJUY | AC6: SANTA FE | AE6: MENDOZA | AG6: SALTA | AI6: NEUQUÉN | AK6: SANTA FE | AM6: MENDOZA | AO6: FETEMBA | AQ6: SANTA CRUZ | AS6: MENDOZA | AU6: FETEMBA | AW6: MENDOZA | AY6: RIO NEGRO | BA6: ROSARIO | BC6: BUENOS AIRES
K7: 7 A 9 FEB 2025 | M7: 2 A 4 MAR 2025 | O7: 29 Y 30 MAR 2025 | Q7: 11 A 13 ABR 2025 | S7: 26 Y 27 ABR 2025 | U7: 26 Y 27 ABR 2025 | W7: 04 MAY 2025 | Y7: 10 Y 11 MAY 2025 | AA7: 24 Y 25 MAY 2025 | AC7: 31 MAY Y 1 JUN 2025 | AE7: 7 Y 8 JUN 2025 | AG7: 14 A 16 JUN 2025 | AI7: 21 Y 22 JUN 2025 | AK7: 9 A 13 JUL 2025 | AM7: 9 Y 10 AGO 2025 | AO7: 15 AGO 2025 | AQ7: 15 A 17 AGO 2025 | AS7: 5 A 7 SEP 2025 | AU7: 27 Y 28 SEP 2025 | AW7: 4 Y 5 OCT 2025 | AY7: 11 Y 12 OCT 2025 | BA7: 17 A 19 OCT 2025 | BC7: 21 A 24 NOV 2025
D8: POS. | E8: ATLETA | F8: DNI | G8: Fecha de Nacimiento | H8: CAT. | I8: ASOC. | J8: TOTAL | K8: Pos. | L8: Ptos. | M8: Pos. | N8: Ptos. | O8: Pos. | P8: Ptos. | Q8: Pos. | R8: Ptos. | S8: Pos. | T8: Ptos. | U8: Pos. | V8: Ptos. | W8: Pos. | X8: Ptos. | Y8: Pos. | Z8: Ptos. | AA8: Pos. | AB8: Ptos. | AC8: Pos. | AD8: Ptos. | AE8: Pos. | AF8: Ptos. | AG8: Pos. | AH8: Ptos. | AI8: Pos. | AJ8: Ptos. | AK8: Pos. | AL8: Ptos. | AM8: Pos. | AN8: Ptos. | AO8: Pos. | AP8: Ptos. | AQ8: Pos. | AR8: Ptos. | AS8: Pos. | AT8: Ptos. | AU8: Pos. | AV8: Ptos. | AW8: Pos. | AX8: Ptos. | AY8: Pos. | AZ8: Ptos. | BA8: Pos. | BB8: Ptos. | BC8: Pos. | BD8: Ptos.
D10: 1 | E10: NAKAGAMA, ALAN JUN | H10: 2010 | I10: FET | J10: =L10+N10+P10+R10+T10+V10+X10+Z10+AB10+AD10+AF10+AH10+AJ10+AL10+AN10+AP10+AR10+AT10+AV10+AX10+AZ10+BB10+BD10 -> 1400.255 | K10: SF | L10: 0.21 | O10: 4F | P10: 55 | Q10: 2 | R10: 180 | Y10: 8F | Z10: 0.045 | AK10: SF | AL10: 315 | AO10: SF | AP10: 70 | AS10: SF | AT10: 210 | AU10: 4F | AV10: 55 | BA10: 4F | BB10: 110 | BC10: 2 | BD10: 405
D11: 2 | E11: NOTTURNO, NICOLAS | H11: 2010 | I11: FET | J11: =L11+N11+P11+R11+T11+V11+X11+Z11+AB11+AD11+AF11+AH11+AJ11+AL11+AN11+AP11+AR11+AT11+AV11+AX11+AZ11+BB11+BD11 -> 1230.32 | K11: SF | L11: 210 | M11: 4F | N11: 0.11 | O11: 2 | P11: 90 | Y11: 8F | Z11: 0.045 | AG11: 1 | AH11: 220 | AK11: 2 | AL11: 405 | AO11: 4F | AP11: 55 | AS11: 4F | AT11: 0.165 | AU11: SF | AV11: 70 | BA11: 2 | BB11: 180
D12: 3 | E12: DOMINGUEZ, AGUSTIN | H12: 2009 | I12: MZA | J12: =L12+N12+P12+R12+T12+V12+X12+Z12+AB12+AD12+AF12+AH12+AJ12+AL12+AN12+AP12+AR12+AT12+AV12+AX12+AZ12+BB12+BD12 -> 1085.165 | K12: 4F | L12: 0.165 | S12: 2 | T12: 90 | Y12: SF | Z12: 70 | AK12: 8F | AL12: 205 | AS12: 1 | AT12: 330 | BA12: SF | BB12: 140 | BC12: 4F | BD12: 250
D13: 4 | E13: LEHNER, FACUNDO | H13: 2010 | I13: CBA | J13: =L13+N13+P13+R13+T13+V13+X13+Z13+AB13+AD13+AF13+AH13+AJ13+AL13+AN13+AP13+AR13+AT13+AV13+AX13+AZ13+BB13+BD13 -> 1020 | O13: 4F | P13: 55 | Y13: 8F | Z13: 45 | AG13: 2 | AH13: 180 | AS13: 8F | AT13: 135 | BA13: 4F | BB13: 110 | BC13: 1 | BD13: 495
D14: 5 | E14: AGÜERO, RENZO | H14: 2009 | I14: MZA | J14: =L14+N14+P14+R14+T14+V14+X14+Z14+AB14+AD14+AF14+AH14+AJ14+AL14+AN14+AP14+AR14+AT14+AV14+AX14+AZ14+BB14+BD14 -> 1005.165 | K14: 4F | L14: 0.165 | S14: 1 | T14: 110 | Y14: 4F | Z14: 55 | AK14: 8F | AL14: 205 | AS14: SF | AT14: 210 | BA14: 4F | BB14: 110 | BC14: SF | BD14: 315
D15: 6 | E15: AXON, JUAN CRUZ | H15: 2011 | I15: CHA | J15: =L15+N15+P15+R15+T15+V15+X15+Z15+AB15+AD15+AF15+AH15+AJ15+AL15+AN15+AP15+AR15+AT15+AV15+AX15+AZ15+BB15+BD15 -> 915 | AG15: SF | AH15: 140 | AK15: 4F | AL15: 250 | AU15: 4F | AV15: 55 | BA15: 1 | BB15: 220 | BC15: 4F | BD15: 250
D16: 7 | E16: LA VIA, GIULIANO ADRIEL | H16: 2009 | I16: SLU | J16: =L16+N16+P16+R16+T16+V16+X16+Z16+AB16+AD16+AF16+AH16+AJ16+AL16+AN16+AP16+AR16+AT16+AV16+AX16+AZ16+BB16+BD16 -> 785 | M16: 2 | N16: 180 | AK16: 1 | AL16: 495 | AO16: 1 | AP16: 110
D17: 8 | E17: USLENGHI, SANTIAGO | H17: 2010 | I17: FET | J17: =L17+N17+P17+R17+T17+V17+X17+Z17+AB17+AD17+AF17+AH17+AJ17+AL17+AN17+AP17+AR17+AT17+AV17+AX17+AZ17+BB17+BD17 -> 770 | AG17: SF | AH17: 140 | AK17: 16F | AL17: 160 | AO17: 8F | AP17: 45 | AS17: 4F | AT17: 165 | AU17: 4F | AV17: 55 | BC17: 8F | BD17: 205
D18: 9 | E18: SATO, LEONARDO EZEQUIEL | H18: 2011 | I18: FET | J18: =L18+N18+P18+R18+T18+V18+X18+Z18+AB18+AD18+AF18+AH18+AJ18+AL18+AN18+AP18+AR18+AT18+AV18+AX18+AZ18+BB18+BD18 -> 725 | AK18: SF | AL18: 315 | AS18: 8F | AT18: 135 | BA18: 3Z | BB18: 70 | BC18: 8F | BD18: 205
D19: 10 | E19: GUEVARA FIGUEROA, BALTAZAR | H19: 2009 | I19: FET | J19: =L19+N19+P19+R19+T19+V19+X19+Z19+AB19+AD19+AF19+AH19+AJ19+AL19+AN19+AP19+AR19+AT19+AV19+AX19+AZ19+BB19+BD19 -> 695.3 | K19: 8F | L19: 135 | M19: 3Z | N19: 0.07 | O19: 1B | P19: 0.035 | Q19: 4F | R19: 110 | Y19: 8F | Z19: 45 | AG19: 4F | AH19: 110 | AO19: 8F | AP19: 45 | AS19: 16F | AT19: 0.105 | AU19: 8F | AV19: 45 | BA19: 8F | BB19: 0.09 | BC19: 8F | BD19: 205
D20: 11 | E20: GUARDIA, SANTIAGO ROMAN | H20: 2009 | I20: SAL | J20: =L20+N20+P20+R20+T20+V20+X20+Z20+AB20+AD20+AF20+AH20+AJ20+AL20+AN20+AP20+AR20+AT20+AV20+AX20+AZ20+BB20+BD20 -> 660.105 | K20: 8F | L20: 135 | Q20: 8F | R20: 90 | U20: 4F | V20: 55 | AA20: 1 | AB20: 110 | AG20: 4F | AH20: 110 | AS20: 16F | AT20: 0.105 | BC20: 16F | BD20: 160
D21: 12 | E21: VILDOZA, MATEO | H21: 2010 | I21: FET | J21: =L21+N21+P21+R21+T21+V21+X21+Z21+AB21+AD21+AF21+AH21+AJ21+AL21+AN21+AP21+AR21+AT21+AV21+AX21+AZ21+BB21+BD21 -> 650 | K21: 8F | L21: 135 | AK21: 8F | AL21: 205 | AO21: 1B | AP21: 35 | AU21: 8F | AV21: 45 | BA21: 3Z | BB21: 70 | BC21: 16F | BD21: 160
D22: 13 | E22: ROSSI VERA, SANTINO | H22: 2010 | I22: FET | J22: =L22+N22+P22+R22+T22+V22+X22+Z22+AB22+AD22+AF22+AH22+AJ22+AL22+AN22+AP22+AR22+AT22+AV22+AX22+AZ22+BB22+BD22 -> 635 | K22: 2 | L22: 270 | O22: SF | P22: 70 | Y22: 8F | Z22: 45 | AK22: 4F | AL22: 250
D23: 14 | E23: SARACCO, JULIAN | H23: 2010 | I23: SEN | J23: =L23+N23+P23+R23+T23+V23+X23+Z23+AB23+AD23+AF23+AH23+AJ23+AL23+AN23+AP23+AR23+AT23+AV23+AX23+AZ23+BB23+BD23 -> 635 | Q23: 4F | R23: 110 | U23: 2 | V23: 90 | AA23: SF | AB23: 70 | AG23: 3Z | AH23: 90 | AK23: 3Z | AL23: 115 | BC23: 16F | BD23: 160
D24: 15 | E24: INFANTE HESHIKI, ALEJO | H24: 2010 | I24: SAL | J24: =L24+N24+P24+R24+T24+V24+X24+Z24+AB24+AD24+AF24+AH24+AJ24+AL24+AN24+AP24+AR24+AT24+AV24+AX24+AZ24+BB24+BD24 -> 550 | Q24: 4F | R24: 110 | U24: SF | V24: 70 | AA24: 4F | AB24: 55 | AG24: 4F | AH24: 110 | BC24: 8F | BD24: 205
D25: 16 | E25: GOMEZ, FAUSTO | H25: 2010 | I25: FBA | J25: =L25+N25+P25+R25+T25+V25+X25+Z25+AB25+AD25+AF25+AH25+AJ25+AL25+AN25+AP25+AR25+AT25+AV25+AX25+AZ25+BB25+BD25 -> 545 | K25: 8F | L25: 135 | M25: 8F | N25: 90 | AK25: 16F | AL25: 160 | BC25: 16F | BD25: 160
D26: 17 | E26: OCAMPO, BRAIAN | H26: 2011 | I26: SAL | J26: =L26+N26+P26+R26+T26+V26+X26+Z26+AB26+AD26+AF26+AH26+AJ26+AL26+AN26+AP26+AR26+AT26+AV26+AX26+AZ26+BB26+BD26 -> 500 | Q26: SF | R26: 140 | U26: 1B | V26: 35 | AA26: 4F | AB26: 55 | AG26: 4F | AH26: 110 | AK26: 16F | AL26: 160
D27: 18 | E27: CARO RUIZ, BENJAMIN | H27: 2009 | I27: FET | J27: =L27+N27+P27+R27+T27+V27+X27+Z27+AB27+AD27+AF27+AH27+AJ27+AL27+AN27+AP27+AR27+AT27+AV27+AX27+AZ27+BB27+BD27 -> 475.105 | K27: 3Z | L27: 0.105 | O27: SF B | P27: 20 | AO27: 8F | AP27: 45 | AS27: 8F | AT27: 135 | AU27: 8F | AV27: 45 | BA27: 3Z | BB27: 70 | BC27: 16F | BD27: 160
D28: 19 | E28: RECUPERO, BENICIO | H28: 2010 | I28: JUJ | J28: =L28+N28+P28+R28+T28+V28+X28+Z28+AB28+AD28+AF28+AH28+AJ28+AL28+AN28+AP28+AR28+AT28+AV28+AX28+AZ28+BB28+BD28 -> 455 | AK28: 16F | AL28: 160 | AS28: 8F | AT28: 135 | BC28: 16F | BD28: 160
D29: 20 | E29: MARTINEZ, TOBIAS | H29: 2010 | I29: SLU | J29: =L29+N29+P29+R29+T29+V29+X29+Z29+AB29+AD29+AF29+AH29+AJ29+AL29+AN29+AP29+AR29+AT29+AV29+AX29+AZ29+BB29+BD29 -> 437.61625 | K29: Prom. | L29: 0.11625 | M29: Prom. | N29: 77.5 | AO29: 2 | AP29: 90 | AS29: 2 | AT29: 270
D30: 21 | E30: MALDONADO, ROMEO | H30: 2009 | I30: FET | J30: =L30+N30+P30+R30+T30+V30+X30+Z30+AB30+AD30+AF30+AH30+AJ30+AL30+AN30+AP30+AR30+AT30+AV30+AX30+AZ30+BB30+BD30 -> 430.12 | K30: 8F | L30: 135 | O30: 8F | P30: 0.045 | Y30: 8F | Z30: 45 | AO30: 8F | AP30: 45 | AS30: 3Z | AT30: 0.075 | AU30: 8F | AV30: 45 | BC30: 16F | BD30: 160
D31: 22 | E31: MOLINA, JUAN MARTIN | H31: 2010 | I31: FET | J31: =L31+N31+P31+R31+T31+V31+X31+Z31+AB31+AD31+AF31+AH31+AJ31+AL31+AN31+AP31+AR31+AT31+AV31+AX31+AZ31+BB31+BD31 -> 405 | AO31: 8F | AP31: 45 | AU31: 1 | AV31: 110 | BC31: 4F | BD31: 250
D32: 23 | E32: APPIANI, LUCAS | H32: 2011 | I32: SFE | J32: =L32+N32+P32+R32+T32+V32+X32+Z32+AB32+AD32+AF32+AH32+AJ32+AL32+AN32+AP32+AR32+AT32+AV32+AX32+AZ32+BB32+BD32 -> 390.105 | K32: 3Z | L32: 0.105 | M32: 3Z | N32: 70 | AK32: 4Z | AL32: 115 | AS32: 8F | AT32: 135 | BA32: 3Z | BB32: 70
D33: 24 | E33: GASS, JULIAN | H33: 2009 | I33: FET | J33: =L33+N33+P33+R33+T33+V33+X33+Z33+AB33+AD33+AF33+AH33+AJ33+AL33+AN33+AP33+AR33+AT33+AV33+AX33+AZ33+BB33+BD33 -> 390 | Y33: SF B | Z33: 15 | AO33: 8F | AP33: 45 | AS33: 8F | AT33: 135 | AU33: 1B | AV33: 35 | BC33: 16F | BD33: 160
D34: 25 | E34: URFEIG, FRANCISCO | H34: 2012 | I34: FET | J34: =L34+N34+P34+R34+T34+V34+X34+Z34+AB34+AD34+AF34+AH34+AJ34+AL34+AN34+AP34+AR34+AT34+AV34+AX34+AZ34+BB34+BD34 -> 380 | AS34: 16F | AT34: 105 | BA34: 3Z | BB34: 70 | BC34: 8F | BD34: 205
D35: 26 | E35: PEDERNERA, LORENZO | H35: 2011 | I35: MZA | J35: =L35+N35+P35+R35+T35+V35+X35+Z35+AB35+AD35+AF35+AH35+AJ35+AL35+AN35+AP35+AR35+AT35+AV35+AX35+AZ35+BB35+BD35 -> 370.135 | K35: 8F | L35: 0.135 | AK35: 8F | AL35: 205 | AS35: 4F | AT35: 165
D36: 27 | E36: MOLINA ALVAREZ, AGUSTIN NICOLAS | H36: 2009 | I36: SEN | J36: =L36+N36+P36+R36+T36+V36+X36+Z36+AB36+AD36+AF36+AH36+AJ36+AL36+AN36+AP36+AR36+AT36+AV36+AX36+AZ36+BB36+BD36 -> 340 | Q36: 3Z | R36: 70 | U36: SF B | V36: 20 | AG36: 3Z | AH36: 90 | AK36: 16F | AL36: 160
D37: 28 | E37: SERRA, IGNACIO | H37: 2010 | I37: RNG | J37: =L37+N37+P37+R37+T37+V37+X37+Z37+AB37+AD37+AF37+AH37+AJ37+AL37+AN37+AP37+AR37+AT37+AV37+AX37+AZ37+BB37+BD37 -> 335 | AK37: 8F | AL37: 205 | AO37: 4F | AP37: 55 | AS37: 3Z | AT37: 75
D38: 29 | E38: KHAZANDJIAN, LUCIANO | H38: 2009 | I38: FET | J38: =L38+N38+P38+R38+T38+V38+X38+Z38+AB38+AD38+AF38+AH38+AJ38+AL38+AN38+AP38+AR38+AT38+AV38+AX38+AZ38+BB38+BD38 -> 305 | Y38: 16F | Z38: 35 | AK38: 16F | AL38: 160 | AO38: 4F | AP38: 55 | AU38: 4F | AV38: 55
D39: 30 | E39: MENEGAZZO, THIAGO | H39: 2011 | I39: MZA | J39: =L39+N39+P39+R39+T39+V39+X39+Z39+AB39+AD39+AF39+AH39+AJ39+AL39+AN39+AP39+AR39+AT39+AV39+AX39+AZ39+BB39+BD39 -> 275.105 | K39: 3Z | L39: 0.105 | S39: 4 | T39: 55 | AK39: 3Z | AL39: 115 | AS39: 16F | AT39: 105
D40: 31 | E40: KOZICKI, THEO | H40: 2009 | I40: FET | J40: =L40+N40+P40+R40+T40+V40+X40+Z40+AB40+AD40+AF40+AH40+AJ40+AL40+AN40+AP40+AR40+AT40+AV40+AX40+AZ40+BB40+BD40 -> 275 | M40: 8F | N40: 90 | Y40: 2B | Z40: 20 | AO40: 8F | AP40: 45 | AS40: 3Z | AT40: 75 | AU40: 8F | AV40: 45
D41: 32 | E41: NIZETICH TRIPODI, LAUTARO | H41: 2010 | I41: FET | J41: =L41+N41+P41+R41+T41+V41+X41+Z41+AB41+AD41+AF41+AH41+AJ41+AL41+AN41+AP41+AR41+AT41+AV41+AX41+AZ41+BB41+BD41 -> 250 | AK41: 4F | AL41: 250
D42: 33 | E42: CARRANZA, MATEO | H42: 2010 | I42: FET | J42: =L42+N42+P42+R42+T42+V42+X42+Z42+AB42+AD42+AF42+AH42+AJ42+AL42+AN42+AP42+AR42+AT42+AV42+AX42+AZ42+BB42+BD42 -> 250 | AO42: SF | AP42: 70 | AU42: SF | AV42: 70 | BA42: 4F | BB42: 110
D43: 34 | E43: CERICOLA, DANTE | H43: 2009 | I43: FET | J43: =L43+N43+P43+R43+T43+V43+X43+Z43+AB43+AD43+AF43+AH43+AJ43+AL43+AN43+AP43+AR43+AT43+AV43+AX43+AZ43+BB43+BD43 -> 245 | K43: 8F | L43: 135 | M43: 4F | N43: 110
D44: 35 | E44: ALARCON PORTELA, IGNACIO | H44: 2009 | I44: COR | J44: =L44+N44+P44+R44+T44+V44+X44+Z44+AB44+AD44+AF44+AH44+AJ44+AL44+AN44+AP44+AR44+AT44+AV44+AX44+AZ44+BB44+BD44 -> 230 | AK44: 3Z | AL44: 115 | BC44: 32F | BD44: 115
D45: 36 | E45: COSTA, FELIPE | H45: 2009 | I45: FBA | J45: =L45+N45+P45+R45+T45+V45+X45+Z45+AB45+AD45+AF45+AH45+AJ45+AL45+AN45+AP45+AR45+AT45+AV45+AX45+AZ45+BB45+BD45 -> 230 | M45: 3Z | N45: 70 | BC45: 16F | BD45: 160
D46: 37 | E46: BENITEZ, TIAGO | H46: 2009 | I46: CBA | J46: =L46+N46+P46+R46+T46+V46+X46+Z46+AB46+AD46+AF46+AH46+AJ46+AL46+AN46+AP46+AR46+AT46+AV46+AX46+AZ46+BB46+BD46 -> 220 | K46: 3Z | L46: 105 | AK46: 3Z | AL46: 115
D47: 38 | E47: MARCIAL, LUCA | H47: 2013 | I47: FET | J47: =L47+N47+P47+R47+T47+V47+X47+Z47+AB47+AD47+AF47+AH47+AJ47+AL47+AN47+AP47+AR47+AT47+AV47+AX47+AZ47+BB47+BD47 -> 217.5 | AO47: 4F | AP47: 55 | AU47: 2 | AV47: 90 | BA47: Prom. | BB47: 72.5
D48: 39 | E48: DIAZ, LEANDRO | H48: 2009 | I48: URU | J48: =L48+N48+P48+R48+T48+V48+X48+Z48+AB48+AD48+AF48+AH48+AJ48+AL48+AN48+AP48+AR48+AT48+AV48+AX48+AZ48+BB48+BD48 -> 205 | BC48: 8F | BD48: 205
D49: 40 | E49: BENITEZ, EMANUEL JULIAN | H49: 2011 | I49: JUJ | J49: =L49+N49+P49+R49+T49+V49+X49+Z49+AB49+AD49+AF49+AH49+AJ49+AL49+AN49+AP49+AR49+AT49+AV49+AX49+AZ49+BB49+BD49 -> 205 | AK49: 8F | AL49: 205
D50: 41 | E50: AGUIRRE, MAXIMO | H50: 2011 | I50: JUJ | J50: =L50+N50+P50+R50+T50+V50+X50+Z50+AB50+AD50+AF50+AH50+AJ50+AL50+AN50+AP50+AR50+AT50+AV50+AX50+AZ50+BB50+BD50 -> 205 | AA50: 2 | AB50: 90 | BC50: 32F | BD50: 115
D51: 42 | E51: MASSARE, DANTE | H51: 2012 | I51: FET | J51: =L51+N51+P51+R51+T51+V51+X51+Z51+AB51+AD51+AF51+AH51+AJ51+AL51+AN51+AP51+AR51+AT51+AV51+AX51+AZ51+BB51+BD51 -> 205 | BC51: 8F | BD51: 205
D52: 43 | E52: PINI AHMID, VALENTINO | H52: 2009 | I52: JUJ | J52: =L52+N52+P52+R52+T52+V52+X52+Z52+AB52+AD52+AF52+AH52+AJ52+AL52+AN52+AP52+AR52+AT52+AV52+AX52+AZ52+BB52+BD52 -> 200 | Q52: 8F | R52: 90 | U52: 4F | V52: 55 | AA52: 4F | AB52: 55
D53: 44 | E53: RODRIGUEZ BATTILANA, ALFONSO | H53: 2011 | I53: SAL | J53: =L53+N53+P53+R53+T53+V53+X53+Z53+AB53+AD53+AF53+AH53+AJ53+AL53+AN53+AP53+AR53+AT53+AV53+AX53+AZ53+BB53+BD53 -> 195 | U53: 8F | V53: 45 | AA53: 1B | AB53: 35 | AK53: 3Z | AL53: 115
D54: 45 | E54: ASMU, AGUSTIN | H54: 2009 | I54: ERI | J54: =L54+N54+P54+R54+T54+V54+X54+Z54+AB54+AD54+AF54+AH54+AJ54+AL54+AN54+AP54+AR54+AT54+AV54+AX54+AZ54+BB54+BD54 -> 192.5 | Y54: 1 | Z54: 110 | AS54: Prom. | AT54: 82.5
D55: 46 | E55: BOSATTA, FAUSTO | H55: 2011 | I55: FBA | J55: =L55+N55+P55+R55+T55+V55+X55+Z55+AB55+AD55+AF55+AH55+AJ55+AL55+AN55+AP55+AR55+AT55+AV55+AX55+AZ55+BB55+BD55 -> 185 | M55: 4Z | N55: 70 | AK55: 3Z | AL55: 115
D56: 47 | E56: DYJAMENT, TADEO | H56: 2010 | I56: FET | J56: =L56+N56+P56+R56+T56+V56+X56+Z56+AB56+AD56+AF56+AH56+AJ56+AL56+AN56+AP56+AR56+AT56+AV56+AX56+AZ56+BB56+BD56 -> 180 | AO56: SF B | AP56: 20 | BC56: 16F | BD56: 160
D57: 48 | E57: BIANCHINI, IGNACIO | H57: 2009 | I57: FBA | J57: =L57+N57+P57+R57+T57+V57+X57+Z57+AB57+AD57+AF57+AH57+AJ57+AL57+AN57+AP57+AR57+AT57+AV57+AX57+AZ57+BB57+BD57 -> 175 | M57: SF | N57: 140 | Y57: 16F | Z57: 35
D58: 49 | E58: BAIUD, JUAN FRANCISCO | H58: 2009 | I58: JUJ | J58: =L58+N58+P58+R58+T58+V58+X58+Z58+AB58+AD58+AF58+AH58+AJ58+AL58+AN58+AP58+AR58+AT58+AV58+AX58+AZ58+BB58+BD58 -> 170 | Q58: 3Z | R58: 70 | U58: 8F | V58: 45 | AA58: 4F | AB58: 55
D59: 50 | E59: FERREYRA, BENJAMIN | H59: 2010 | I59: CBA | J59: =L59+N59+P59+R59+T59+V59+X59+Z59+AB59+AD59+AF59+AH59+AJ59+AL59+AN59+AP59+AR59+AT59+AV59+AX59+AZ59+BB59+BD59 -> 160 | AK59: 16F | AL59: 160
D60: 51 | E60: DIAZ ORIETA, FRANCO GABRIEL | H60: 2011 | I60: SEN | J60: =L60+N60+P60+R60+T60+V60+X60+Z60+AB60+AD60+AF60+AH60+AJ60+AL60+AN60+AP60+AR60+AT60+AV60+AX60+AZ60+BB60+BD60 -> 160 | Q60: 4Z | R60: 70 | AG60: 3Z | AH60: 90
D61: 52 | E61: BURGOS, ERIK | H61: 2009 | I61: SCZ | J61: =L61+N61+P61+R61+T61+V61+X61+Z61+AB61+AD61+AF61+AH61+AJ61+AL61+AN61+AP61+AR61+AT61+AV61+AX61+AZ61+BB61+BD61 -> 145 | W61: 2 | X61: 90 | AQ61: 4F | AR61: 55
D62: 53 | E62: POPOVSKY, ANDRES | H62: 2010 | I62: FET | J62: =L62+N62+P62+R62+T62+V62+X62+Z62+AB62+AD62+AF62+AH62+AJ62+AL62+AN62+AP62+AR62+AT62+AV62+AX62+AZ62+BB62+BD62 -> 135 | AU62: SF B | AV62: 20 | BC62: 32F | BD62: 115
D63: 54 | E63: MARAGNA, GASTON | H63: 2011 | I63: MZA | J63: =L63+N63+P63+R63+T63+V63+X63+Z63+AB63+AD63+AF63+AH63+AJ63+AL63+AN63+AP63+AR63+AT63+AV63+AX63+AZ63+BB63+BD63 -> 135 | AS63: 8F | AT63: 135
D64: 55 | E64: SPINELLI, THIAGO | H64: 2012 | I64: FET | J64: =L64+N64+P64+R64+T64+V64+X64+Z64+AB64+AD64+AF64+AH64+AJ64+AL64+AN64+AP64+AR64+AT64+AV64+AX64+AZ64+BB64+BD64 -> 135 | AS64: 8F | AT64: 135
D65: 56 | E65: HERNANDEZ, LAUTARO | H65: 2010 | I65: TDF | J65: =L65+N65+P65+R65+T65+V65+X65+Z65+AB65+AD65+AF65+AH65+AJ65+AL65+AN65+AP65+AR65+AT65+AV65+AX65+AZ65+BB65+BD65 -> 125 | W65: 3Z | X65: 55 | AQ65: SF | AR65: 70
D66: 57 | E66: SORIA, DIEGO | H66: 2011 | I66: TDF | J66: =L66+N66+P66+R66+T66+V66+X66+Z66+AB66+AD66+AF66+AH66+AJ66+AL66+AN66+AP66+AR66+AT66+AV66+AX66+AZ66+BB66+BD66 -> 125 | W66: SF | X66: 70 | AQ66: 4F | AR66: 55
D67: 58 | E67: BUK, MANUEL | H67: 2009 | I67: FET | J67: =L67+N67+P67+R67+T67+V67+X67+Z67+AB67+AD67+AF67+AH67+AJ67+AL67+AN67+AP67+AR67+AT67+AV67+AX67+AZ67+BB67+BD67 -> 120 | O67: SF B | P67: 20 | AO67: 2B | AP67: 25 | AS67: 3Z | AT67: 75
D68: 59 | E68: JUAREZ, JOAQUIN | H68: 2009 | I68: FBA | J68: =L68+N68+P68+R68+T68+V68+X68+Z68+AB68+AD68+AF68+AH68+AJ68+AL68+AN68+AP68+AR68+AT68+AV68+AX68+AZ68+BB68+BD68 -> 115 | BC68: 32F | BD68: 115
D69: 60 | E69: BRITEZ, NAHUEL | H69: 2009 | I69: FBA | J69: =L69+N69+P69+R69+T69+V69+X69+Z69+AB69+AD69+AF69+AH69+AJ69+AL69+AN69+AP69+AR69+AT69+AV69+AX69+AZ69+BB69+BD69 -> 115 | BC69: 32F | BD69: 115
D70: 61 | E70: ALLEGRINI, ANGEL TIZIANO | H70: 2009 | I70: ERI | J70: =L70+N70+P70+R70+T70+V70+X70+Z70+AB70+AD70+AF70+AH70+AJ70+AL70+AN70+AP70+AR70+AT70+AV70+AX70+AZ70+BB70+BD70 -> 115 | AK70: 3Z | AL70: 115
D71: 62 | E71: CARRIZO, FABIAN NICOLAS | H71: 2009 | I71: SEN | J71: =L71+N71+P71+R71+T71+V71+X71+Z71+AB71+AD71+AF71+AH71+AJ71+AL71+AN71+AP71+AR71+AT71+AV71+AX71+AZ71+BB71+BD71 -> 115 | Q71: 3Z | R71: 70 | U71: 8F | V71: 45
D72: 63 | E72: ESPINOLA, EZEQUIEL | H72: 2010 | I72: MIS | J72: =L72+N72+P72+R72+T72+V72+X72+Z72+AB72+AD72+AF72+AH72+AJ72+AL72+AN72+AP72+AR72+AT72+AV72+AX72+AZ72+BB72+BD72 -> 115 | BC72: 32F | BD72: 115
D73: 64 | E73: FONTANA, FRANCO | H73: 2010 | I73: CBA | J73: =L73+N73+P73+R73+T73+V73+X73+Z73+AB73+AD73+AF73+AH73+AJ73+AL73+AN73+AP73+AR73+AT73+AV73+AX73+AZ73+BB73+BD73 -> 115 | AK73: 3Z | AL73: 115
D74: 65 | E74: ESPARZA CADIN, DIEGO NICOLAS | H74: 2010 | I74: SCZ | J74: =L74+N74+P74+R74+T74+V74+X74+Z74+AB74+AD74+AF74+AH74+AJ74+AL74+AN74+AP74+AR74+AT74+AV74+AX74+AZ74+BB74+BD74 -> 115 | BC74: 32F | BD74: 115
D75: 66 | E75: ARAMAYO, MARIANO | H75: 2010 | I75: JUJ | J75: =L75+N75+P75+R75+T75+V75+X75+Z75+AB75+AD75+AF75+AH75+AJ75+AL75+AN75+AP75+AR75+AT75+AV75+AX75+AZ75+BB75+BD75 -> 115 | Q75: 3Z | R75: 70 | AA75: 8F | AB75: 45
D76: 67 | E76: SCHPISI SALDAÑA, SANTINO | H76: 2011 | I76: RNG | J76: =L76+N76+P76+R76+T76+V76+X76+Z76+AB76+AD76+AF76+AH76+AJ76+AL76+AN76+AP76+AR76+AT76+AV76+AX76+AZ76+BB76+BD76 -> 115 | BC76: 32F | BD76: 115
D77: 68 | E77: AGUILAR, LUCAS BENJAMIN | H77: 2011 | I77: SCZ | J77: =L77+N77+P77+R77+T77+V77+X77+Z77+AB77+AD77+AF77+AH77+AJ77+AL77+AN77+AP77+AR77+AT77+AV77+AX77+AZ77+BB77+BD77 -> 115 | BC77: 32F | BD77: 115
D78: 69 | E78: OJEDA BARRIA, SEBASTIAN | H78: 2011 | I78: LIB | J78: =L78+N78+P78+R78+T78+V78+X78+Z78+AB78+AD78+AF78+AH78+AJ78+AL78+AN78+AP78+AR78+AT78+AV78+AX78+AZ78+BB78+BD78 -> 115 | BC78: 32F | BD78: 115
D79: 70 | E79: RUSSO, SHAIR ASAEL | H79: 2011 | I79: LIB | J79: =L79+N79+P79+R79+T79+V79+X79+Z79+AB79+AD79+AF79+AH79+AJ79+AL79+AN79+AP79+AR79+AT79+AV79+AX79+AZ79+BB79+BD79 -> 115 | BC79: 32F | BD79: 115
D80: 71 | E80: QUEIROZ, PEDRO | H80: 2011 | I80: URU | J80: =L80+N80+P80+R80+T80+V80+X80+Z80+AB80+AD80+AF80+AH80+AJ80+AL80+AN80+AP80+AR80+AT80+AV80+AX80+AZ80+BB80+BD80 -> 115 | BC80: 32F | BD80: 115
